Workbook

Sheet Fatores Condicionantes da DLSP
A1: Evolução da dívida líquida - fatores condicionantes - Setor público consolidado
A2: Fluxos mensais
O4: R$ milhões | AA4: R$ milhões | AM4: R$ milhões | AY4: R$ milhões | BK4: R$ milhões | BW4: R$ milhões | CI4: R$ milhões | CU4: R$ milhões | DG4: R$ milhões | DS4: R$ milhões | EE4: R$ milhões | EQ4: R$ milhões | FC4: R$ milhões | FO4: R$ milhões | GA4: R$ milhões | GG4: R$ milhões | GM4: R$ milhões | GU4: R$ milhões
A5: Discriminação | C5: 2001 | D5: 2002 | P5: 2003 | AB5: 2004 | AN5: 2005 | AZ5: 2006 | BL5: 2007 | BX5: 2008 | CJ5: 2009 | CV5: 2010 | DH5: 2011 | DT5: 2012 | EF5: 2013 | ER5: 2014 | FD5: 2015 | FP5: 2016 | FV5: 2016 | GB5: 2017 | GH5: 2017 | GN5: 2018
C7: Dezembro | D7: Janeiro | E7: Fevereiro | F7: Março | G7: Abril | H7: Maio | I7: Junho | J7: Julho | K7: Agosto | L7: Setembro | M7: Outubro | N7: Novembro | O7: Dezembro | P7: Janeiro | Q7: Fevereiro | R7: Março | S7: Abril | T7: Maio | U7: Junho | V7: Julho | W7: Agosto | X7: Setembro | Y7: Outubro | Z7: Novembro | AA7: Dezembro | AB7: Janeiro | AC7: Fevereiro | AD7: Março | AE7: Abril | AF7: Maio | AG7: Junho | AH7: Julho | AI7: Agosto | AJ7: Setembro | AK7: Outubro | AL7: Novembro | AM7: Dezembro | AN7: Janeiro | AO7: Fevereiro | AP7: Março | AQ7: Abril | AR7: Maio | AS7: Junho | AT7: Julho | AU7: Agosto | AV7: Setembro | AW7: Outubro | AX7: Novembro | AY7: Dezembro | AZ7: Janeiro | BA7: Fevereiro | BB7: Março | BC7: Abril | BD7: Maio | BE7: Junho | BF7: Julho | BG7: Agosto | BH7: Setembro | BI7: Outubro | BJ7: Novembro | BK7: Dezembro | BL7: Janeiro | BM7: Fevereiro | BN7: Março | BO7: Abril | BP7: Maio | BQ7: Junho | BR7: Julho | BS7: Agosto | BT7: Setembro | BU7: Outubro | BV7: Novembro | BW7: Dezembro | BX7: Janeiro | BY7: Fevereiro | BZ7: Março | CA7: Abril | CB7: Maio | CC7: Junho | CD7: Julho | CE7: Agosto | CF7: Setembro | CG7: Outubro | CH7: Novembro | CI7: Dezembro | CJ7: Janeiro | CK7: Fevereiro | CL7: Março | CM7: Abril | CN7: Maio | CO7: Junho | CP7: Julho | CQ7: Agosto | CR7: Setembro | CS7: Outubro | CT7: Novembro | CU7: Dezembro | CV7: Janeiro | CW7: Fevereiro | CX7: Março | CY7: Abril | CZ7: Maio | DA7: Junho | DB7: Julho | DC7: Agosto | DD7: Setembro | DE7: Outubro | DF7: Novembro | DG7: Dezembro | DH7: Janeiro | DI7: Fevereiro | DJ7: Março | DK7: Abril | DL7: Maio | DM7: Junho | DN7: Julho | DO7: Agosto | DP7: Setembro | DQ7: Outubro | DR7: Novembro | DS7: Dezembro | DT7: Janeiro | DU7: Fevereiro | DV7: Março | DW7: Abril | DX7: Maio | DY7: Junho | DZ7: Julho | EA7: Agosto | EB7: Setembro | EC7: Outubro | ED7: Novembro | EE7: Dezembro | EF7: Janeiro | EG7: Fevereiro | EH7: Março | EI7: Abril | EJ7: Maio | EK7: Junho | EL7: Julho | EM7: Agosto | EN7: Setembro | EO7: Outubro | EP7: Novembro | EQ7: Dezembro | ER7: Janeiro | ES7: Fevereiro | ET7: Março | EU7: Abril | EV7: Maio | EW7: Junho | EX7: Julho | EY7: Agosto | EZ7: Setembro | FA7: Outubro | FB7: Novembro | FC7: Dezembro | FD7: Janeiro | FE7: Fevereiro | FF7: Março | FG7: Abril | FH7: Maio | FI7: Junho | FJ7: Julho | FK7: Agosto | FL7: Setembro | FM7: Outubro | FN7: Novembro | FO7: Dezembro | FP7: Janeiro | FQ7: Fevereiro | FR7: Março | FS7: Abril | FT7: Maio | FU7: Junho | FV7: Julho | FW7: Agosto | FX7: Setembro | FY7: Outubro | FZ7: Novembro | GA7: Dezembro | GB7: Janeiro | GC7: Fevereiro | GD7: Março | GE7: Abril | GF7: Maio | GG7: Junho | GH7: Julho | GI7: Agosto | GJ7: Setembro | GK7: Outubro | GL7: Novembro | GM7: Dezembro | GN7: Janeiro | GO7: Fevereiro | GP7: Março | GQ7: Abril | GR7: Maio | GS7: Junho | GT7: Julho | GU7: Agosto
A8: Dívida fiscal líquida (G=E-F) | C8: 514092.76 | D8: 515693.64 | E8: 519398.07 | F8: 522268.48 | G8: 522180.9 | H8: 527417.66 | I8: 530195.02 | J8: 531371.14 | K8: 539484.95 | L8: 542779.32 | M8: 551071.67 | N8: 556590.45 | O8: 579837.83 | P8: 589773.2 | Q8: 597327.76 | R8: 605374.31 | S8: 599972.92 | T8: 608805.6 | U8: 616176.77 | V8: 626725.45 | W8: 635907.85 | X8: 641613.48 | Y8: 643776.35 | Z8: 652474.36 | AA8: 668841.5 | AB8: 669651.01 | AC8: 672824.75 | AD8: 676035.19 | AE8: 676488.84 | AF8: 681119.66 | AG8: 683755.54 | AH8: 688490.71 | AI8: 694172.75 | AJ8: 699447.97 | AK8: 703678 | AL8: 710539.48 | AM8: 725147.39 | AN8: 724554.56 | AO8: 731327.23 | AP8: 735967.62 | AQ8: 732175.01 | AR8: 740313.7 | AS8: 747884.7 | AT8: 753649.65 | AU8: 760061.95 | AV8: 769358.88 | AW8: 774389.24 | AX8: 784671.76 | AY8: 801955.43 | AZ8: 813439.76 | BA8: 822258.15 | BB8: 827468.85 | BC8: 822096.48 | BD8: 824040.56 | BE8: 832473.98 | BF8: 840848.62 | BG8: 846055.11 | BH8: 854729.41 | BI8: 857391.36 | BJ8: 866294.68 | BK8: 887965.18 | BL8: 886663.25 | BM8: 892306.37 | BN8: 899661.43 | BO8: 893260.28 | BP8: 902422.33 | BQ8: 905007.79 | BR8: 913076.41 | BS8: 917114.73 | BT8: 930128.84 | BU8: 933913.18 | BV8: 939277 | BW8: 962425.66 | BX8: 955294.29 | BY8: 963230.23 | BZ8: 961655.78 | CA8: 957037.39 | CB8: 964956.23 | CC8: 971849.88 | CD8: 980176.28 | CE8: 983215.71 | CF8: 982592.5 | CG8: 974161.05 | CH8: 986185.89 | CI8: 1024352.9 | CJ8: 1032189.9 | CK8: 1039389 | CL8: 1046098.6 | CM8: 1047274.4 | CN8: 1057900.6 | CO8: 1068185.5 | CP8: 1082089.3 | CQ8: 1089948.5 | CR8: 1112176.2 | CS8: 1113382.4 | CT8: 1116375 | CU8: 1130594.9 | CV8: 1128639.9 | CW8: 1139728.7 | CX8: 1156896.2 | CY8: 1151224 | CZ8: 1167079.2 | DA8: 1180743.7 | DB8: 1196159.1 | DC8: 1206858.4 | DD8: 1194860.6 | DE8: 1201227 | DF8: 1215585.6 | DG8: 1224268.2 | DH8: 1225800.5 | DI8: 1237002.7 | DJ8: 1243951.2 | DK8: 1245539.4 | DL8: 1260208.5 | DM8: 1265826.1 | DN8: 1270833.5 | DO8: 1287934.8 | DP8: 1297105.7 | DQ8: 1303427.6 | DR8: 1313591 | DS8: 1332231 | DT8: 1325876.3 | DU8: 1334630.8 | DV8: 1345226.3 | DW8: 1348210.2 | DX8: 1364274.2 | DY8: 1377598.9 | DZ8: 1389464.5 | EA8: 1405585.9 | EB8: 1417839.6 | EC8: 1422446.4 | ED8: 1444292.8 | EE8: 1441142.6 | EF8: 1433540.4 | EG8: 1456822.4 | EH8: 1472681.5 | EI8: 1480360.8 | EJ8: 1494879.4 | EK8: 1507077.9 | EL8: 1528184.5 | EM8: 1550487.4 | EN8: 1573383.8 | EO8: 1584912.1 | EP8: 1585086.8 | EQ8: 1598692.1 | ER8: 1609170.2 | ES8: 1618685.8 | ET8: 1631707.8 | EU8: 1636323.1 | EV8: 1668766.8 | EW8: 1689558.4 | EX8: 1722269.4 | EY8: 1753745.8 | EZ8: 1823121.4 | FA8: 1840900.4 | FB8: 1882506.6 | FC8: 1942608.5 | FD8: 1939567.2 | FE8: 1998203.9 | FF8: 2067453.2 | FG8: 2056221 | FH8: 2115998.4 | FI8: 2152254.6 | FJ8: 2225026.2 | FK8: 2282039.4 | FL8: 2359350.8 | FM8: 2388764.7 | FN8: 2431821.8 | FO8: 2555643.3 | FP8: 2583948.7 | FQ8: 2636775.9 | FR8: 2646771 | FS8: 2659933.8 | FT8: 2720556.8 | FU8: 2752730.7 | FV8: 2806134.1 | FW8: 2869077.4 | FX8: 2936177.8 | FY8: 2932793.9 | FZ8: 3013221.4 | GA8: 3118458.2 | GB8: 3118158.8 | GC8: 3172402.4 | GD8: 3226751.2 | GE8: 3242173.7 | GF8: 3309162.3 | GG8: 3360225.5 | GH8: 3404845 | GI8: 3450386.1 | GJ8: 3503694.6 | GK8: 3534188.1 | GL8: 3564226.1 | GM8: 3629866.6 | GN8: 3611240.5 | GO8: 3657046.7 | GP8: 3714677.7 | GQ8: 3741428.9 | GR8: 3789325.1 | GS8: 3847266.3 | GT8: 3876428.6
A9: Ajuste metodológico s/dívida interna (F) | C9: 75414.088 | D9: 82735.705 | E9: 77367.054 | F9: 75463.073 | G9: 78345.549 | H9: 90037.87 | I9: 113289.65 | J9: 147607.35 | K9: 125315.64 | L9: 168660.86 | M9: 156864.09 | N9: 156165.3 | O9: 152075.78 | P9: 151674.27 | Q9: 153131.82 | R9: 145395.14 | S9: 129195.91 | T9: 131731.7 | U9: 128729.89 | V9: 131547.31 | W9: 131600.24 | X9: 130333.53 | Y9: 128422.59 | Z9: 131015.77 | AA9: 129361.03 | AB9: 130748.21 | AC9: 130032.6 | AD9: 129891.86 | AE9: 130723.73 | AF9: 134959.26 | AG9: 134490.82 | AH9: 132748.92 | AI9: 130887.49 | AJ9: 129428.16 | AK9: 129382.28 | AL9: 127238.22 | AM9: 126026.04 | AN9: 125661.41 | AO9: 125233.3 | AP9: 126221.34 | AQ9: 124362.09 | AR9: 122625.79 | AS9: 121893.73 | AT9: 122443.37 | AU9: 122075.71 | AV9: 120116.22 | AW9: 120563.26 | AX9: 119967.8 | AY9: 121471.69 | AZ9: 120060.76 | BA9: 119148.29 | BB9: 119557.96 | BC9: 118656.71 | BD9: 120919.37 | BE9: 119457.05 | BF9: 119584.17 | BG9: 119178.47 | BH9: 119556.82 | BI9: 119263.6 | BJ9: 119439.8 | BK9: 119249.25 | BL9: 119160.55 | BM9: 119117.54 | BN9: 118663.81 | BO9: 118553.05 | BP9: 117861.61 | BQ9: 117843.63 | BR9: 117521.88 | BS9: 118078.2 | BT9: 117262.12 | BU9: 116639.45 | BV9: 116898.32 | BW9: 116816.99 | BX9: 116744.68 | BY9: 116237.8 | BZ9: 116673.36 | CA9: 116262.83 | CB9: 115885.37 | CC9: 115640.32 | CD9: 115490.31 | CE9: 115892.05 | CF9: 117544.41 | CG9: 118726.74 | CH9: 119975 | CI9: 119997.07 | CJ9: 119877.53 | CK9: 120238.73 | CL9: 119871.78 | CM9: 119081.7 | CN9: 117914.88 | CO9: 117792.87 | CP9: 117340.13 | CQ9: 117420.41 | CR9: 116796.21 | CS9: 116598.97 | CT9: 116635.78 | CU9: 116583.19 | CV9: 114049.69 | CW9: 115258.38 | CX9: 115827.12 | CY9: 116797.3 | CZ9: 115116.86 | DA9: 115414.72 | DB9: 116287.14 | DC9: 116311.19 | DD9: 117540.69 | DE9: 117392.51 | DF9: 117094.38 | DG9: 118096.49 | DH9: 117953.43 | DI9: 118194.86 | DJ9: 118860.54 | DK9: 119999.09 | DL9: 119853.66 | DM9: 120233.61 | DN9: 120310.27 | DO9: 119764.77 | DP9: 115125.96 | DQ9: 118036.41 | DR9: 115877.86 | DS9: 114691.3 | DT9: 117229.1 | DU9: 117784.6 | DV9: 115682.01 | DW9: 113898.29 | DX9: 111921.82 | DY9: 111945.91 | DZ9: 111395.65 | EA9: 111641.01 | EB9: 111767.65 | EC9: 111751.69 | ED9: 110251.48 | EE9: 111520.7 | EF9: 112616.16 | EG9: 112869.99 | EH9: 112112.63 | EI9: 112352.03 | EJ9: 109971.29 | EK9: 108554.58 | EL9: 107343.47 | EM9: 106002.48 | EN9: 108102.52 | EO9: 108381.98 | EP9: 107069.84 | EQ9: 106877.59 | ER9: 105919.06 | ES9: 106978.54 | ET9: 107626.75 | EU9: 107874.22 | EV9: 107849.33 | EW9: 108156.52 | EX9: 107603.83 | EY9: 107849.66 | EZ9: 105959.6 | FA9: 106021.78 | FB9: 104950.08 | FC9: 104042.47 | FD9: 103981.41 | FE9: 101894.84 | FF9: 98679.314 | FG9: 100812.72 | FH9: 98371.333 | FI9: 99516.792 | FJ9: 95083.618 | FK9: 91249.848 | FL9: 86308.228 | FM9: 88038.814 | FN9: 88163.212 | FO9: 87474.428 | FP9: 85909.904 | FQ9: 86383.231 | FR9: 89562.91 | FS9: 90387.115 | FT9: 89290.237 | FU9: 92177.823 | FV9: 91959.182 | FW9: 91940.011 | FX9: 91891.402 | FY9: 92371.497 | FZ9: 90837.571 | GA9: 91780.624 | GB9: 92652.19 | GC9: 92827.865 | GD9: 92431.885 | GE9: 92334.789 | GF9: 92141.109 | GG9: 91871.213 | GH9: 92552.419 | GI9: 92491.883 | GJ9: 92467.123 | GK9: 92232.549 | GL9: 92267.378 | GM9: 92194.814 | GN9: 92337.062 | GO9: 92271.501 | GP9: 92261.824 | GQ9: 92291.639 | GR9: 92378.507 | GS9: 92158.499 | GT9: 92451.259
A10: Dívida fiscal líquida com câmbio (E=A-B-C-D) | C10: =C8+C9 -> 589506.85 | D10: =D8+D9 -> 598429.34 | E10: =E8+E9 -> 596765.12 | F10: =F8+F9 -> 597731.56 | G10: =G8+G9 -> 600526.45 | H10: =H8+H9 -> 617455.53 | I10: =I8+I9 -> 643484.67 | J10: =J8+J9 -> 678978.5 | ... FC10: =FC8+FC9 -> 2046650.9 | FD10: 2043548.6 | FE10: 2100098.8 | FF10: 2166132.5 | FG10: 2157033.7 | FH10: 2214369.7 | FI10: 2251771.4 | FJ10: 2320109.8 | FK10: 2373289.2 | FL10: 2445659 | FM10: 2476803.5 | FN10: 2519985 | FO10: 2643117.7 | FP10: 2669858.6 | FQ10: 2723159.2 | FR10: 2736333.9 | FS10: 2750321 | FT10: 2809847.1 | FU10: 2844908.6 | FV10: 2898093.3 | FW10: 2961017.4 | FX10: 3028069.2 | FY10: 3025165.4 | FZ10: 3104058.9 | GA10: 3210238.8 | GB10: 3210811 | GC10: 3265230.3 | GD10: 3319183.1 | GE10: 3334508.5 | GF10: 3401303.4 | GG10: 3452096.7 | GH10: 3497397.4 | GI10: 3542878 | GJ10: 3596161.8 | GK10: 3626420.7 | GL10: 3656493.5 | GM10: 3722061.4 | GN10: 3703577.6 | GO10: 3749318.2 | GP10: 3806939.6 | GQ10: 3833720.5 | GR10: 3881703.6 | GS10: 3939424.8 | GT10: 3968879.8
A11: Ajuste metodológico s/dívida externa (D) | C11: 55337.092 | D11: 61318.471 | E11: 53527.052 | F11: 51968.843 | G11: 54942.658 | H11: 63641.123 | I11: 78946.077 | J11: 114163.67 | K11: 96164.804 | L11: 151963.39 | M11: 136534.94 | N11: 134708.86 | O11: 124734.69 | P11: 123090.86 | Q11: 130342.41 | R11: 115413.7 | S11: 86184.042 | T11: 91952.944 | U11: 86317.508 | V11: 93684.672 | W11: 98798.484 | X11: 96210.255 | Y11: 94322.769 | Z11: 100064.08 | AA11: 97687.198 | AB11: 100992.08 | AC11: 99701.472 | AD11: 96866.462 | AE11: 100217.25 | AF11: 111657.57 | AG11: 111931.27 | AH11: 107191.75 | AI11: 102767.39 | AJ11: 97779.989 | AK11: 100055.68 | AL11: 94351.798 | AM11: 89324.916 | AN11: 87825.753 | AO11: 85381.062 | AP11: 88435.67 | AQ11: 83277.515 | AR11: 77848.535 | AS11: 74163.116 | AT11: 76424.54 | AU11: 75495.542 | AV11: 69230.151 | AW11: 71655.711 | AX11: 69278.707 | AY11: 72300.944 | AZ11: 70463.96 | BA11: 69683.882 | BB11: 70779.708 | BC11: 70564.085 | BD11: 73345.765 | BE11: 71567.321 | BF11: 71999.29 | BG11: 72398.071 | BH11: 72125.215 | BI11: 72352.703 | BJ11: 70866.141 | BK11: 70944.648 | BL11: 72790.596 | BM11: 74328.083 | BN11: 78133.887 | BO11: 80487.259 | BP11: 88631.291 | BQ11: 88773.955 | BR11: 91639.106 | BS11: 82069.291 | BT11: 92238.808 | BU11: 101171.17 | BV11: 92269.644 | BW11: 92520.714 | BX11: 88404.139 | BY11: 96043.937 | BZ11: 85992.474 | CA11: 100685.95 | CB11: 111349.64 | CC11: 115870.72 | CD11: 119678.31 | CE11: 109895.64 | CF11: 66848.048 | CG11: 37636.272 | CH11: -4218.918 | CI11: -15479.224 | CJ11: -3835.8404 | CK11: -8452.1494 | CL11: -5510.302 | CM11: 17613.769 | CN11: 45179.734 | CO11: 49522.467 | CP11: 61916.377 | CQ11: 60021.501 | CR11: 75287.336 | CS11: 80228.675 | CT11: 76402.235 | CU11: 79727.296 | CV11: 57634.986 | CW11: 69579.96 | CX11: 75449.131 | CY11: 84410.149 | CZ11: 71829.499 | DA11: 73017.418 | DB11: 79243.027 | DC11: 80607.004 | DD11: 89638.052 | DE11: 86693.255 | DF11: 87021.748 | DG11: 97423.823 | DH11: 96488.754 | DI11: 98240.044 | DJ11: 106297.74 | DK11: 114417.13 | DL11: 112673.84 | DM11: 118511.02 | DN11: 116460.99 | DO11: 104695.87 | DP11: 33360.795 | DQ11: 76869.837 | DR11: 43973.43 | DS11: 25105.841 | DT11: 62060.476 | DU11: 71076.444 | DV11: 39890.316 | DW11: 16024.841 | DX11: -19235.208 | DY11: -20665.339 | DZ11: -32005.395 | EA11: -30014.998 | EB11: -30510.535 | EC11: -28084.76 | ED11: -53737.779 | EE11: -33294.186 | EF11: -12592.039 | EG11: -6002.8738 | EH11: -18204.131 | EI11: -17061.012 | EJ11: -48153.37 | EK11: -66163.48 | EL11: -92346.696 | EM11: -113973.39 | EN11: -76372.216 | EO11: -68559.223 | EP11: -104797.66 | EQ11: -106974.52 | ER11: -129678.89 | ES11: -104158.84 | ET11: -81605.897 | EU11: -75719.404 | EV11: -77608.645 | EW11: -68671.591 | EX11: -83457.49 | EY11: -73926.674 | EZ11: -130623.24 | FA11: -129352.74 | FB11: -163078.46 | FC11: -187732.61 | FD11: -182399.39 | FE11: -246639.07 | FF11: -341984.08 | FG11: -282482.07 | FH11: -334317.33 | FI11: -312257.96 | FJ11: -392125.67 | FK11: -466223.56 | FL11: -563682.8 | FM11: -530625.66 | FN11: -520311.21 | FO11: -535077.15 | FP11: -577417.13 | FQ11: -564931.29 | FR11: -448581.45 | FS11: -419717.39 | FT11: -455727.22 | FU11: -344499.7 | FV11: -353097.81 | FW11: -350825.13 | FX11: -355384.91 | FY11: -328725.84 | FZ11: -386766.67 | GA11: -342849.32 | GB11: -308467.33 | GC11: -300891.05 | GD11: -320626.27 | GE11: -331019.68 | GF11: -347866.15 | GG11: -368387.21 | GH11: -320028.07 | GI11: -326718.57 | GJ11: -330557.03 | GK11: -360061.41 | GL11: -355415.58 | GM11: -371680.66 | GN11: -328279.17 | GO11: -348665.28 | GP11: -375570.75 | GQ11: -419063.8 | GR11: -499205.84 | GS11: -532836.27 | GT11: -497014.75
A12: Ajuste patrimonial (C) | C12: 92678.235 | D12: 93544.452 | E12: 97653.503 | F12: 97771.328 | G12: 97772.716 | H12: 97774.946 | I12: 98911.984 | J12: 96797.008 | K12: 96647.787 | L12: 97346.123 | M12: 97092.683 | N12: 96931.563 | O12: 99372.069 | P12: 100042.88 | Q12: 100042.88 | R12: 100042.88 | S12: 100042.88 | T12: 100099.79 | U12: 100754.33 | V12: 100754.33 | W12: 101751.53 | X12: 101334.38 | Y12: 101074.67 | Z12: 101259.13 | AA12: 99976.349 | AB12: 99976.349 | AC12: 100078.48 | AD12: 100078.48 | AE12: 100078.48 | AF12: 100078.48 | AG12: 99456.956 | AH12: 99654.469 | AI12: 100769.48 | AJ12: 100455.6 | AK12: 100124.34 | AL12: 100124.34 | AM12: 106492.04 | AN12: 106262.28 | AO12: 106262.28 | AP12: 106262.28 | AQ12: 106262.28 | AR12: 106262.28 | AS12: 113167.12 | AT12: 113167.12 | AU12: 113167.12 | AV12: 113167.12 | AW12: 111535.48 | AX12: 111535.48 | AY12: 109753.56 | AZ12: 109797.18 | BA12: 109797.18 | BB12: 108715 | BC12: 108720.13 | BD12: 108724.28 | BE12: 109222.83 | BF12: 108858.72 | BG12: 109265.05 | BH12: 109289.24 | BI12: 109284.58 | BJ12: 109128.08 | BK12: 109378.52 | BL12: 107475.52 | BM12: 109351.52 | BN12: 110139.68 | BO12: 109891.05 | BP12: 110072.37 | BQ12: 109590.9 | BR12: 110674.88 | BS12: 110196.82 | BT12: 110311.15 | BU12: 110593.54 | BV12: 110515.48 | BW12: 108748.79 | BX12: 108742.89 | BY12: 109241.8 | BZ12: 108801.48 | CA12: 108650.01 | CB12: 108578.08 | CC12: 109031.83 | CD12: 110064.76 | CE12: 109886.06 | CF12: 108737.39 | CG12: 110226.1 | CH12: 108873.07 | CI12: 108884.23 | CJ12: 109219.94 | CK12: 109314.63 | CL12: 109105.01 | CM12: 109212.97 | CN12: 109580.45 | CO12: 109680.42 | CP12: 109518.73 | CQ12: 109167.05 | CR12: 109091.02 | CS12: 109054.85 | CT12: 109050.72 | CU12: 108539.32 | CV12: 107929.98 | CW12: 107993.21 | CX12: 107724.63 | CY12: 107631.79 | CZ12: 107418.36 | DA12: 106994.75 | DB12: 107169.42 | DC12: 106310.61 | DD12: 106393.13 | DE12: 106451.45 | DF12: 106483.63 | DG12: 111507.94 | DH12: 111338.43 | DI12: 113438.68 | DJ12: 113671.74 | DK12: 114180.62 | DL12: 114339.93 | DM12: 113080.31 | DN12: 113203.81 | DO12: 112482.11 | DP12: 111143.38 | DQ12: 112116.47 | DR12: 110438.33 | DS12: 111995.02 | DT12: 114885.02 | DU12: 115577.77 | DV12: 112845.95 | DW12: 111942.83 | DX12: 110729.75 | DY12: 109994.2 | DZ12: 111160.68 | EA12: 111085.59 | EB12: 110960.59 | EC12: 110558.59 | ED12: 110215.71 | EE12: 106190.22 | EF12: 105171.22 | EG12: 105504.5 | EH12: 105166.08 | EI12: 102645.71 | EJ12: 102555.29 | EK12: 106278.29 | EL12: 106084.29 | EM12: 106607.29 | EN12: 106506.29 | EO12: 106253.29 | EP12: 102751.29 | EQ12: 103763.29 | ER12: 103816.29 | ES12: 104054.29 | ET12: 103976.29 | EU12: 103523.29 | EV12: 102885.29 | EW12: 102127.29 | EX12: 102488.29 | EY12: 100850.29 | EZ12: 100357.29 | FA12: 100545.29 | FB12: 100547.29 | FC12: 100252.29 | FD12: 99883.293 | FE12: 99627.293 | FF12: 99533.293 | FG12: 99175.293 | FH12: 99637.293 | FI12: 99319.293 | FJ12: 98857.293 | FK12: 98887.293 | FL12: 100066.29 | FM12: 102359.32 | FN12: 103859.81 | FO12: 104871.11 | FP12: 104987.11 | FQ12: 104567.11 | FR12: 103114.11 | FS12: 102031.11 | FT12: 101034.11 | FU12: 105317.8 | FV12: 102902.8 | FW12: 104148.8 | FX12: 103208.8 | FY12: 102523.8 | FZ12: 102838.28 | GA12: 102429.62 | GB12: 102118.62 | GC12: 101486.62 | GD12: 100067.8 | GE12: 99549.799 | GF12: 99711.799 | GG12: 107191.96 | GH12: 106713.96 | GI12: 107505.73 | GJ12: 110466.37 | GK12: 110215.37 | GL12: 110479.37 | GM12: 110571.37 | GN12: 109647.37 | GO12: 109173.37 | GP12: 110028.37 | GQ12: 111466.4 | GR12: 112198.98 | GS12: 112094.98 | GT12: 109663.04
A13: Ajuste de privatização (B) | C13: -60091.36 | D13: -60274.274 | E13: -61138.274 | F13: -61138.274 | G13: -61138.274 | H13: -63728.55 | I13: -63728.55 | J13: -63728.55 | K13: -63728.55 | L13: -63728.55 | M13: -63728.55 | N13: -63728.55 | O13: -63728.55 | P13: -63728.55 | Q13: -63728.55 | R13: -63728.55 | S13: -63728.55 | T13: -63728.55 | U13: -63728.55 | V13: -63728.55 | W13: -63728.55 | X13: -63728.55 | Y13: -63728.55 | Z13: -63728.55 | AA13: -63728.55 | AB13: -63728.55 | AC13: -63806.551 | AD13: -63806.551 | AE13: -63806.551 | AF13: -63806.551 | AG13: -63806.551 | AH13: -63806.551 | AI13: -63806.551 | AJ13: -63806.551 | AK13: -63806.551 | AL13: -64481.551 | AM13: -64481.551 | AN13: -64481.551 | AO13: -64481.551 | AP13: -64481.551 | AQ13: -64481.551 | AR13: -64481.551 | AS13: -64481.551 | AT13: -64481.551 | AU13: -64481.551 | AV13: -64481.551 | AW13: -64481.551 | AX13: -65435.507 | AY13: -65435.507 | AZ13: -66135.507 | BA13: -66018.851 | BB13: -66018.851 | BC13: -66018.851 | BD13: -66018.851 | BE13: -66018.851 | BF13: -67232.021 | BG13: -67484.956 | BH13: -67484.956 | BI13: -67484.956 | BJ13: -67484.956 | BK13: -67484.956 | BL13: -67484.956 | BM13: -67484.956 | BN13: -67484.956 | BO13: -67484.956 | BP13: -67484.956 | BQ13: -67484.956 | BR13: -68749.913 | BS13: -68749.913 | BT13: -68749.913 | BU13: -68749.913 | BV13: -68749.913 | BW13: -68749.913 | BX13: -68749.913 | BY13: -68749.913 | BZ13: -68749.913 | CA13: -68749.913 | CB13: -68749.913 | CC13: -68749.913 | CD13: -68749.913 | CE13: -68749.913 | CF13: -68749.913 | CG13: -68749.913 | CH13: -69434.913 | CI13: -69516.593 | CJ13: -69516.593 | CK13: -69516.593 | CL13: -69827.523 | CM13: -70140.944 | CN13: -70456.675 | CO13: -70775.084 | CP13: -71095.838 | CQ13: -71418.872 | CR13: -71744.254 | CS13: -72072.002 | CT13: -72401.806 | CU13: -72734.007 | CV13: -73068.403 | CW13: -73405.229 | CX13: -73744.057 | CY13: -74085.349 | CZ13: -74428.846 | DA13: -74775.048 | DB13: -75124.186 | DC13: -75476.232 | DD13: -75476.232 | DE13: -75476.232 | DF13: -75476.232 | DG13: -75476.232 | DH13: -75476.232 | DI13: -75476.232 | DJ13: -75476.232 | DK13: -75476.232 | DL13: -75476.232 | DM13: -75476.232 | DN13: -75476.232 | DO13: -75476.232 | DP13: -75476.232 | DQ13: -75476.232 | DR13: -75476.232 | DS13: -75476.232 | DT13: -75476.232 | DU13: -75476.232 | DV13: -75476.232 | DW13: -75476.232 | DX13: -75476.232 | DY13: -75476.232 | DZ13: -75476.232 | EA13: -75476.232 | EB13: -75476.232 | EC13: -75476.232 | ED13: -75476.232 | EE13: -75476.232 | EF13: -75476.232 | EG13: -75476.232 | EH13: -75476.232 | EI13: -75476.232 | EJ13: -75476.232 | EK13: -75476.232 | EL13: -75476.232 | EM13: -76023.641 | EN13: -76023.641 | EO13: -76023.641 | EP13: -76023.641 | EQ13: -76023.641 | ER13: -76023.641 | ES13: -76023.641 | ET13: -76023.641 | EU13: -76023.641 | EV13: -76023.641 | EW13: -76023.641 | EX13: -76023.641 | EY13: -76023.641 | EZ13: -76023.641 | FA13: -76023.641 | FB13: -76023.641 | FC13: -76023.641 | FD13: -76023.641 | FE13: -76023.641 | FF13: -76023.641 | FG13: -76023.641 | FH13: -76023.641 | FI13: -76023.641 | FJ13: -76023.641 | FK13: -76023.641 | FL13: -76023.641 | FM13: -76023.641 | FN13: -76023.641 | FO13: -76023.641 | FP13: -76023.641 | FQ13: -76023.641 | FR13: -76023.641 | FS13: -76023.641 | FT13: -76023.641 | FU13: -76023.641 | FV13: -76023.641 | FW13: -76023.641 | FX13: -76023.641 | FY13: -76023.641 | FZ13: -76023.641 | GA13: -76905.619 | GB13: -76905.619 | GC13: -78009.922 | GD13: -78009.922 | GE13: -78009.922 | GF13: -78009.922 | GG13: -78009.922 | GH13: -78009.922 | GI13: -78009.922 | GJ13: -78009.922 | GK13: -78009.922 | GL13: -78009.922 | GM13: -78009.922 | GN13: -78009.922 | GO13: -78009.922 | GP13: -78009.922 | GQ13: -78009.922 | GR13: -78009.922 | GS13: -78009.922 | GT13: -78009.922
A16: Dívida líquida total - saldo | C16: 677430.82 | D16: 693017.99 | E16: 686807.41 | F16: 686333.46 | G16: 692103.55 | H16: 715143.05 | I16: 757614.19 | J16: 826210.63 | K16: 793884.63 | L16: 897021.15 | M16: 877834.83 | N16: 880667.62 | O16: 892291.83 | P16: 900852.65 | Q16: 917116.32 | R16: 902497.48 | S16: 851667.2 | T16: 868861.49 | U16: 868249.95 | V16: 888983.22 | W16: 904329.56 | X16: 905763.09 | Y16: 903867.83 | Z16: 921084.79 | AA16: 932137.53 | AB16: 937639.1 | AC16: 938830.75 | AD16: 939065.44 | AE16: 943701.75 | AF16: 964008.42 | AG16: 965828.04 | AH16: 964279.29 | AI16: 964790.55 | AJ16: 963305.17 | AK16: 969433.75 | AL16: 967772.28 | AM16: 982508.82 | AN16: 979822.45 | AO16: 983722.32 | AP16: 992405.36 | AQ16: 981595.35 | AR16: 982568.75 | AS16: 992627.11 | AT16: 1001203.1 | AU16: 1006318.8 | AV16: 1007390.8 | AW16: 1013662.1 | AX16: 1020018.2 | AY16: 1040046.1 | AZ16: 1047626.2 | BA16: 1054868.7 | BB16: 1060502.7 | BC16: 1054018.5 | BD16: 1061011.1 | BE16: 1066702.3 | BF16: 1074058.8 | BG16: 1079411.7 | BH16: 1088215.7 | BI16: 1090807.3 | BJ16: 1098243.7 | BK16: 1120052.6 | BL16: 1118605 | BM16: 1127618.6 | BN16: 1139113.9 | BO16: 1134706.7 | BP16: 1151502.6 | BQ16: 1153731.3 | BR16: 1164162.4 | BS16: 1158709.1 | BT16: 1181191 | BU16: 1193567.4 | BV16: 1190210.5 | BW16: 1211762.3 | BX16: 1200436.1 | BY16: 1216003.9 | BZ16: 1204373.2 | CA16: 1213886.3 | CB16: 1232019.4 | CC16: 1243642.8 | CD16: 1256659.8 | CE16: 1250139.5 | CF16: 1206972.4 | CG16: 1172000.2 | CH16: 1141380.1 | CI16: 1168238.3 | CJ16: 1187935 | CK16: 1190973.6 | CL16: 1199737.6 | CM16: 1223041.9 | CN16: 1260119 | CO16: 1274406.2 | CP16: 1299768.7 | CQ16: 1305138.6 | CR16: 1341606.5 | CS16: 1347192.9 | CT16: 1346062 | CU16: 1362710.7 | CV16: 1335186.2 | CW16: 1359155 | CX16: 1382153.1 | CY16: 1385977.9 | CZ16: 1387015.1 | DA16: 1401395.5 | DB16: 1423734.5 | DC16: 1434611 | DD16: 1432956.2 | DE16: 1436288 | DF16: 1450709.2 | DG16: 1475820.2 | DH16: 1476104.9 | DI16: 1491400 | DJ16: 1507305 | DK16: 1518660 | DL16: 1531599.7 | DM16: 1542174.8 | DN16: 1545332.3 | DO16: 1549401.3 | DP16: 1481259.6 | DQ16: 1534974.1 | DR16: 1508404.4 | DS16: 1508546.9 | DT16: 1544574.6 | DU16: 1563593.4 | DV16: 1538168.4 | DW16: 1514599.9 | DX16: 1492214.4 | DY16: 1503397.4 | DZ16: 1504539.2 | EA16: 1522821.3 | EB16: 1534581 | EC16: 1541195.7 | ED16: 1535545.9 | EE16: 1550083.1 | EF16: 1563259.5 | EG16: 1593717.7 | EH16: 1596279.9 | EI16: 1602821.3 | EJ16: 1583776.4 | EK16: 1580271 | EL16: 1573789.4 | EM16: 1573100.2 | EN16: 1635596.7 | EO16: 1654964.5 | EP16: 1614086.7 | EQ16: 1626334.9 | ER16: 1613203 | ES16: 1649536.2 | ET16: 1685681.3 | EU16: 1695977.6 | EV16: 1725869.2 | EW16: 1755147 | EX16: 1772880.4 | EY16: 1812495.5 | EZ16: 1822791.4 | FA16: 1842091.1 | FB16: 1848901.9 | FC16: 1883147 | FD16: 1885008.9 | FE16: 1877063.3 | FF16: 1847658.1 | FG16: 1897703.3 | FH16: 1903666.1 | FI16: 1962809.1 | FJ16: 1950817.8 | FK16: 1929929.3 | FL16: 1906018.9 | FM16: 1972513.6 | FN16: 2027510 | FO16: 2136888 | FP16: 2121404.9 | FQ16: 2186771.3 | FR16: 2314842.9 | FS16: 2356611 | FT16: 2379130.3 | FU16: 2529703 | FV16: 2571874.7 | FW16: 2638317.5 | FX16: 2699869.5 | FY16: 2722939.7 | FZ16: 2744106.9 | GA16: 2892913.5 | GB16: 2927556.6 | GC16: 2987815.9 | GD16: 3020614.7 | GE16: 3025028.7 | GF16: 3075139.1 | GG16: 3112891.5 | GH16: 3206073.4 | GI16: 3245655.2 | GJ16: 3298061.2 | GK16: 3298564.7 | GL16: 3333547.3 | GM16: 3382942.2 | GN16: 3406935.8 | GO16: 3431816.3 | GP16: 3463387.3 | GQ16: 3448113.2 | GR16: 3416686.8 | GS16: 3440673.6 | GT16: 3503518.2
A18: Dívida líquida - variação mensal | C18: 17033.02 | D18: =D16-C16 -> 15587.176 | E18: =E16-D16 -> -6210.586 | F18: =F16-E16 -> -473.95053 | G18: =G16-F16 -> 5770.0972 | H18: =H16-G16 -> 23039.501 | I18: =I16-H16 -> 42471.133 | J18: =J16-I16 -> 68596.441 | K18: =K16-J16 -> -32325.993 | ... FC18: =FC16-FB16 -> 34245.07 | FD18: 1861.8929 | FE18: -7945.54 | FF18: -29405.27 | FG18: 50045.203 | FH18: 5962.7891 | FI18: 59143.048 | FJ18: -11991.319 | FK18: -20888.463 | FL18: -23910.453 | FM18: 66494.692 | FN18: 54996.437 | FO18: 109378.01 | FP18: -15483.079 | FQ18: 65366.412 | FR18: 128071.57 | FS18: 41768.129 | FT18: 22519.268 | FU18: 150572.7 | FV18: 42171.649 | FW18: 66442.787 | FX18: 61552.03 | FY18: 23070.196 | FZ18: 21167.23 | GA18: 148806.55 | GB18: 34643.171 | GC18: 60259.304 | GD18: 32798.776 | GE18: 4414.0184 | GF18: 50110.39 | GG18: 37752.407 | GH18: 93181.887 | GI18: 39581.801 | GJ18: 52405.964 | GK18: 503.55158 | GL18: 34982.602 | GM18: 49394.88 | GN18: 23993.627 | GO18: 24880.483 | GP18: 31570.94 | GQ18: -15274.074 | GR18: -31426.363 | GS18: 23986.734 | GT18: 62844.638
A20: Fatores condicionantes:1/ | C20: 17033.02 | D20: 15587.176 | E20: -6210.586 | F20: -473.95053 | G20: 5770.0972 | H20: 23039.501 | I20: 42471.133 | J20: 68596.441 | K20: -32325.993 | L20: 103136.52 | M20: -19186.32 | N20: 2832.7841 | O20: 11624.211 | P20: 8560.8237 | Q20: 16263.669 | R20: -14618.84 | S20: -50830.286 | T20: 17194.292 | U20: -611.53247 | V20: 20733.263 | W20: 15346.338 | X20: 1433.5375 | Y20: -1272.4871 | Z20: 16594.18 | AA20: 11052.747 | AB20: 5501.5631 | AC20: 1191.657 | AD20: 234.68418 | AE20: 4636.3114 | AF20: 20306.669 | AG20: 1819.6241 | AH20: -1548.7529 | AI20: 511.26569 | AJ20: -1485.382 | AK20: 6128.577 | AL20: -1661.4656 | AM20: 14736.538 | AN20: -2686.3678 | AO20: 3899.8673 | AP20: 8683.0378 | AQ20: -10810.007 | AR20: 973.40173 | AS20: 10058.353 | AT20: 8576.0236 | AU20: 5115.6388 | AV20: 1072.0427 | AW20: 6271.3302 | AX20: 6356.1006 | AY20: 20027.873 | AZ20: 7580.041 | BA20: 7242.4993 | BB20: 5634.0123 | BC20: -6484.1204 | BD20: 6992.5715 | BE20: 5691.2145 | BF20: 7356.4511 | BG20: 5352.9617 | BH20: 8803.9816 | BI20: 2591.5593 | BJ20: 7436.4554 | BK20: 21808.896 | BL20: -1447.6773 | BM20: 9013.5969 | BN20: 11495.299 | BO20: -4407.1755 | BP20: 16795.954 | BQ20: 2228.6813 | BR20: 10431.046 | BS20: -5453.2402 | BT20: 22481.886 | BU20: 12376.421 | BV20: -3356.89 | BW20: 21551.711 | BX20: -11326.173 | BY20: 15567.778 | BZ20: -11630.674 | CA20: 9513.0727 | CB20: 18133.144 | CC20: 11623.442 | CD20: 13016.909 | CE20: -6520.2006 | CF20: -43167.118 | CG20: -34972.188 | CH20: -30620.115 | CI20: 26858.21 | CJ20: 19696.629 | CK20: 3038.6381 | CL20: 8763.9987 | CM20: 23304.254 | CN20: 37077.132 | CO20: 14287.174 | CP20: 25362.55 | CQ20: 5369.9233 | CR20: 36467.888 | CS20: 5586.3958 | CT20: -1130.9649 | CU20: 16648.766 | CV20: -27524.534 | CW20: 23968.797 | CX20: 22998.081 | CY20: 3824.8025 | CZ20: 1037.248 | DA20: 14380.389 | DB20: 22339.04 | DC20: 10876.418 | DD20: -1654.7784 | DE20: 3331.8277 | DF20: 14421.151 | DG20: 25111.012 | DH20: 284.72199 | DI20: 15295.109 | DJ20: 15904.956 | DK20: 11355.065 | DL20: 12939.667 | DM20: 10575.129 | DN20: 3157.5112 | DO20: 4068.9978 | DP20: -68141.777 | DQ20: 53714.497 | DR20: -26569.627 | DS20: 142.48162 | DT20: 36027.725 | DU20: 19018.779 | DV20: -25425.037 | DW20: -23568.435 | DX20: -22385.587 | DY20: 11183.06 | DZ20: 1141.7817 | EA20: 18282.113 | EB20: 11759.735 | EC20: 6614.6227 | ED20: -5649.719 | EE20: 14537.132 | EF20: 13176.447 | EG20: 30458.217 | EH20: 2562.1242 | EI20: 6541.4744 | EJ20: -19044.926 | EK20: -3505.3942 | EL20: -6481.6676 | EM20: -689.19663 | EN20: 62496.566 | EO20: 19367.764 | EP20: -40877.815 | EQ20: 12248.195 | ER20: -13131.892 | ES20: 36333.196 | ET20: 36145.115 | EU20: 10296.306 | EV20: 29891.572 | EW20: 29277.833 | EX20: 17733.407 | EY20: 39615.081 | EZ20: 10295.965 | FA20: 19299.642 | FB20: 6810.8235 | FC20: 34245.07 | FD20: 1861.8929 | FE20: -7945.54 | FF20: -29405.27 | FG20: 50045.203 | FH20: 5962.7891 | FI20: 59143.048 | FJ20: -11991.319 | FK20: -20888.463 | FL20: -23910.453 | FM20: 66494.692 | FN20: 54996.437 | FO20: 109378.01 | FP20: -15483.079 | FQ20: 65366.412 | FR20: 128071.57 | FS20: 41768.129 | FT20: 22519.268 | FU20: 150572.7 | FV20: 42171.649 | FW20: 66442.787 | FX20: 61552.03 | FY20: 23070.196 | FZ20: 21167.23 | GA20: 148806.55 | GB20: 34643.171 | GC20: 60259.304 | GD20: 32798.776 | GE20: 4414.0184 | GF20: 50110.39 | GG20: 37752.407 | GH20: 93181.887 | GI20: 39581.801 | GJ20: 52405.964 | GK20: 503.55158 | GL20: 34982.602 | GM20: 49394.88 | GN20: 23993.627 | GO20: 24880.483 | GP20: 31570.94 | GQ20: -15274.074 | GR20: -31426.363 | GS20: 23986.734 | GT20: 62844.638
A21: NFSP | C21: 13373.859 | D21: =D8-C8 -> 1600.8768 | E21: =E8-D8 -> 3704.4329 | F21: =F8-E8 -> 2870.4149 | G21: =G8-F8 -> -87.581813 | H21: =H8-G8 -> 5236.7616 | I21: =I8-H8 -> 2777.3566 | J21: =J8-I8 -> 1176.122 | K21: =K8-J8 -> 8113.8114 | ... FC21: =FC8-FB8 -> 60101.822 | FD21: -3041.2689 | FE21: 58636.71 | FF21: 69249.274 | FG21: -11232.215 | FH21: 59777.436 | FI21: 36256.217 | FJ21: 72771.568 | FK21: 57013.195 | FL21: 77311.409 | FM21: 29413.934 | FN21: 43057.096 | FO21: 123821.44 | FP21: 28305.424 | FQ21: 52827.244 | FR21: 9995.056 | FS21: 13162.862 | FT21: 60622.978 | FU21: 32173.917 | FV21: 53403.393 | FW21: 62943.279 | FX21: 67100.421 | FY21: -3383.9723 | FZ21: 80427.503 | GA21: 105236.79 | GB21: -299.38542 | GC21: 54243.65 | GD21: 54348.795 | GE21: 15422.526 | GF21: 66988.539 | GG21: 51063.194 | GH21: 44619.544 | GI21: 45541.079 | GJ21: 53308.538 | GK21: 30493.501 | GL21: 30037.945 | GM21: 65640.525 | GN21: -18626.106 | GO21: 45806.153 | GP21: 57631.082 | GQ21: 26751.132 | GR21: 47896.234 | GS21: 57941.166 | GT21: 29162.303
A22: Primário | C22: 5055.2039 | D22: -6509.8195 | E22: -4655.7367 | F22: -4225.3455 | G22: -7100.222 | H22: -3551.2753 | I22: -4102.465 | J22: -3810.061 | K22: -1225.6941 | L22: -8520.2774 | M22: -6265.1291 | N22: -3768.979 | O22: 6210.5075 | P22: -7748.7973 | Q22: -6958.5012 | R22: -4621.3392 | S22: -11478.357 | T22: -4788.3071 | U22: -1603.6373 | V22: -4439.9311 | W22: -3954.7146 | X22: -6070.803 | Y22: -6850.8818 | Z22: -4643.1669 | AA22: 7567.2774 | AB22: -10230.291 | AC22: -6987.4989 | AD22: -6997.0723 | AE22: -9566.6864 | AF22: -6277.1963 | AG22: -7260.0317 | AH22: -5499.3112 | AI22: -6265.7156 | AJ22: -6104.6645 | AK22: -7018.5997 | AL22: -3222.2957 | AM22: 3210.9265 | AN22: -12786.923 | AO22: -4885.8044 | AP22: -9320.4711 | AQ22: -17417.363 | AR22: -5607.7132 | AS22: -7623.6335 | AT22: -6509.6515 | AU22: -7083.1605 | AV22: -4964.7551 | AW22: -8457.8491 | AX22: -2655.0801 | AY22: 6026.4844 | AZ22: -6424.4796 | BA22: -4531.8743 | BB22: -7974.318 | BC22: -18196.583 | BD22: -5914.0866 | BE22: -8773.4847 | BF22: -5313.8211 | BG22: -10495.806 | BH22: -2588.9335 | BI22: -10755.29 | BJ22: -3439.8558 | BK22: 8493.1137 | BL22: -15485.854 | BM22: -5586.7163 | BN22: -6801.0488 | BO22: -19170.635 | BP22: -7906.0214 | BQ22: -8365.5743 | BR22: -6279.0603 | BS22: -7140.3023 | BT22: -2676.9761 | BU22: -12370.274 | BV22: -6951.6571 | BW22: 10656.14 | BX22: -20522.828 | BY22: -7804.0161 | BZ22: -13192.517 | CA22: -19794.233 | CB22: -8523.904 | CC22: -10376.925 | CD22: -10775.701 | CE22: -9786.4684 | CF22: -6860.1847 | CG22: -17865.81 | CH22: 967.1534 | CI22: 20951.789 | CJ22: -7212.3289 | CK22: -3383.8972 | CL22: -8148.27 | CM22: -11875.499 | CN22: -2112.565 | CO22: -3361.6781 | CP22: -2415.6565 | CQ22: -5485.322 | CR22: 5418.7014 | CS22: -13762.984 | CT22: -12273.807 | CU22: -155.53905 | CV22: -16083.959 | CW22: -3174.7381 | CX22: 158.60237 | CY22: -20289.651 | CZ22: -487.18825 | DA22: -2179.326 | DB22: -1531.7741 | DC22: -5193.4234 | DD22: -28157.017 | DE22: -9738.0262 | DF22: -4166.3799 | DG22: -10853.159 | DH22: -17748.189 | DI22: -7913.1061 | DJ22: -13600.38 | DK22: -18052.364 | DL22: -7505.7541 | DM22: -13369.929 | DN22: -13789.247 | DO22: -4561.3826 | DP22: -8096.4771 | DQ22: -13935.614 | DR22: -8204.3478 | DS22: -1933.6908 | DT22: -26016.01 | DU22: -9514.27 | DV22: -10441.919 | DW22: -14239.705 | DX22: -2652.9812 | DY22: -2794.2207 | DZ22: -5569.5347 | EA22: -2996.6078 | EB22: -1590.5904 | EC22: -12398.405 | ED22: 5515.3596 | EE22: -22252.309 | EF22: -30251.41 | EG22: 3031.3348 | EH22: -3500.0179 | EI22: -10328.338 | EJ22: -5680.9621 | EK22: -5428.5588 | EL22: -2286.7905 | EM22: 431.86782 | EN22: 9047.8668 | EO22: -6188.4126 | EP22: -29745.36 | EQ22: -10407.34 | ER22: -19921.301 | ES22: -2130.2244 | ET22: -3579.5743 | EU22: -16895.802 | EV22: 11046.363 | EW22: 2100.4786 | EX22: 4715.1422 | EY22: 14460.018 | EZ22: 25490.985 | FA22: -3728.6374 | FB22: 8084.2222 | FC22: 12894.236 | FD22: -21062.814 | FE22: 2299.653 | FF22: -239.35863 | FG22: -13445.008 | FH22: 6900.4124 | FI22: 9323.1474 | FJ22: 10018.645 | FK22: 7309.9834 | FL22: 7318.3287 | FM22: 11530.192 | FN22: 19566.964 | FO22: 71728.727 | FP22: -27912.843 | FQ22: 23039.955 | FR22: 10643.529 | FS22: -10181.711 | FT22: 18125.331 | FU22: 10061.414 | FV22: 12816.073 | FW22: 22266.948 | FX22: 26642.64 | FY22: -39588.913 | FZ22: 39140.824 | GA22: 70737.361 | GB22: -36712.038 | GC22: 23467.751 | GD22: 11046.957 | GE22: -12908.192 | GF22: 30736.429 | GG22: 19552.381 | GH22: 16137.851 | GI22: 9529.0319 | GJ22: 21259.453 | GK22: -4757.5844 | GL22: 909.18062 | GM22: 32321.456 | GN22: -46940.139 | GO22: 17413.544 | GP22: 25135.278 | GQ22: -2899.908 | GR22: 8224.0528 | GS22: 13491.199 | GT22: 3400.6474
A23: Juros nominais | C23: 8318.6552 | D23: 8110.6962 | E23: 8360.1696 | F23: 7095.7604 | G23: 7012.6402 | H23: 8788.0369 | I23: 6879.8216 | J23: 4986.183 | K23: 9339.5055 | L23: 11814.648 | M23: 14557.479 | N23: 9287.7497 | O23: 17036.881 | P23: 17684.166 | Q23: 14513.059 | R23: 12667.889 | S23: 6076.9618 | T23: 13620.996 | U23: 8974.8016 | V23: 14988.611 | W23: 13137.111 | X23: 11776.435 | Y23: 9636.5291 | Z23: 12718.398 | AA23: 8799.8684 | AB23: 11039.802 | AC23: 10161.24 | AD23: 10207.504 | AE23: 10020.345 | AF23: 10908.01 | AG23: 9895.9112 | AH23: 10234.48 | AI23: 11947.758 | AJ23: 11379.89 | AK23: 11248.624 | AL23: 10083.778 | AM23: 11396.977 | AN23: 12194.097 | AO23: 11658.473 | AP23: 13960.864 | AQ23: 13624.756 | AR23: 13746.399 | AS23: 15194.634 | AT23: 12274.604 | AU23: 13495.456 | AV23: 14261.685 | AW23: 13488.211 | AX23: 12937.603 | AY23: 11257.181 | AZ23: 17908.808 | BA23: 13350.266 | BB23: 13185.021 | BC23: 12824.207 | BD23: 7858.1716 | BE23: 17206.908 | BF23: 13688.462 | BG23: 15702.294 | BH23: 11263.232 | BI23: 13417.235 | BJ23: 12343.178 | BK23: 13177.385 | BL23: 14183.929 | BM23: 11229.836 | BN23: 14156.114 | BO23: 12769.485 | BP23: 17068.062 | BQ23: 10951.037 | BR23: 14347.684 | BS23: 11178.623 | BT23: 15691.086 | BU23: 16154.613 | BV23: 12315.478 | BW23: 12492.522 | BX23: 13391.451 | BY23: 15739.961 | BZ23: 11618.069 | CA23: 15175.84 | CB23: 16442.741 | CC23: 17270.579 | CD23: 19102.102 | CE23: 12825.894 | CF23: 6236.9791 | CG23: 9434.3565 | CH23: 11057.691 | CI23: 17215.172 | CJ23: 15049.404 | CK23: 10582.961 | CL23: 14857.917 | CM23: 13051.23 | CN23: 12738.797 | CO23: 13646.574 | CP23: 16319.477 | CQ23: 13344.551 | CR23: 16808.964 | CS23: 14969.205 | CT23: 15266.399 | CU23: 14375.446 | CV23: 14128.962 | CW23: 14263.478 | CX23: 17008.964 | CY23: 14617.387 | CZ23: 16342.456 | DA23: 15843.753 | DB23: 16947.242 | DC23: 15892.678 | DD23: 16159.174 | DE23: 16104.505 | DF23: 18524.986 | DG23: 19535.674 | DH23: 19280.554 | DI23: 19115.243 | DJ23: 20548.911 | DK23: 19640.598 | DL23: 22174.828 | DM23: 18987.554 | DN23: 18796.636 | DO23: 21662.702 | DP23: 17267.303 | DQ23: 20257.531 | DR23: 18367.815 | DS23: 20573.631 | DT23: 19661.313 | DU23: 18268.827 | DV23: 21037.405 | DW23: 17223.598 | DX23: 18716.991 | DY23: 16118.87 | DZ23: 17435.151 | EA23: 19118.056 | EB23: 13844.225 | EC23: 17005.211 | ED23: 16331.03 | EE23: 19102.116 | EF23: 22649.258 | EG23: 20250.594 | EH23: 19359.179 | EI23: 18007.672 | EJ23: 20199.549 | EK23: 17626.988 | EL23: 23393.45 | EM23: 21871.021 | EN23: 13848.485 | EO23: 17716.724 | EP23: 29920.132 | EQ23: 24012.639 | ER23: 30399.309 | ES23: 11645.895 | ET23: 16601.534 | EU23: 21511.14 | EV23: 21397.339 | EW23: 18691.115 | EX23: 27995.852 | EY23: 17016.414 | EZ23: 43884.605 | FA23: 21507.608 | FB23: 33522.024 | FC23: 47207.587 | FD23: 18021.545 | FE23: 56337.057 | FF23: 69488.633 | FG23: 2212.7925 | FH23: 52877.023 | FI23: 26933.069 | FJ23: 62752.923 | FK23: 49703.211 | FL23: 69993.08 | FM23: 17883.742 | FN23: 23490.132 | FO23: 52092.709 | FP23: 56218.267 | FQ23: 29787.289 | FR23: -648.473 | FS23: 23344.573 | FT23: 42497.647 | FU23: 22112.504 | FV23: 40587.32 | FW23: 40676.331 | FX23: 40457.782 | FY23: 36204.94 | FZ23: 41286.678 | GA23: 34499.429 | GB23: 36412.653 | GC23: 30775.899 | GD23: 43301.839 | GE23: 28330.718 | GF23: 36252.11 | GG23: 31510.813 | GH23: 28481.693 | GI23: 36012.047 | GJ23: 32049.085 | GK23: 35251.085 | GL23: 29128.765 | GM23: 33319.069 | GN23: 28314.033 | GO23: 28392.608 | GP23: 32495.804 | GQ23: 29651.04 | GR23: 39672.181 | GS23: 44449.967 | GT23: 25761.656
A24: Ajuste cambial | C24: -26791.509 | D24: 12622.433 | E24: -9083.6663 | F24: -3216.9541 | G24: 4986.4176 | H24: 20318.646 | I24: 40786.129 | J24: 67519.635 | K24: -45916.32 | L24: 98081.632 | M24: -27998.046 | N24: -1260.1765 | O24: -10859.096 | P24: -985.565 | Q24: 3833.5556 | R24: -21522.522 | S24: -46519.253 | T24: 7513.9602 | U24: -9150.8113 | V24: 8964.8384 | W24: 106.71587 | X24: -4114.8131 | Y24: -6361.1387 | Z24: 8736.6537 | AA24: -5616.1083 | AB24: 4486.0695 | AC24: -2403.5469 | AD24: -466.44432 | AE24: 2899.5508 | AF24: 14865.309 | AG24: -1732.5743 | AH24: -6466.1371 | AI24: -7363.1589 | AJ24: -5924.5629 | AK24: -167.00475 | AL24: -9781.2466 | AM24: -5659.0652 | AN24: -1865.6789 | AO24: -2057.5034 | AP24: 4788.8713 | AQ24: -8196.3189 | AR24: -7693.0299 | AS24: -3160.5311 | AT24: 2337.6841 | AU24: -1522.5613 | AV24: -8019.6201 | AW24: 1830.8188 | AX24: -2349.7316 | AY24: 5724.4546 | AZ24: -4794.3545 | BA24: -2842.6588 | BB24: 1141.52 | BC24: -2283.5001 | BD24: 4846.8359 | BE24: -2817.0361 | BF24: 308.97528 | BG24: -504.82983 | BH24: 371.72938 | BI24: -213.03974 | BJ24: -12.430383 | BK24: 142.39937 | BL24: 156.41517 | BM24: -145.09383 | BN24: 1817.9171 | BO24: 482.83581 | BP24: 5421.6357 | BQ24: 218.79576 | BR24: 3430.7744 | BS24: -6689.2244 | BT24: 10611.863 | BU24: 8588.8338 | BV24: -3814.7688 | BW24: 1315.5608 | BX24: 1261.4127 | BY24: 8904.3079 | BZ24: -7880.3698 | CA24: 7488.3747 | CB24: 7161.6502 | CC24: 4741.663 | CD24: 3305.8792 | CE24: -8910.6862 | CF24: -37451.962 | CG24: -27300.365 | CH24: -29204.561 | CI24: -541.14122 | CJ24: 2896.5794 | CK24: -7984.5572 | CL24: 8114.5943 | CM24: 17981.965 | CN24: 27120.919 | CO24: 2881.8904 | CP24: 10984.298 | CQ24: -2027.7569 | CR24: 15584.678 | CS24: 4953.6282 | CT24: -1130.4317 | CU24: 1510.1338 | CV24: -25265.874 | CW24: 12157.868 | CX24: 5753.043 | CY24: 9897.0335 | CZ24: -17070.601 | DA24: 3068.2406 | DB24: 9082.74 | DC24: 256.92372 | DD24: 13278.498 | DE24: -1791.2876 | DF24: -3433.7511 | DG24: 11743.884 | DH24: -1682.1523 | DI24: 3078.0977 | DJ24: 8669.5107 | DK24: 14952.881 | DL24: -1658.5733 | DM24: 5473.339 | DN24: 1444.5064 | DO24: -9091.3873 | DP24: -80921.955 | DQ24: 50460.945 | DR24: -37527.495 | DS24: -19824.075 | DT24: 41893.167 | DU24: 9229.3053 | DV24: -35209.232 | DW24: -23044.686 | DX24: -42208.58 | DY24: 358.71882 | DZ24: -9424.4549 | EA24: 4201.0989 | EB24: 2178.2716 | EC24: -264.1217 | ED24: -25164.778 | EE24: 20895.36 | EF24: 17843.216 | EG24: 4139.951 | EH24: -12454.955 | EI24: 3944.0573 | EJ24: -42044.733 | EK24: -26748.168 | EL24: -23901.529 | EM24: -26350.971 | EN24: 45479.415 | EO24: 8655.9258 | EP24: -38883.52 | EQ24: -5601.9121 | ER24: -26491.783 | ES24: 29521.978 | ET24: 22206.846 | EU24: 8527.6117 | EV24: -951.57447 | EW24: 11534.429 | EX24: -20490.903 | EY24: 8683.5064 | EZ24: -65547.131 | FA24: 2095.4777 | FB24: -35697.119 | FC24: -29465.842 | FD24: -1822.577 | FE24: -65757.44 | FF24: -100629.05 | FG24: 65610.044 | FH24: -57308.702 | FI24: 23711.205 | FJ24: -90708.308 | FK24: -78693.977 | FL24: -101745.2 | FM24: 35600.12 | FN24: 2722.4874 | FO24: -16721.507 | FP24: -42271.74 | FQ24: 19247.45 | FR24: 129173.11 | FS24: 33448.565 | FT24: -44521.619 | FU24: 118772.31 | FV24: -9045.8541 | FW24: -386.67936 | FX24: -1812.0484 | FY24: 20070.734 | FZ24: -65796.754 | GA24: 41680.64 | GB24: 40275.981 | GC24: 8501.0524 | GD24: -21152.535 | GE24: -9162.4036 | GF24: -13860.49 | GG24: -19761.4 | GH24: 54703.51 | GI24: -5071.2378 | GJ24: -6410.6832 | GK24: -33340.985 | GL24: 4673.7692 | GM24: -14251.234 | GN24: 44611.992 | GO24: -25256.831 | GP24: -24063.741 | GQ24: -47901.945 | GR24: -77793.988 | GS24: -36208.318 | GT24: 30757.012
A25: Dívida interna indexada ao câmbio | C25: -15330.11 | D25: =D9-C9 -> 7321.6176 | E25: =E9-D9 -> -5368.6511 | F25: =F9-E9 -> -1903.9809 | G25: =G9-F9 -> 2882.4759 | H25: =H9-G9 -> 11692.32 | I25: =I9-H9 -> 23251.784 | J25: =J9-I9 -> 34317.698 | K25: =K9-J9 -> -22291.714 | ... FC25: =FC9-FB9 -> -907.60794 | FD25: -61.058309 | FE25: -2086.5677 | FF25: -3215.5276 | FG25: 2133.4065 | FH25: -2441.3869 | FI25: 1145.4581 | FJ25: -4433.1735 | FK25: -3833.7699 | FL25: -4941.6202 | FM25: 1730.5864 | FN25: 124.39787 | FO25: -688.78376 | FP25: -1564.5243 | FQ25: 473.32727 | FR25: 3179.6784 | FS25: 824.20481 | FT25: -1096.8777 | FU25: 2887.5859 | FV25: -218.64033 | FW25: -19.1715 | FX25: -48.609362 | FY25: 480.09509 | FZ25: -1533.9257 | GA25: 943.05299 | GB25: 871.5663 | GC25: 175.67446 | GD25: -395.97995 | GE25: -97.095491 | GF25: -193.67981 | GG25: -269.89663 | GH25: 681.20573 | GI25: -60.535995 | GJ25: -24.759733 | GK25: -234.57381 | GL25: 34.829061 | GM25: -72.564027 | GN25: 142.24746 | GO25: -65.560163 | GP25: -9.6776672 | GQ25: 29.815754 | GR25: 86.867975 | GS25: -220.00857 | GT25: 292.76035
A26: Dívida externa - metodológico | C26: -11461.399 | D26: 5300.8153 | E26: -3715.0152 | F26: -1312.9732 | G26: 2103.9417 | H26: 8626.3258 | I26: 17534.345 | J26: 33201.936 | K26: -23624.606 | L26: 54736.408 | M26: -16201.27 | N26: -561.39453 | O26: -6769.5751 | P26: -584.04695 | Q26: 2375.9979 | R26: -13785.842 | S26: -30320.019 | T26: 4978.1707 | U26: -6149.006 | V26: 6147.4193 | W26: 53.787028 | X26: -2848.1046 | Y26: -4450.2003 | Z26: 6143.4805 | AA26: -3961.3744 | AB26: 3098.8956 | AC26: -1687.9407 | AD26: -325.7065 | AE26: 2067.6858 | AF26: 10629.779 | AG26: -1264.14 | AH26: -4724.2275 | AI26: -5501.7383 | AJ26: -4465.2318 | AK26: -121.1256 | AL26: -7637.183 | AM26: -4446.8797 | AN26: -1501.0541 | AO26: -1629.3926 | AP26: 3800.8334 | AQ26: -6337.0727 | AR26: -5956.7265 | AS26: -2428.4686 | AT26: 1788.0374 | AU26: -1154.9029 | AV26: -6060.1234 | AW26: 1383.7741 | AX26: -1754.2694 | AY26: 4220.5622 | AZ26: -3383.4277 | BA26: -1930.1885 | BB26: 731.85286 | BC26: -1382.245 | BD26: 2584.1755 | BE26: -1354.7159 | BF26: 181.85309 | BG26: -99.12929 | BH26: -6.6225659 | BI26: 80.178728 | BJ26: -188.62544 | BK26: 332.94411 | BL26: 245.11711 | BM26: -102.08737 | BN26: 2271.6487 | BO26: 593.60268 | BP26: 6113.0757 | BQ26: 236.77102 | BR26: 3752.5272 | BS26: -7245.5433 | BT26: 11427.937 | BU26: 9211.5035 | BV26: -4073.6389 | BW26: 1396.8893 | BX26: 1333.7271 | BY26: 9411.1853 | BZ26: -8315.9248 | CA26: 7898.9052 | CB26: 7539.1083 | CC26: 4986.7151 | CD26: 3455.8865 | CE26: -9312.4294 | CF26: -39104.317 | CG26: -28482.694 | CH26: -30452.821 | CI26: -563.21778 | CJ26: 3016.1235 | CK26: -8345.7594 | CL26: 8481.5482 | CM26: 18772.044 | CN26: 28287.736 | CO26: 3003.9062 | CP26: 11437.035 | CQ26: -2108.037 | CR26: 16208.879 | CS26: 5150.8709 | CT26: -1167.2459 | CU26: 1562.7287 | CV26: -22732.376 | CW26: 10949.179 | CX26: 5184.2979 | CY26: 8926.8497 | CZ26: -15390.159 | DA26: 2770.3868 | DB26: 8210.3118 | DC26: 232.88017 | DD26: 12049 | DE26: -1643.1097 | DF26: -3135.6236 | DG26: 10741.772 | DH26: -1539.0885 | DI26: 2836.6668 | DJ26: 8003.8341 | DK26: 13814.329 | DL26: -1513.1499 | DM26: 5093.3938 | DN26: 1367.8496 | DO26: -8545.889 | DP26: -76283.147 | DQ26: 47550.49 | DR26: -35368.94 | DS26: -18637.52 | DT26: 39355.376 | DU26: 8673.8007 | DV26: -33106.647 | DW26: -21260.959 | DX26: -40232.112 | DY26: 334.6261 | DZ26: -8874.1971 | EA26: 3955.7399 | EB26: 2051.6335 | EC26: -248.16388 | ED26: -23664.56 | EE26: 19626.131 | EF26: 16747.763 | EG26: 3886.1162 | EH26: -11697.597 | EI26: 3704.6649 | EJ26: -39663.996 | EK26: -25331.455 | EL26: -22690.417 | EM26: -25009.985 | EN26: 43379.371 | EO26: 8376.4654 | EP26: -37571.375 | EQ26: -5409.6644 | ER26: -25533.251 | ES26: 28462.497 | ET26: 21558.637 | EU26: 8280.1364 | EV26: -926.68548 | EW26: 11227.244 | EX26: -19938.215 | EY26: 8437.6734 | EZ26: -63657.068 | FA26: 2033.2983 | FB26: -34625.414 | FC26: -28558.234 | FD26: -1761.5187 | FE26: -63670.873 | FF26: -97413.52 | FG26: 63476.638 | FH26: -54867.315 | FI26: 22565.747 | FJ26: -86275.135 | FK26: -74860.207 | FL26: -96803.584 | FM26: 33869.533 | FN26: 2598.0895 | FO26: -16032.724 | FP26: -40707.216 | FQ26: 18774.123 | FR26: 125993.43 | FS26: 32624.361 | FT26: -43424.741 | FU26: 115884.73 | FV26: -8827.2137 | FW26: -367.50786 | FX26: -1763.439 | FY26: 19590.639 | FZ26: -64262.829 | GA26: 40737.587 | GB26: 39404.415 | GC26: 8325.378 | GD26: -20756.555 | GE26: -9065.3081 | GF26: -13666.81 | GG26: -19491.503 | GH26: 54022.304 | GI26: -5010.7018 | GJ26: -6385.9234 | GK26: -33106.411 | GL26: 4638.9401 | GM26: -14178.67 | GN26: 44469.744 | GO26: -25191.27 | GP26: -24054.064 | GQ26: -47931.761 | GR26: -77880.856 | GS26: -35988.309 | GT26: 30464.252
A27: Dívida externa - outros ajustes2/ | C27: 16.257127 | D27: 680.56373 | E27: -4076.4036 | F27: -245.23556 | G27: 869.8725 | H27: 72.13981 | I27: -2229.3909 | J27: 2015.6599 | K27: 5625.7367 | L27: 1062.1811 | M27: 772.81581 | N27: -1264.6897 | O27: -3204.5884 | P27: -1059.7891 | Q27: 4875.555 | R27: -1142.868 | S27: 1090.3627 | T27: 790.73124 | U27: 513.57026 | V27: 1219.7443 | W27: 5060.0257 | X27: 259.87513 | Y27: 2562.7147 | Z27: -402.17166 | AA27: 1584.4941 | AB27: 205.98337 | AC27: 397.33594 | AD27: -2509.3034 | AE27: 1283.1015 | AF27: 810.5454 | AG27: 1537.841 | AH27: -15.297493 | AI27: 1077.3756 | AJ27: -522.16643 | AK27: 2396.8196 | AL27: 1933.2983 | AM27: -580.00202 | AN27: 1.89063 | AO27: -815.29774 | AP27: -746.22621 | AQ27: 1178.9181 | AR27: 527.7462 | AS27: -1256.9504 | AT27: 473.38687 | AU27: 225.90446 | AV27: -205.26694 | AW27: 1041.7858 | AX27: -622.7348 | AY27: -1198.3251 | AZ27: 1546.4438 | BA27: 1150.11 | BB27: 363.974 | BC27: 1166.6216 | BD27: 197.50452 | BE27: -423.72807 | BF27: 250.11586 | BG27: 497.91028 | BH27: -266.2331 | BI27: 147.30875 | BJ27: -1297.9359 | BK27: -254.43775 | BL27: 1600.8308 | BM27: 1639.5743 | BN27: 1534.1551 | BO27: 1759.7694 | BP27: 2030.9563 | BQ27: -94.107031 | BR27: -887.37618 | BS27: -2324.2716 | BT27: -1258.4197 | BU27: -279.1394 | BV27: -4827.8888 | BW27: -1145.8195 | BX27: -5450.3021 | BY27: -1771.3868 | BZ27: -1735.539 | CA27: 6794.5666 | CB27: 3124.5846 | CC27: -465.62974 | CD27: 351.6977 | CE27: -470.23465 | CF27: -3943.2786 | CG27: -729.08244 | CH27: -11402.369 | CI27: -10697.088 | CJ27: 8627.2603 | CK27: 3729.4503 | CL27: -5539.7008 | CM27: 4352.0267 | CN27: -721.77127 | CO27: 1338.8271 | CP27: 956.87489 | CQ27: 213.16194 | CR27: -943.04439 | CS27: -209.53122 | CT27: -2659.1949 | CU27: 1762.3327 | CV27: 640.06535 | CW27: 995.79491 | CX27: 684.87285 | CY27: 34.16814 | CZ27: 2809.509 | DA27: -1582.4673 | DB27: -1984.7025 | DC27: 1131.0968 | DD27: -3017.9527 | DE27: -1301.6869 | DF27: 3464.1166 | DG27: -339.69727 | DH27: 604.01915 | DI27: -1085.3759 | DJ27: 53.857267 | DK27: -5694.9342 | DL27: -230.13731 | DM27: 743.78501 | DN27: -3417.8842 | DO27: -3219.2332 | DP27: 4948.0762 | DQ27: -4041.4476 | DR27: 2472.533 | DS27: -230.069 | DT27: -2400.7413 | DU27: 342.16786 | DV27: 1920.5189 | DW27: -2604.5165 | DX27: 4972.0627 | DY27: -1764.757 | DZ27: -2465.8588 | EA27: -1965.3429 | EB27: -2547.1708 | EC27: 2673.9387 | ED27: -1988.4587 | EE27: 817.46199 | EF27: 3954.384 | EG27: 2703.0492 | EH27: -503.66016 | EI27: -2561.546 | EJ27: 8571.6377 | EK27: 7321.3453 | EL27: -3492.7986 | EM27: 3383.2945 | EN27: -5778.2005 | EO27: -563.47254 | EP27: 1332.9331 | EQ27: 3232.8077 | ER27: 2828.8841 | ES27: -2942.4525 | ET27: 994.30971 | EU27: -2393.6432 | EV27: -962.55568 | EW27: -2290.1897 | EX27: 5152.3167 | EY27: 1093.1425 | EZ27: 6960.5063 | FA27: -762.80662 | FB27: 899.69619 | FC27: 3904.0904 | FD27: 7094.7387 | FE27: -568.80978 | FF27: 2068.5036 | FG27: -3974.6265 | FH27: 3032.0554 | FI27: -506.37389 | FJ27: 6407.4206 | FK27: 762.31908 | FL27: -655.65744 | FM27: -812.38505 | FN27: 7716.3585 | FO27: 1266.7789 | FP27: -1632.7625 | FQ27: -6288.2821 | FR27: -9643.5942 | FS27: -3760.2993 | FT27: 7414.9088 | FU27: -4657.2089 | FV27: 229.10965 | FW27: 2640.1874 | FX27: -2796.3432 | FY27: 7068.4345 | FZ27: 6222.0006 | GA27: 3179.7564 | GB27: -5022.4254 | GC27: -749.09417 | GD27: 1021.3326 | GE27: -1328.1043 | GF27: -3179.6582 | GG27: -1029.5529 | GH27: -5663.1673 | GI27: -1679.8018 | GJ27: 2547.4666 | GK27: 3602.0357 | GL27: 6.8876938 | GM27: -2086.4112 | GN27: -1068.2591 | GO27: 4805.1614 | GP27: -2851.4011 | GQ27: 4438.7068 | GR27: -2261.1869 | GS27: 2357.886 | GT27: 5357.2636
A28: Reconhecimento de dívidas | C28: 31223.713 | D28: =D12-C12 -> 866.2169 | E28: =E12-D12 -> 4109.051 | F28: =F12-E12 -> 117.82423 | G28: =G12-F12 -> 1.38895 | H28: =H12-G12 -> 2.22906 | I28: =I12-H12 -> 1137.0382 | J28: =J12-I12 -> -2114.976 | K28: =K12-J12 -> -149.22106 | ... FC28: =FC12-FB12 -> -295 | FD28: -369 | FE28: -256 | FF28: -94 | FG28: -358 | FH28: 462 | FI28: -318 | FJ28: -462 | FK28: 30 | FL28: 1179 | FM28: 2293.023 | FN28: 1500.496 | FO28: 1011.3 | FP28: 116 | FQ28: -420 | FR28: -1453 | FS28: -1083 | FT28: -997 | FU28: 4283.6836 | FV28: -2415 | FW28: 1246 | FX28: -940 | FY28: -685 | FZ28: 314.48098 | GA28: -408.66107 | GB28: -311 | GC28: -632 | GD28: -1418.8168 | GE28: -518 | GF28: 162 | GG28: 7480.1654 | GH28: -478 | GI28: 791.76171 | GJ28: 2960.6422 | GK28: -251 | GL28: 264 | GM28: 92 | GN28: -924 | GO28: -474 | GP28: 855 | GQ28: 1438.0327 | GR28: 732.578 | GS28: -104 | GT28: -2431.9417
A29: Privatizações | C29: -789.3 | D29: =D13-C13 -> -182.914 | E29: -864 | F29: 0 | G29: 0 | H29: -2590.276 | I29: 0 | J29: 0 | K29: 0 | L29: 0 | M29: 0 | N29: 0 | O29: 0 | P29: 0 | Q29: 0 | R29: 0 | S29: 0 | T29: 0 | U29: 0 | V29: 0 | W29: 0 | X29: 0 | Y29: 0 | Z29: 0 | AA29: 0 | AB29: 0 | AC29: -78.00187 | AD29: 0 | AE29: 0 | AF29: 0 | AG29: 0 | AH29: 0 | AI29: 0 | AJ29: 0 | AK29: 0 | AL29: -675 | AM29: 0 | AN29: 0 | AO29: 0 | AP29: 0 | AQ29: 0 | AR29: 0 | AS29: 0 | AT29: 0 | AU29: 0 | AV29: 0 | AW29: 0 | AX29: -953.95599 | AY29: 0 | AZ29: -700 | BA29: 116.6559 | BB29: 0 | BC29: 0 | BD29: 0 | BE29: 0 | BF29: -1213.1696 | BG29: -252.93466 | BH29: 0 | BI29: 0 | BJ29: 0 | BK29: 0 | BL29: 0 | BM29: 0 | BN29: 0 | BO29: 0 | BP29: 0 | BQ29: 0 | BR29: -1264.9576 | BS29: 0 | BT29: 0 | BU29: 0 | BV29: 0 | BW29: 0 | BX29: 0 | BY29: 0 | BZ29: 0 | CA29: 0 | CB29: 0 | CC29: 0 | CD29: 0 | CE29: 0 | CF29: 0 | CG29: 0 | CH29: -685 | CI29: -81.68 | CJ29: 0 | CK29: 0 | CL29: -310.93 | CM29: -313.421 | CN29: -315.7305 | CO29: -318.40887 | CP29: -320.75447 | CQ29: -323.03407 | CR29: -325.38222 | CS29: -327.74743 | CT29: -329.80395 | CU29: -332.20131 | CV29: -334.39572 | CW29: -336.82633 | CX29: -338.82825 | CY29: -341.29121 | CZ29: -343.49769 | DA29: -346.20201 | DB29: -349.1375 | DC29: -352.04643 | DD29: 0 | DE29: 0 | DF29: 0 | DG29: 0 | DH29: 0 | DI29: 0 | DJ29: 0 | DK29: 0 | DL29: 0 | DM29: 0 | DN29: 0 | DO29: 0 | DP29: 0 | DQ29: 0 | DR29: 0 | DS29: 0 | DT29: 0 | DU29: 0 | DV29: 0 | DW29: 0 | DX29: 0 | DY29: 0 | DZ29: 0 | EA29: 0 | EB29: 0 | EC29: 0 | ED29: 0 | EE29: 0 | EF29: 0 | EG29: 0 | EH29: 0 | EI29: 0 | EJ29: 0 | EK29: 0 | EL29: 0 | EM29: -547.40892 | EN29: 0 | EO29: 0 | EP29: 0 | EQ29: 0 | ER29: 0 | ES29: 0 | ET29: 0 | EU29: 0 | EV29: 0 | EW29: 0 | EX29: 0 | EY29: 0 | EZ29: 0 | FA29: 0 | FB29: 0 | FC29: 0 | FD29: 0 | FE29: 0 | FF29: 0 | FG29: 0 | FH29: 0 | FI29: 0 | FJ29: 0 | FK29: 0 | FL29: 0 | FM29: 0 | FN29: 0 | FO29: 0 | FP29: 0 | FQ29: 0 | FR29: 0 | FS29: 0 | FT29: 0 | FU29: 0 | FV29: 0 | FW29: 0 | FX29: 0 | FY29: 0 | FZ29: 0 | GA29: -881.97758 | GB29: 0 | GC29: -1104.3034 | GD29: 0 | GE29: 0 | GF29: 0 | GG29: 0 | GH29: 0 | GI29: 0 | GJ29: 0 | GK29: 0 | GL29: 0 | GM29: 0 | GN29: 0 | GO29: 0 | GP29: 0 | GQ29: 0 | GR29: 0 | GS29: 0 | GT29: 0
A31: PIB acumulado em doze meses - corrente | C31: 1315755.5 | D31: 1325599.6 | E31: 1335441.4 | F31: 1345582.3 | G31: 1358396.3 | H31: 1370746.6 | I31: 1389221.6 | J31: 1405319.2 | K31: 1420054.7 | L31: 1436491.7 | M31: 1453478.1 | N31: 1471562.8 | O31: 1488787.3 | P31: 1503589.9 | Q31: 1523486.4 | R31: 1543732.2 | S31: 1564734.4 | T31: 1580787.7 | U31: 1595356.7 | V31: 1614470.7 | W31: 1631490 | X31: 1654912 | Y31: 1676712.4 | Z31: 1694390.2 | AA31: 1717950.4 | AB31: 1735331.5 | AC31: 1746819.2 | AD31: 1765492.2 | AE31: 1781058 | AF31: 1800951.1 | AG31: 1828299.9 | AH31: 1853700.2 | AI31: 1878059.7 | AJ31: 1894202.4 | AK31: 1909813 | AL31: 1933090.2 | AM31: 1957751.2 | AN31: 1976732.7 | AO31: 1994573 | AP31: 2012678.1 | AQ31: 2032903.1 | AR31: 2050900.9 | AS31: 2066440.5 | AT31: 2079143.4 | AU31: 2097211 | AV31: 2114047.4 | AW31: 2132693.9 | AX31: 2150566.8 | AY31: 2170584.5 | AZ31: 2192609.2 | BA31: 2210389.8 | BB31: 2225144.6 | BC31: 2232996.3 | BD31: 2253374 | BE31: 2271564.1 | BF31: 2294464.8 | BG31: 2317036.2 | BH31: 2336552.6 | BI31: 2361641.3 | BJ31: 2386570.9 | BK31: 2409449.9 | BL31: 2435015.7 | BM31: 2459237.3 | BN31: 2486602.5 | BO31: 2516700.4 | BP31: 2545363.7 | BQ31: 2575280.3 | BR31: 2602129.8 | BS31: 2627330.9 | BT31: 2649278.5 | BU31: 2676946.2 | BV31: 2699161 | BW31: 2720262.9 | BX31: 2746380.5 | BY31: 2776357.9 | BZ31: 2800895.2 | CA31: 2834561.9 | CB31: 2862962.2 | CC31: 2899765.6 | CD31: 2944038.6 | CE31: 2978255.1 | CF31: 3020522.3 | CG31: 3059105.4 | CH31: 3087863.3 | CI31: 3109803.1 | CJ31: 3122486.9 | CK31: 3133825.8 | CL31: 3153874.9 | CM31: 3164637.6 | CN31: 3178019.7 | CO31: 3187927.3 | CP31: 3195270.9 | CQ31: 3210275.9 | CR31: 3228168 | CS31: 3249541.6 | CT31: 3283901.4 | CU31: 3333039.4 | CV31: 3372087.7 | CW31: 3413806.6 | CX31: 3463309.6 | CY31: 3510858.7 | CZ31: 3558543.7 | DA31: 3603877 | DB31: 3650909.3 | DC31: 3700894 | DD31: 3748968.6 | DE31: 3792038.4 | DF31: 3843656.3 | DG31: 3885847 | DH31: 3930197.1 | DI31: 3979575.5 | DJ31: 4015980.1 | DK31: 4058127.9 | DL31: 4108533.5 | DM31: 4158546.8 | DN31: 4199407.4 | DO31: 4242188 | DP31: 4272945.8 | DQ31: 4306822.5 | DR31: 4340097.9 | DS31: 4376382 | DT31: 4410804.5 | DU31: 4443541.7 | DV31: 4489330.1 | DW31: 4522659 | DX31: 4557322.6 | DY31: 4585748.1 | DZ31: 4627801.2 | EA31: 4671523 | EB31: 4703862.8 | EC31: 4748427.5 | ED31: 4782967.9 | EE31: 4814760 | EF31: 4861585.7 | EG31: 4892830.5 | EH31: 4926881.4 | EI31: 4983739.5 | EJ31: 5022317.4 | EK31: 5066319.1 | EL31: 5110505.3 | EM31: 5143998.6 | EN31: 5189998.1 | EO31: 5235116.9 | EP31: 5278940.7 | EQ31: 5331619 | ER31: 5377621.7 | ES31: 5434673.5 | ET31: 5476093.2 | EU31: 5512988.4 | EV31: 5554029 | EW31: 5575899.7 | EX31: 5606609.3 | EY31: 5638264 | EZ31: 5683883.4 | FA31: 5718125.6 | FB31: 5747796.2 | FC31: 5778953 | FD31: 5799372 | FE31: 5810147.8 | FF31: 5849467.3 | FG31: 5866615.5 | FH31: 5877104.7 | FI31: 5907087.6 | FJ31: 5927827.3 | FK31: 5943110.7 | FL31: 5953164.4 | FM31: 5968181.5 | FN31: 5982753.8 | FO31: 5995787 | FP31: 6003728 | FQ31: 6027709 | FR31: 6036767.5 | FS31: 6051740.5 | FT31: 6072706.3 | FU31: 6112556.4 | FV31: 6132706.3 | FW31: 6164162.6 | FX31: 6178838.3 | FY31: 6185937.2 | FZ31: 6213957 | GA31: 6259227.8 | GB31: 6296900 | GC31: 6320104.9 | GD31: 6346698.1 | GE31: 6363444.4 | GF31: 6400203.7 | GG31: 6421855.1 | GH31: 6448224.4 | GI31: 6471161.4 | GJ31: 6488752.9 | GK31: 6512243.9 | GL31: 6537481.1 | GM31: 6559940.3 | GN31: 6586990 | GO31: 6602485 | GP31: 6616011.2 | GQ31: 6660461.2 | GR31: 6672307 | GS31: 6678340.3 | GT31: 6734017.4
A33: 1/ Os fatores condicionantes da dívida líquida como percentual do PIB consideram o total dos fatores, dividido pelo PIB corrente acumulado nos últimos 12 meses, segundo a fórmula:
A34: (∑FatoresCondicionantes/PIB12MesesCorrentes)*100. Não reflete a variação da dívida em percentagem do PIB.
A35: 2/ Inclui ajuste de paridade da cesta de moedas que integram as reservas internacionais e a dívida externa, e demais ajustes da área externa.
A36: 3/ Considera a variação da relação dívida/PIB devida ao crescimento verificado no PIB, calculada pela fórmula: Dt-1/(PIBMesAtual/PIBMesBase) - Dt-1 .
A37: * Dados preliminares.
A39: Metodologias de cálculo da NFSP
A40: Com desvalorização cambial (série desativada em dez.09)
