Workbook

Sheet Var. PIB Banco Mundial
A1: Venezuela - 2015-2017 | B1: FMI
A2: Brasil - 2015-2017 | B2: IBGE
A4: Country Name | B4: Country Code | C4: Indicator Name | D4: Indicator Code | E4: 1960 | F4: 1961 | G4: 1962 | H4: 1963 | I4: 1964 | J4: 1965 | K4: 1966 | L4: 1967 | M4: 1968 | N4: 1969 | O4: 1970 | P4: 1971 | Q4: 1972 | R4: 1973 | S4: 1974 | T4: 1975 | U4: 1976 | V4: 1977 | W4: 1978 | X4: 1979 | Y4: 1980 | Z4: 1981 | AA4: 1982 | AB4: 1983 | AC4: 1984 | AD4: 1985 | AE4: 1986 | AF4: 1987 | AG4: 1988 | AH4: 1989 | AI4: 1990 | AJ4: 1991 | AK4: 1992 | AL4: 1993 | AM4: 1994 | AN4: 1995 | AO4: 1996 | AP4: 1997 | AQ4: 1998 | AR4: 1999 | AS4: 2000 | AT4: 2001 | AU4: 2002 | AV4: 2003 | AW4: 2004 | AX4: 2005 | AY4: 2006 | AZ4: 2007 | BA4: 2008 | BB4: 2009 | BC4: 2010 | BD4: 2011 | BE4: 2012 | BF4: 2013 | BG4: 2014 | BH4: 2015 | BI4: 2016 | BJ4: 2017 | BK4: 2018*
A5: Aruba | B5: ABW | C5: GDP growth (annual %) | D5: NY.GDP.MKTP.KD.ZG | AN5: 1.2450859 | AO5: 7.8144317 | AP5: 6.6666218 | AQ5: 1.1544694 | AR5: 4.514062 | AS5: -0.36469578 | AT5: -2.1644594 | AU5: 0.46528987 | AV5: 7.5194724 | AW5: 1.1766905 | AX5: 0.38039097 | AY5: 2.3551194 | AZ5: -3.6546262 | BA5: -6.8813021 | BB5: -5.6535021
A6: Afghanistan | B6: AFG | C6: GDP growth (annual %) | D6: NY.GDP.MKTP.KD.ZG | AV6: 8.4441632 | AW6: 1.0555558 | AX6: 11.17527 | AY6: 5.5541376 | AZ6: 13.740205 | BA6: 3.6113684 | BB6: 21.020649 | BC6: 8.4332905 | BD6: 6.1136852 | BE6: 14.434741 | BF6: 3.9005749 | BG6: 2.6905219 | BH6: 1.3100404 | BI6: 2.3667119 | BJ6: 2.5955425
A7: Angola | B7: AGO | C7: GDP growth (annual %) | D7: NY.GDP.MKTP.KD.ZG | Z7: -4.4000012 | AA7: 0 | AB7: 4.2000014 | AC7: 6.0000022 | AD7: 3.4999995 | AE7: 2.9000017 | AF7: 4.0827486 | AG7: 6.1288905 | AH7: 0.041621462 | AI7: -3.4500987 | AJ7: 0.99135929 | AK7: -5.8382807 | AL7: -23.983417 | AM7: 1.3393634 | AN7: 15 | AO7: 13.54437 | AP7: 7.2742773 | AQ7: 4.6911464 | AR7: 2.1814897 | AS7: 3.0546242 | AT7: 4.2059986 | AU7: 13.665687 | AV7: 4.5540424 | AW7: 10.238357 | AX7: 20.907027 | AY7: 18.989035 | AZ7: 23.189597 | BA7: 13.817098 | BB7: 2.4129097 | BC7: 3.4528746 | BD7: 3.8733307 | BE7: 5.1775939 | BF7: 6.8427165 | BG7: 4.7039706 | BH7: 2.9997475 | BI7: -0.8134941 | BJ7: 0.72169927
A8: Albania | B8: ALB | C8: GDP growth (annual %) | D8: NY.GDP.MKTP.KD.ZG | Z8: 5.7456353 | AA8: 2.9485968 | AB8: 1.1049383 | AC8: -1.2515966 | AD8: 1.780644 | AE8: 5.6372432 | AF8: -0.78784266 | AG8: -1.4200397 | AH8: 9.836549 | AI8: -9.5756402 | AJ8: -29.588998 | AK8: -7.2 | AL8: 9.6 | AM8: 8.3 | AN8: 13.3 | AO8: 9.1 | AP8: -10.837856 | AQ8: 9.0088525 | AR8: 13.501173 | AS8: 6.6666205 | AT8: 7.9403314 | AU8: 4.231371 | AV8: 5.7734906 | AW8: 5.7095566 | AX8: 5.7208199 | AY8: 5.4310127 | AZ8: 5.9 | BA8: 3.7608537 | BB8: 3.3526102 | BC8: 3.7100578 | BD8: 2.5501609 | BE8: 1.4199675 | BF8: 1.0007546 | BG8: 1.7743687 | BH8: 2.2187521 | BI8: 3.3521592 | BJ8: 3.8413637
A9: Andorra | B9: AND | C9: GDP growth (annual %) | D9: NY.GDP.MKTP.KD.ZG | P9: 4.6494654 | Q9: 8.1497435 | R9: 7.7884672 | S9: 5.6187897 | T9: 0.54220566 | U9: 3.303787 | V9: 2.8385756 | W9: 1.4630002 | X9: 0.041557195 | Y9: 2.2087276 | Z9: -0.13247451 | AA9: 1.2464611 | AB9: 1.7701183 | AC9: 1.7846867 | AD9: 2.321433 | AE9: 3.2533218 | AF9: 5.5471222 | AG9: 5.0943262 | AH9: 4.8270342 | AI9: 3.7813876 | AJ9: 2.5460029 | AK9: 0.92921196 | AL9: -1.031484 | AM9: 2.3831877 | AN9: 2.7574992 | AO9: 4.6497401 | AP9: 9.0676722 | AQ9: 3.1947903 | AR9: 4.0990808 | AS9: 3.5283613 | AT9: 4.5467683 | AU9: 6.4710147 | AV9: 12.16872 | AW9: 7.6478698 | AX9: 7.3969827 | AY9: 4.5363531 | AZ9: 0.040011067 | BA9: -8.5900038 | BB9: -3.6906535 | BC9: -5.3588258 | BD9: -4.6465431 | BE9: -1.6152182 | BF9: 0.351645 | BG9: 2.2776832 | BH9: 0.84220352 | BI9: 1.8891244 | BJ9: 1.8731966
A10: Arab World | B10: ARB | C10: GDP growth (annual %) | D10: NY.GDP.MKTP.KD.ZG | U10: 15.903152 | V10: 8.5055011 | W10: -0.79847625 | X10: 11.605057 | Y10: 9.1450675 | Z10: 2.6870838 | AA10: -8.9925725 | AB10: -6.573569 | AC10: 1.0664045 | AD10: -2.1646095 | AE10: 4.4628887 | AF10: -0.6263867 | AG10: 5.5887753 | AH10: 2.1210007 | AI10: 13.141355 | AJ10: 1.5361107 | AK10: 4.80047 | AL10: 3.2103481 | AM10: 3.2134361 | AN10: 2.7565988 | AO10: 4.5115901 | AP10: 4.2201165 | AQ10: 5.1542517 | AR10: 1.8621561 | AS10: 5.3577961 | AT10: 1.6236886 | AU10: 0.62911881 | AV10: 5.3084323 | AW10: 9.3312442 | AX10: 5.7224551 | AY10: 6.4841007 | AZ10: 4.535161 | BA10: 5.78013 | BB10: 0.46493903 | BC10: 4.748925 | BD10: 3.6092379 | BE10: 6.6952259 | BF10: 3.1343291 | BG10: 2.4536289 | BH10: 3.2775418 | BI10: 3.0046947 | BJ10: 1.192246
A11: United Arab Emirates | B11: ARE | C11: GDP growth (annual %) | D11: NY.GDP.MKTP.KD.ZG | U11: 16.526857 | V11: 21.43933 | W11: -1.5896033 | X11: 20.923573 | Y11: 23.874775 | Z11: 4.6591767 | AA11: -6.7193162 | AB11: -4.7458207 | AC11: 4.0169513 | AD11: -3.5944765 | AE11: -14.958137 | AF11: 3.3819817 | AG11: -2.6189077 | AH11: 12.337891 | AI11: 18.327986 | AJ11: 0.86008195 | AK11: 3.3449449 | AL11: 1.261191 | AM11: 6.8961486 | AN11: 6.6878865 | AO11: 5.7984041 | AP11: 8.1903986 | AQ11: 0.29199435 | AR11: 2.9022136 | AS11: 10.852704 | AT11: 1.399085 | AU11: 2.4334568 | AV11: 8.8005408 | AW11: 9.5664366 | AX11: 4.8551412 | AY11: 9.8373198 | AZ11: 3.1843902 | BA11: 3.1918363 | BB11: -5.2429219 | BC11: 1.60281 | BD11: 6.9302716 | BE11: 4.4846261 | BF11: 5.0533458 | BG11: 4.3986967 | BH11: 5.0647015 | BI11: 2.9884418 | BJ11: 0.79040039
A12: Argentina | B12: ARG | C12: GDP growth (annual %) | D12: NY.GDP.MKTP.KD.ZG | F12: 5.4278429 | G12: -0.85202152 | H12: -5.3081968 | I12: 10.130298 | J12: 10.569433 | K12: -0.65972617 | L12: 3.1919966 | M12: 4.8225008 | N12: 9.679526 | O12: 3.0456433 | P12: 5.6581311 | Q12: 1.6284165 | R12: 2.811754 | S12: 5.5338044 | T12: -0.028412103 | U12: -2.0182515 | V12: 6.9341478 | W12: -4.5061248 | X12: 10.222763 | Y12: 4.1517623 | Z12: -5.689528 | AA12: -4.9571785 | AB12: 3.8751234 | AC12: 2.2117735 | AD12: -7.5866772 | AE12: 7.8757798 | AF12: 2.9099931 | AG12: -2.5569049 | AH12: -7.4961896 | AI12: -2.3989592 | AJ12: 12.66971 | AK12: 11.940775 | AL12: 5.9069195 | AM12: 5.8362007 | AN12: -2.8452096 | AO12: 5.5266898 | AP12: 8.1110468 | AQ12: 3.8501789 | AR12: -3.385457 | AS12: -0.78899894 | AT12: -4.4088397 | AU12: -10.894485 | AV12: 8.8370408 | AW12: 9.0295733 | AX12: 8.8516599 | AY12: 8.0471515 | AZ12: 9.0076509 | BA12: 4.0572331 | BB12: -5.9185251 | BC12: 10.125398 | BD12: 6.0039517 | BE12: -1.0264205 | BF12: 2.4053238 | BG12: -2.5126153 | BH12: 2.7311598 | BI12: -1.8225422 | BJ12: 2.8639229 | BK12: 2
A13: Armenia | B13: ARM | C13: GDP growth (annual %) | D13: NY.GDP.MKTP.KD.ZG | AJ13: -11.699998 | AK13: -41.800003 | AL13: -8.7999988 | AM13: 5.4000028 | AN13: 6.8999984 | AO13: 5.8654008 | AP13: 3.3210797 | AQ13: 7.3 | AR13: 3.3 | AS13: 5.9 | AT13: 9.5566415 | AU13: 13.186301 | AV13: 14.040795 | AW13: 10.467842 | AX13: 13.865711 | AY13: 13.198004 | AZ13: 13.749202 | BA13: 6.9 | BB13: -14.149989 | BC13: 2.2 | BD13: 4.7 | BE13: 7.2 | BF13: 3.3 | BG13: 3.6 | BH13: 3.2 | BI13: 0.2 | BJ13: 7.5
A14: American Samoa | B14: ASM | C14: GDP growth (annual %) | D14: NY.GDP.MKTP.KD.ZG | AV14: 0.81411126 | AW14: 0.53835801 | AX14: -0.40160643 | AY14: -4.1666667 | AZ14: 1.9635344 | BA14: -2.6134801 | BB14: -4.2372881 | BC14: 0.44247788 | BD14: 0.29368576 | BE14: -4.3923865 | BF14: -2.7565084 | BG14: 0.94488189 | BH14: 1.2480499 | BI14: -2.6194145
A15: Antigua and Barbuda | B15: ATG | C15: GDP growth (annual %) | D15: NY.GDP.MKTP.KD.ZG | W15: 4.3836212 | X15: 8.0797424 | Y15: 8.1614353 | Z15: 3.8149168 | AA15: -0.08400885 | AB15: 5.3640096 | AC15: 10.165001 | AD15: 7.6437905 | AE15: 11.493828 | AF15: 6.6263707 | AG15: 5.2132686 | AH15: 5.2522781 | AI15: 3.0116458 | AJ15: 2.1768731 | AK15: 1.1583263 | AL15: 5.2800715 | AM15: 6.6761952 | AN15: -4.359494 | AO15: 6.6048181 | AP15: 5.4711319 | AQ15: 4.7313137 | AR15: 3.7078946 | AS15: 6.6917424 | AT15: -4.9540747 | AU15: 1.0241009 | AV15: 6.0579085 | AW15: 5.7364602 | AX15: 6.4124052 | AY15: 12.728507 | AZ15: 9.2594206 | BA15: -0.030133268 | BB15: -12.107536 | BC15: -7.2000245 | BD15: -2.079127 | BE15: 3.5066092 | BF15: -0.10393914 | BG15: 5.1019404 | BH15: 4.060219 | BI15: 5.3424794 | BJ15: 3.3370492
A16: Australia | B16: AUS | C16: GDP growth (annual %) | D16: NY.GDP.MKTP.KD.ZG | F16: 2.485605 | G16: 1.2964777 | H16: 6.2142784 | I16: 6.9787237 | J16: 5.98345 | K16: 2.3824912 | L16: 6.3023857 | M16: 5.0958681 | N16: 7.0441587 | O16: 7.1721825 | P16: 4.0039303 | Q16: 3.912691 | R16: 2.6138195 | S16: 4.1025894 | T16: 1.3503381 | U16: 2.5879462 | V16: 3.5973772 | W16: 0.89677039 | X16: 4.0435141 | Y16: 3.0342065 | Z16: 3.3378583 | AA16: 3.3281194 | AB16: -2.2201438 | AC16: 4.5811398 | AD16: 5.2492065 | AE16: 4.0551349 | AF16: 2.5053241 | AG16: 5.6810535 | AH16: 3.8675966 | AI16: 3.564551 | AJ16: -0.38754649 | AK16: 0.44261583 | AL16: 4.0390789 | AM16: 3.978534 | AN16: 3.8293688 | AO16: 3.8786313 | AP16: 3.9664205 | AQ16: 4.5767394 | AR16: 5.0180639 | AS16: 3.9431891 | AT16: 1.9331057 | AU16: 4.0030223 | AV16: 2.9857449 | AW16: 4.0011055 | AX16: 3.1903163 | AY16: 2.8342325 | AZ16: 3.777329 | BA16: 3.6577668 | BB16: 1.9227273 | BC16: 2.052942 | BD16: 2.4511051 | BE16: 3.89194 | BF16: 2.6394824 | BG16: 2.5583375 | BH16: 2.3511364 | BI16: 2.8273105 | BJ16: 1.9575754
A17: Austria | B17: AUT | C17: GDP growth (annual %) | D17: NY.GDP.MKTP.KD.ZG | F17: 5.5379793 | G17: 2.6486751 | H17: 4.1382676 | I17: 6.1243537 | J17: 3.4801749 | K17: 5.6428614 | L17: 3.0080478 | M17: 4.4723128 | N17: 6.2758672 | O17: 6.3211425 | P17: 5.1149687 | Q17: 6.207861 | R17: 4.8904354 | S17: 3.9421381 | T17: -0.36373574 | U17: 4.5784454 | V17: 5.0799808 | W17: -0.21065345 | X17: 5.3566998 | Y17: 1.7314854 | Z17: -0.14429452 | AA17: 2.0112544 | AB17: 2.973088 | AC17: 0.051275253 | AD17: 2.4986785 | AE17: 2.3013928 | AF17: 1.357168 | AG17: 3.2958802 | AH17: 3.8870748 | AI17: 4.3456416 | AJ17: 3.4416274 | AK17: 2.0935247 | AL17: 0.52680948 | AM17: 2.4021188 | AN17: 2.6679837 | AO17: 2.3495351 | AP17: 2.0935965 | AQ17: 3.581431 | AR17: 3.5563302 | AS17: 3.375722 | AT17: 1.2671705 | AU17: 1.6515494 | AV17: 0.94147331 | AW17: 2.7351185 | AX17: 2.2440668 | AY17: 3.454041 | AZ17: 3.7274152 | BA17: 1.4604252 | BB17: -3.7645805 | BC17: 1.8370946 | BD17: 2.9227976 | BE17: 0.68044437 | BF17: 0.025504101 | BG17: 0.82873388 | BH17: 1.0918542 | BI17: 1.4509154 | BJ17: 3.0352727
A18: Azerbaijan | B18: AZE | C18: GDP growth (annual %) | D18: NY.GDP.MKTP.KD.ZG | AJ18: -0.69999996 | AK18: -22.6 | AL18: -23.1 | AM18: -19.7 | AN18: -11.800001 | AO18: 1.3000002 | AP18: 5.8000005 | AQ18: 10 | AR18: 7.4000006 | AS18: 11.099999 | AT18: 9.9 | AU18: 10.599999 | AV18: 11.2 | AW18: 10.2 | AX18: 26.400001 | AY18: 34.5 | AZ18: 25.049 | BA18: 10.772421 | BB18: 9.4106538 | BC18: 4.8543393 | BD18: 0.065922768 | BE18: 2.2000002 | BF18: 5.7966784 | BG18: 2 | BH18: 1.0999998 | BI18: -3.1000002 | BJ18: 0.099999814
A19: Burundi | B19: BDI | C19: GDP growth (annual %) | D19: NY.GDP.MKTP.KD.ZG | F19: -13.746135 | G19: 9.0631579 | H19: 4.1354074 | I19: 6.2730379 | J19: 3.9672256 | K19: 4.6129929 | L19: 13.821519 | M19: -0.29788367 | N19: -1.4595411 | O19: 21.325671 | P19: 2.7468287 | Q19: -6.4039649 | R19: 6.8890507 | S19: -0.72683956 | T19: 0.69792024 | U19: 7.942661 | V19: 11.469453 | W19: -0.94057599 | X19: 1.664955 | Y19: 0.99105573 | Z19: 12.163276 | AA19: -1.0535998 | AB19: 3.715327 | AC19: 0.155544 | AD19: 11.78318 | AE19: 3.2501805 | AF19: 5.5030961 | AG19: 5.0310244 | AH19: 1.3495022 | AI19: 3.4998221 | AJ19: 4.9968365 | AK19: 1.0099984 | AL19: -6.24 | AM19: -3.83 | AN19: -7.92 | AO19: -8 | AP19: -1.59 | AQ19: 4.75 | AR19: -1.01 | AS19: -0.85686406 | AT19: 2.0558071 | AU19: 4.4465194 | AV19: -1.223728 | AW19: 4.8336578 | AX19: 0.9 | AY19: 5.3846574 | AZ19: 4.785832 | BA19: 5.0481188 | BB19: 3.4684254 | BC19: 3.7859025 | BD19: 4.1916257 | BE19: 4.0193655 | BF19: 4.5940542 | BG19: 4.6609182 | BH19: -3.9211428 | BI19: -0.57043445 | BJ19: 0.51913901
A20: Belgium | B20: BEL | C20: GDP growth (annual %) | D20: NY.GDP.MKTP.KD.ZG | F20: 4.9784231 | G20: 5.2120035 | H20: 4.3515843 | I20: 6.9566847 | J20: 3.5606598 | K20: 3.155895 | L20: 3.8681469 | M20: 4.1941296 | N20: 6.6297998 | O20: 5.5918026 | P20: 3.9858274 | Q20: 5.2956044 | R20: 6.3817021 | S20: 4.5652581 | T20: -1.9659416 | U20: 5.6527459 | V20: 0.6261548 | W20: 2.8418966 | X20: 2.3410731 | Y20: 4.444054 | Z20: -0.2792836 | AA20: 0.59498694 | AB20: 0.31184273 | AC20: 2.4663827 | AD20: 1.6517928 | AE20: 1.8227621 | AF20: 2.3066594 | AG20: 4.7232089 | AH20: 3.4691668 | AI20: 3.1374025 | AJ20: 1.8330743 | AK20: 1.5306548 | AL20: -0.96187309 | AM20: 3.2269715 | AN20: 2.3847572 | AO20: 1.5934063 | AP20: 3.710445 | AQ20: 1.9752744 | AR20: 3.5633116 | AS20: 3.633652 | AT20: 0.81154361 | AU20: 1.7805063 | AV20: 0.77456723 | AW20: 3.6346807 | AX20: 2.0942727 | AY20: 2.5061401 | AZ20: 3.4489738 | BA20: 0.78317304 | BB20: -2.2531746 | BC20: 2.7442133 | BD20: 1.7983027 | BE20: 0.23479692 | BF20: 0.20065044 | BG20: 1.2932652 | BH20: 1.4269568 | BI20: 1.412292 | BJ20: 1.7297668
A21: Benin | B21: BEN | C21: GDP growth (annual %) | D21: NY.GDP.MKTP.KD.ZG | F21: 3.1412805 | G21: -3.4264098 | H21: 4.730028 | I21: 6.6507591 | J21: 5.2938628 | K21: 3.5758627 | L21: 1.0783987 | M21: 3.8423356 | N21: 2.877498 | O21: 2.0977576 | P21: -1.4968418 | Q21: 6.4263675 | R21: 3.7061653 | S21: 3.3393122 | T21: -4.8953454 | U21: 0.88435633 | V21: 4.9836637 | W21: 1.255078 | X21: 6.5357474 | Y21: 6.7817639 | Z21: 9.9542312 | AA21: 2.2350663 | AB21: -4.3478227 | AC21: 7.9298396 | AD21: 7.5303248 | AE21: 2.1711416 | AF21: -1.5000029 | AG21: 3.4052453 | AH21: -2.8541605 | AI21: 8.9761344 | AJ21: 4.2257994 | AK21: 2.9577108 | AL21: 5.8361721 | AM21: 2.0204004 | AN21: 6.0451986 | AO21: 4.324284 | AP21: 5.7346884 | AQ21: 3.9610121 | AR21: 5.3414494 | AS21: 5.8599921 | AT21: 5.3304109 | AU21: 4.64447 | AV21: 3.4440448 | AW21: 4.429629 | AX21: 1.7115776 | AY21: 3.9470137 | AZ21: 5.9865155 | BA21: 4.8898986 | BB21: 2.3293012 | BC21: 2.1101993 | BD21: 2.9627504 | BE21: 4.8164782 | BF21: 7.1897163 | BG21: 6.3518319 | BH21: 2.0958084 | BI21: 3.9648599 | BJ21: 5.5841951
A22: Burkina Faso | B22: BFA | C22: GDP growth (annual %) | D22: NY.GDP.MKTP.KD.ZG | F22: 4.043928 | G22: 6.1287988 | H22: -1.2680164 | I22: 2.2828192 | J22: 3.7645454 | K22: 0.53761308 | L22: 8.823315 | M22: 3.0707739 | N22: 2.026081 | O22: 0.11701961 | P22: 1.4133399 | Q22: 2.3114987 | R22: 0.4493274 | S22: 8.2864265 | T22: 2.9983829 | U22: 8.534895 | V22: 0.37035356 | W22: 4.607825 | X22: 3.6646215 | Y22: 0.79687887 | Z22: 4.2553034 | AA22: 9.5621966 | AB22: 0.34598474 | AC22: -1.7786967 | AD22: 8.517365 | AE22: 7.9553627 | AF22: -0.23633679 | AG22: 5.795593 | AH22: 2.1502673 | AI22: -0.60292848 | AJ22: 9.0699845 | AK22: 0.23271076 | AL22: 3.4613849 | AM22: 1.3150073 | AN22: 5.7163739 | AO22: 11.014744 | AP22: 6.3168347 | AQ22: 7.3077196 | AR22: 7.404179 | AS22: 1.8202419 | AT22: 6.6133996 | AU22: 4.3530043 | AV22: 7.8024399 | AW22: 4.4784743 | AX22: 8.6618616 | AY22: 6.2531586 | AZ22: 5.6550051 | BA22: 7.2944982 | BB22: 2.9620144 | BC22: 5.3733731 | BD22: 6.6268652 | BE22: 6.4526988 | BF22: 5.7925893 | BG22: 4.3268374 | BH22: 3.8945481 | BI22: 5.9245776 | BJ22: 6.7426535
A23: Bangladesh | B23: BGD | C23: GDP growth (annual %) | D23: NY.GDP.MKTP.KD.ZG | F23: 6.0581608 | G23: 5.453031 | H23: -0.45589429 | I23: 10.952789 | J23: 1.6062582 | K23: 2.566812 | L23: -1.8758639 | M23: 9.489454 | N23: 1.2208579 | O23: 5.6198523 | P23: -5.479483 | Q23: -13.973729 | R23: 3.3256802 | S23: 9.5919563 | T23: -4.0882141 | U23: 5.6613612 | V23: 2.6730561 | W23: 7.0738377 | X23: 4.8016346 | Y23: 0.81914187 | Z23: 7.2339437 | AA23: 2.1343278 | AB23: 3.8810464 | AC23: 4.80331 | AD23: 3.3420147 | AE23: 4.1733826 | AF23: 3.7724019 | AG23: 2.4162569 | AH23: 2.8365821 | AI23: 5.6222582 | AJ23: 3.4852278 | AK23: 5.4426856 | AL23: 4.7115617 | AM23: 3.8901264 | AN23: 5.1212779 | AO23: 4.5229192 | AP23: 4.4898965 | AQ23: 5.1770269 | AR23: 4.6701564 | AS23: 5.2932947 | AT23: 5.0772878 | AU23: 3.8331239 | AV23: 4.7395674 | AW23: 5.2395329 | AX23: 6.5359449 | AY23: 6.6718683 | AZ23: 7.0586362 | BA23: 6.0137898 | BB23: 5.0451248 | BC23: 5.5718023 | BD23: 6.4643839 | BE23: 6.5214351 | BF23: 6.0135961 | BG23: 6.0610931 | BH23: 6.5526333 | BI23: 7.1134652 | BJ23: 7.2842084
A24: Bulgaria | B24: BGR | C24: GDP growth (annual %) | D24: NY.GDP.MKTP.KD.ZG | Z24: 4.9001619 | AA24: 2.3345656 | AB24: 3.4303059 | AC24: 3.3964436 | AD24: 2.6834407 | AE24: 4.207602 | AF24: 6.0545138 | AG24: 10.944692 | AH24: -3.2898821 | AI24: -9.1173771 | AJ24: -8.4453552 | AK24: -7.2723879 | AL24: -1.4802148 | AM24: 1.8180112 | AN24: 2.8601894 | AO24: 0.70468068 | AP24: -1.0888202 | AQ24: 3.4627297 | AR24: -6.0098463 | AS24: 4.9405538 | AT24: 3.7702178 | AU24: 5.9375164 | AV24: 5.1562184 | AW24: 6.4353583 | AX24: 7.1235111 | AY24: 6.8743584 | AZ24: 7.3444219 | BA24: 6.0218834 | BB24: -3.5861456 | BC24: 1.3240878 | BD24: 1.9149059 | BE24: 0.030969869 | BF24: 0.86216509 | BG24: 1.3287567 | BH24: 3.6174596 | BI24: 3.9410978 | BJ24: 3.5616429
A25: Bahrain | B25: BHR | C25: GDP growth (annual %) | D25: NY.GDP.MKTP.KD.ZG | Z25: -5.3166974 | AA25: -7.5562177 | AB25: 6.3763768 | AC25: 5.003646 | AD25: -4.7582685 | AE25: 1.1829939 | AF25: 10.399009 | AG25: 6.9999916 | AH25: 0.36400714 | AI25: 4.4379972 | AJ25: 11.229999 | AK25: 6.6899984 | AL25: 12.870007 | AM25: -0.25000148 | AN25: 3.9299915 | AO25: 4.1100061 | AP25: 3.0929998 | AQ25: 4.7900028 | AR25: 4.299999 | AS25: 5.2999948 | AT25: 2.4910336 | AU25: 3.6141483 | AV25: 6.0239512 | AW25: 6.980947 | AX25: 6.7689397 | AY25: 6.4685677 | AZ25: 8.2924438 | BA25: 6.2451283 | BB25: 2.5397725 | BC25: 4.3344071 | BD25: 1.9838233 | BE25: 3.7322515 | BF25: 5.4165037 | BG25: 4.3498423 | BH25: 2.8619678 | BI25: 3.2159336 | BJ25: 3.8848305
A26: Bahamas, The | B26: BHS | C26: GDP growth (annual %) | D26: NY.GDP.MKTP.KD.ZG | F26: 10.667097 | G26: 10.451972 | H26: 10.524055 | I26: 10.501567 | J26: 10.425596 | K26: 9.0719287 | L26: 9.5981139 | M26: 8.4217636 | N26: 8.9816626 | O26: -5.6496495 | P26: 1.6265087 | Q26: -3.4973359 | R26: 7.5675688 | S26: -16.754229 | T26: -14.803126 | U26: 5.185185 | V26: 9.1549292 | W26: 14.17952 | X26: 26.139296 | Y26: 6.4952819 | Z26: -9.2264051 | AA26: 6.6988978 | AB26: 3.5970519 | AC26: 14.171149 | AD26: 4.8291801 | AE26: 1.7970002 | AF26: 2.9845193 | AG26: 2.3097077 | AH26: 6.7273298 | AI26: -1.5962491 | AJ26: -4.1817846 | AK26: -3.8255827 | AL26: 0.30780694 | AM26: 3.1489162 | AN26: 4.3787514 | AO26: 4.2235307 | AP26: 2.0622395 | AQ26: 4.7164822 | AR26: 7.1441148 | AS26: 4.149243 | AT26: 2.6256841 | AU26: 2.7045616 | AV26: -1.2647208 | AW26: 0.88283993 | AX26: 3.3953556 | AY26: 2.5168491 | AZ26: 1.4465446 | BA26: -2.323967 | BB26: -4.1752604 | BC26: 1.5387774 | BD26: 0.61289745 | BE26: 3.0866869 | BF26: -0.41042862 | BG26: -0.14798857 | BH26: 1.0449595 | BI26: -1.6895499 | BJ26: 1.4371913
A27: Bosnia and Herzegovina | B27: BIH | C27: GDP growth (annual %) | D27: NY.GDP.MKTP.KD.ZG | AN27: 20.800001 | AO27: 88.957665 | AP27: 34.389575 | AQ27: 15.599996 | AR27: 9.5999998 | AS27: 5.5000004 | AT27: 4.3999995 | AU27: 5.3000003 | AV27: 4.0000001 | AW27: 6.0999998 | AX27: 8.7582303 | AY27: 5.3784768 | AZ27: 5.7287569 | BA27: 5.5831276 | BB27: -2.9896626 | BC27: 0.86798323 | BD27: 0.95570451 | BE27: -0.82173696 | BF27: 2.3493907 | BG27: 1.1496281 | BH27: 3.0767473 | BI27: 3.1440774 | BJ27: 3.0313883
A28: Belarus | B28: BLR | C28: GDP growth (annual %) | D28: NY.GDP.MKTP.KD.ZG | AJ28: -1.1999956 | AK28: -9.6000013 | AL28: -7.600002 | AM28: -11.700004 | AN28: -10.400001 | AO28: 2.8000047 | AP28: 11.400005 | AQ28: 8.3999916 | AR28: 3.3999991 | AS28: 5.8000035 | AT28: 4.725306 | AU28: 5.0452673 | AV28: 7.0431927 | AW28: 11.449743 | AX28: 9.4000017 | AY28: 9.9999947 | AZ28: 8.6000065 | BA28: 10.2 | BB28: 0.19999524 | BC28: 7.7936979 | BD28: 5.5437107 | BE28: 1.7313928 | BF28: 1.0239855 | BG28: 1.7230857 | BH28: -3.8295694 | BI28: -2.5264506 | BJ28: 2.4219063
A29: Belize | B29: BLZ | C29: GDP growth (annual %) | D29: NY.GDP.MKTP.KD.ZG | F29: 4.8922772 | G29: 4.8926522 | H29: 4.9564342 | I29: 4.9998799 | J29: 4.930541 | K29: 4.7708451 | L29: 4.9131232 | M29: 7.3672255 | N29: 5.1063748 | O29: 4.8076934 | P29: 3.9594411 | Q29: 10.218304 | R29: 5.3518941 | S29: 13.559985 | T29: 3.5928244 | U29: -0.034020943 | V29: 6.4965943 | W29: 7.9208072 | X29: 7.5170215 | Y29: 15.166518 | Z29: 1.2906397 | AA29: -0.28315622 | AB29: -2.1060173 | AC29: 1.9579451 | AD29: 1.0668493 | AE29: 4.5742587 | AF29: 11.21578 | AG29: 9.2375965 | AH29: 13.090842 | AI29: 10.628576 | AJ29: 10.497042 | AK29: 12.035758 | AL29: 6.2765637 | AM29: 0.15793868 | AN29: 0.64397358 | AO29: 1.4287227 | AP29: 3.5451789 | AQ29: 3.7409566 | AR29: 8.7803715 | AS29: 13.038762 | AT29: 5.015663 | AU29: 5.1185594 | AV29: 9.3265379 | AW29: 4.650468 | AX29: 2.578742 | AY29: 4.5825603 | AZ29: 1.1043108 | BA29: 3.228495 | BB29: 0.71311775 | BC29: 3.3244422 | BD29: 2.1039508 | BE29: 3.8012925 | BF29: 0.71329984 | BG29: 4.0453028 | BH29: 3.794992 | BI29: -0.48653651 | BJ29: 0.88360367
A30: Bermuda | B30: BMU | C30: GDP growth (annual %) | D30: NY.GDP.MKTP.KD.ZG | F30: 4.68 | G30: 4.47 | H30: 1.07 | I30: 11.11 | J30: 4.76 | K30: 14.363636 | L30: 13.27504 | M30: 2.1052632 | N30: 3.4364261 | O30: 6.3122924 | P30: 3.4375 | Q30: 1.8126888 | R30: 1.4836795 | S30: 0.87719298 | T30: 3.7681159 | U30: 8.9385475 | V30: 5.8974359 | W30: 1.4527845 | X30: 2.1479714 | Y30: 7.9439252 | Z30: 2.3809524 | AA30: -5.2854123 | AB30: 2.0089286 | AC30: 0.48140044 | AD30: -2.0034843 | AE30: 6.6666667 | AF30: 3.75 | AG30: 4.0562249 | AH30: 0.44384408 | AI30: 0.019212296 | AJ30: -3.5343834 | AK30: -0.059737157 | AL30: 3.0085674 | AM30: 0.59961315 | AN30: 4.3991479 | AO30: 2.600476 | AP30: 4.6 | AQ30: 3.9 | AR30: 3.3826487 | AS30: 9.3171556 | AT30: 7.222436 | AU30: -1.4777904 | AV30: 3.4107062 | AW30: 2.3212665 | AX30: 1.6742071 | AY30: 5.5438659 | AZ30: 2.8458901 | BA30: 1.5278939 | BB30: -5.2841771 | BC30: -2.0941135 | BD30: -3.3394944 | BE30: -4.8345402 | BF30: -2.5111544
A31: Bolivia | B31: BOL | C31: GDP growth (annual %) | D31: NY.GDP.MKTP.KD.ZG | F31: 2.0799836 | G31: 5.5702253 | H31: 6.4207016 | I31: 4.7945596 | J31: 5.6250177 | K31: 6.4972957 | L31: 6.9088679 | M31: -12.169028 | N31: 3.0960136 | O31: -0.49482137 | P31: 5.0633363 | Q31: 7.9674855 | R31: 5.7391613 | S31: 2.9395681 | T31: 7.3110176 | U31: 4.6145673 | V31: 4.9712161 | W31: 2.0526944 | X31: 0.13334404 | Y31: -1.3717733 | Z31: 0.27561674 | AA31: -3.9387378 | AB31: -4.0421218 | AC31: -0.20067174 | AD31: -1.6763871 | AE31: -2.5738774 | AF31: 2.4634794 | AG31: 2.9095025 | AH31: 3.79013 | AI31: 4.6357859 | AJ31: 5.2665275 | AK31: 1.6464969 | AL31: 4.2692937 | AM31: 4.6672704 | AN31: 4.6782726 | AO31: 4.3613431 | AP31: 4.9542087 | AQ31: 5.0293523 | AR31: 0.42688958 | AS31: 2.5078076 | AT31: 1.6838009 | AU31: 2.4855648 | AV31: 2.7113407 | AW31: 4.1732943 | AX31: 4.4214348 | AY31: 4.7970092 | AZ31: 4.5643828 | BA31: 6.1484972 | BB31: 3.3570013 | BC31: 4.1267226 | BD31: 5.2040927 | BE31: 5.1222747 | BF31: 6.7960117 | BG31: 5.4605698 | BH31: 4.8571879 | BI31: 4.2639194 | BJ31: 4.195207 | BK31: 4
A32: Brazil | B32: BRA | C32: GDP growth (annual %) | D32: NY.GDP.MKTP.KD.ZG | F32: 10.275912 | G32: 5.2160594 | H32: 0.87467259 | I32: 3.4855823 | J32: 3.0534879 | K32: 4.1503602 | L32: 4.9152657 | M32: 11.427282 | N32: 9.7358269 | O32: 8.7699475 | P32: 11.295087 | Q32: 12.052802 | R32: 13.978692 | S32: 9.0421203 | T32: 5.2090759 | U32: 9.7904102 | V32: 4.6063181 | W32: 3.2317096 | X32: 6.766285 | Y32: 9.1109602 | Z32: -4.3933572 | AA32: 0.58024555 | AB32: -3.4097935 | AC32: 5.2691431 | AD32: 7.9458617 | AE32: 7.9882951 | AF32: 3.5996295 | AG32: -0.10267272 | AH32: 3.2794589 | AI32: -3.1023559 | AJ32: 1.5119372 | AK32: -0.46691321 | AL32: 4.665169 | AM32: 5.3345517 | AN32: 4.4167314 | AO32: 2.2075355 | AP32: 3.3950286 | AQ32: 0.33835618 | AR32: 0.46906659 | AS32: 4.1124842 | AT32: 1.382832 | AU32: 3.0540165 | AV32: 1.1398869 | AW32: 5.7644116 | AX32: 3.2021309 | AY32: 3.9619889 | AZ32: 6.0698707 | BA32: 5.0941954 | BB32: -0.12581203 | BC32: 7.5282257 | BD32: 3.9744231 | BE32: 1.921176 | BF32: 3.0048227 | BG32: 0.50395574 | BH32: -3.4627157 | BI32: -3.4627157 | BJ32: 0.98543643 | BK32: 2.3
A33: Barbados | B33: BRB | C33: GDP growth (annual %) | D33: NY.GDP.MKTP.KD.ZG | T33: -1.9 | U33: 4.4 | V33: 3.6 | W33: 4.9 | X33: 7.9 | Y33: 4.4 | Z33: -1.9 | AA33: -4.9 | AB33: 0.5 | AC33: 3.6 | AD33: 1.1 | AE33: 5.1 | AF33: 2.6 | AG33: 3.5 | AH33: 3.6 | AI33: -3.3 | AJ33: -3.9 | AK33: -7 | AL33: 1.2 | AM33: 3.8 | AN33: 2 | AO33: 4 | AP33: 4.7 | AQ33: 3.7 | AR33: 0.4 | AS33: 2.3 | AT33: -2.4 | AU33: 0.8 | AV33: 2.2 | AW33: 1.4 | AX33: 4 | AY33: 5.7 | AZ33: 1.8 | BA33: 0.1 | BB33: -4 | BC33: 0.3 | BD33: 0.7 | BE33: 0.3 | BF33: 0 | BG33: 0 | BH33: 0.9 | BI33: 2 | BJ33: 1.6710642
A34: Brunei Darussalam | B34: BRN | C34: GDP growth (annual %) | D34: NY.GDP.MKTP.KD.ZG | T34: 0.35546307 | U34: 20.155394 | V34: 10.916697 | W34: 6.7758344 | X34: 22.562429 | Y34: -6.996703 | Z34: -19.826716 | AA34: 3.9566549 | AB34: 0.50146597 | AC34: 0.59987654 | AD34: -1.4907491 | AE34: -2.71547 | AF34: 2.0091298 | AG34: 1.0973672 | AH34: -1.0741786 | AI34: 1.0894205 | AJ34: 3.1459414 | AK34: 4.7585808 | AL34: 0.30457287 | AM34: 3.1453974 | AN34: 4.4787073 | AO34: 2.8783177 | AP34: -1.4711716 | AQ34: -0.55850885 | AR34: 3.0521571 | AS34: 2.8494219 | AT34: 2.7440405 | AU34: 3.872097 | AV34: 2.9039555 | AW34: 0.50431825 | AX34: 0.38750721 | AY34: 4.3977197 | AZ34: 0.15458181 | BA34: -1.9397146 | BB34: -1.7645355 | BC34: 2.5989657 | BD34: 3.7453184 | BE34: 0.91284167 | BF34: -2.1260285 | BG34: -2.3497467 | BH34: -0.56681461 | BI34: -2.4655147 | BJ34: 1.3287514
A35: Bhutan | B35: BTN | C35: GDP growth (annual %) | D35: NY.GDP.MKTP.KD.ZG | Z35: 13.907729 | AA35: 3.4139415 | AB35: 11.310714 | AC35: 4.4821051 | AD35: 4.211775 | AE35: 11.730577 | AF35: 28.696265 | AG35: 4.9872897 | AH35: 7.4326264 | AI35: 10.876435 | AJ35: -0.40787609 | AK35: 4.6008914 | AL35: 1.9863666 | AM35: 4.9515037 | AN35: 7.0741173 | AO35: 5.5651729 | AP35: 5.3738385 | AQ35: 5.9140308 | AR35: 7.983972 | AS35: 6.9330242 | AT35: 8.2037739 | AU35: 10.727841 | AV35: 7.664334 | AW35: 5.8964082 | AX35: 7.1225596 | AY35: 6.8493659 | AZ35: 17.925825 | BA35: 4.7683542 | BB35: 6.6572238 | BC35: 11.730854 | BD35: 7.8909139 | BE35: 5.0717098 | BF35: 2.1424966 | BG35: 5.7454552 | BH35: 6.5974485 | BI35: 7.9907054 | BJ35: 6.8187777
A36: Botswana | B36: BWA | C36: GDP growth (annual %) | D36: NY.GDP.MKTP.KD.ZG | F36: 6.3432837 | G36: 6.6666678 | H36: 5.9210451 | I36: 6.8323009 | J36: 5.8139551 | K36: 6.3440191 | L36: 5.9245599 | M36: 10.567057 | N36: 15.123405 | O36: 17.120268 | P36: 25.821107 | Q36: 26.361941 | R36: 21.303184 | S36: 8.7977952 | T36: 8.4462504 | U36: 10.647377 | V36: 12.01204 | W36: 14.332802 | X36: 12.148589 | Y36: 11.986901 | Z36: 9.0648575 | AA36: 12.165532 | AB36: 13.146729 | AC36: 8.5453836 | AD36: 7.1252713 | AE36: 8.1729243 | AF36: 11.881928 | AG36: 19.44997 | AH36: 13.059406 | AI36: 6.7728219 | AJ36: 7.4587091 | AK36: 2.9170703 | AL36: 1.9161071 | AM36: 3.627916 | AN36: 7.0304103 | AO36: 5.8298001 | AP36: 8.026549 | AQ36: 0.72199316 | AR36: 9.6672407 | AS36: 1.9876959 | AT36: 0.25057387 | AU36: 6.0695309 | AV36: 4.6258948 | AW36: 2.7058217 | AX36: 4.5566457 | AY36: 8.3638711 | AZ36: 8.2767638 | BA36: 6.2454374 | BB36: -7.6523102 | BC36: 8.5636317 | BD36: 6.0483164 | BE36: 4.4561672 | BF36: 11.343424 | BG36: 4.1492528 | BH36: -1.6979306 | BI36: 4.3155063 | BJ36: 2.3591971
A37: Central African Republic | B37: CAF | C37: GDP growth (annual %) | D37: NY.GDP.MKTP.KD.ZG | F37: 4.9535538 | G37: -3.7138002 | H37: -0.70701075 | I37: 2.0803246 | J37: 0.94757871 | K37: 0.64478372 | L37: 4.6766131 | M37: 1.4041132 | N37: 7.0915425 | O37: 2.3328809 | P37: 1.1302024 | Q37: -0.00086717483 | R37: 1.88894 | S37: 6.3390336 | T37: 0.4049871 | U37: 5.432519 | V37: 3.8062349 | W37: 1.2092354 | X37: -2.4651378 | Y37: -4.4786388 | Z37: -1.5444657 | AA37: 7.7157836 | AB37: -8.1265136 | AC37: 9.4817267 | AD37: 3.9272195 | AE37: 3.5779793 | AF37: -4.9389879 | AG37: 1.7101653 | AH37: 1.9772704 | AI37: -2.1475281 | AJ37: -0.55254301 | AK37: -6.4240782 | AL37: 0.33527568 | AM37: 4.8999494 | AN37: 7.2000456 | AO37: -4.000093 | AP37: 5.299936 | AQ37: 4.7001424 | AR37: 3.5999749 | AS37: -2.4894324 | AT37: 4.464739 | AU37: 3.6165422 | AV37: -5.3974852 | AW37: 5.9948842 | AX37: 0.90821051 | AY37: 4.7710854 | AZ37: 4.6075349 | BA37: 2.054131 | BB37: 1.7092392 | BC37: 3.0466347 | BD37: 3.3007192 | BE37: 4.1127979 | BF37: -36.699952 | BG37: 1.040018 | BH37: 4.7998861 | BI37: 4.531286 | BJ37: 4.2999381
A38: Canada | B38: CAN | C38: GDP growth (annual %) | D38: NY.GDP.MKTP.KD.ZG | F38: 3.1632917 | G38: 7.1167793 | H38: 5.1817761 | I38: 6.6994567 | J38: 6.6365451 | K38: 6.5849654 | L38: 2.9153104 | M38: 5.2953419 | N38: 5.2600008 | O38: 3.2556136 | P38: 4.1176576 | Q38: 5.4458556 | R38: 6.9642029 | S38: 3.6909876 | T38: 1.8229731 | U38: 5.1993024 | V38: 3.4582306 | W38: 3.9535913 | X38: 3.8049229 | Y38: 2.1626169 | Z38: 3.5031195 | AA38: -3.2020248 | AB38: 2.5985727 | AC38: 5.9253503 | AD38: 4.7340828 | AE38: 2.1618156 | AF38: 4.0964645 | AG38: 4.429401 | AH38: 2.3239739 | AI38: 0.15434604 | AJ38: -2.1256922 | AK38: 0.88297603 | AL38: 2.6552359 | AM38: 4.4934746 | AN38: 2.6777084 | AO38: 1.611048 | AP38: 4.2798124 | AQ38: 3.8817591 | AR38: 5.1632109 | AS38: 5.1826903 | AT38: 1.7708191 | AU38: 3.0100163 | AV38: 1.8022733 | AW38: 3.0859612 | AX38: 3.2013821 | AY38: 2.6234126 | AZ38: 2.0627477 | BA38: 1.000361 | BB38: -2.9495876 | BC38: 3.0835142 | BD38: 3.141219 | BE38: 1.7454723 | BF38: 2.4750019 | BG38: 2.8557392 | BH38: 1.0008825 | BI38: 1.4141027 | BJ38: 3.0473507
A39: Central Europe and the Baltics | B39: CEB | C39: GDP growth (annual %) | D39: NY.GDP.MKTP.KD.ZG | AJ39: -9.7428082 | AK39: -1.760222 | AL39: 1.5719985 | AM39: 4.1247225 | AN39: 5.776079 | AO39: 4.3379132 | AP39: 3.0653679 | AQ39: 2.6760774 | AR39: 2.0653203 | AS39: 4.0390722 | AT39: 3.044007 | AU39: 3.4616617 | AV39: 4.4436424 | AW39: 5.5825218 | AX39: 4.9296844 | AY39: 6.5659117 | AZ39: 6.3886876 | BA39: 3.7589744 | BB39: -3.5066086 | BC39: 1.7125254 | BD39: 3.2105442 | BE39: 0.63947886 | BF39: 1.3458621 | BG39: 2.9737497 | BH39: 3.8051155 | BI39: 3.0644674 | BJ39: 4.5824887
A40: Switzerland | B40: CHE | C40: GDP growth (annual %) | D40: NY.GDP.MKTP.KD.ZG | Z40: 1.6013359 | AA40: -1.3094174 | AB40: 0.63907945 | AC40: 3.0084564 | AD40: 3.6735959 | AE40: 1.8586328 | AF40: 1.5854782 | AG40: 3.2775962 | AH40: 4.330794 | AI40: 3.6746256 | AJ40: -0.91581656 | AK40: -0.043733008 | AL40: -0.12598354 | AM40: 1.2697577 | AN40: 0.48086644 | AO40: 0.5400276 | AP40: 2.3401499 | AQ40: 2.9898918 | AR40: 1.6947198 | AS40: 3.9368235 | AT40: 1.3124237 | AU40: 0.1626129 | AV40: 0.039576568 | AW40: 2.7762235 | AX40: 3.1152455 | AY40: 3.9886342 | AZ40: 4.1118778 | BA40: 2.1547019 | BB40: -2.2221071 | BC40: 3.0026991 | BD40: 1.6928085 | BE40: 1.0060241 | BF40: 1.8520398 | BG40: 2.4492181 | BH40: 1.2263844 | BI40: 1.3758845 | BJ40: 1.0867922
A41: Channel Islands | B41: CHI | C41: GDP growth (annual %) | D41: NY.GDP.MKTP.KD.ZG | AR41: 3.7702637 | AS41: 5.8266415 | AT41: -1.5129613 | AU41: -1.6322066 | AV41: -3.2021569 | AW41: 0.2241974 | AX41: 1.3777342 | AY41: 4.8822994 | AZ41: 5.8983297
...

Sheet Var. Pop Banco Mundial
A1: Data Source | B1: World Development Indicators
A2: Last Updated Date | B2: 43306
A4: Country Name | B4: Country Code | C4: Indicator Name | D4: Indicator Code | E4: 1960 | F4: 1961 | G4: 1962 | H4: 1963 | I4: 1964 | J4: 1965 | K4: 1966 | L4: 1967 | M4: 1968 | N4: 1969 | O4: 1970 | P4: 1971 | Q4: 1972 | R4: 1973 | S4: 1974 | T4: 1975 | U4: 1976 | V4: 1977 | W4: 1978 | X4: 1979 | Y4: 1980 | Z4: 1981 | AA4: 1982 | AB4: 1983 | AC4: 1984 | AD4: 1985 | AE4: 1986 | AF4: 1987 | AG4: 1988 | AH4: 1989 | AI4: 1990 | AJ4: 1991 | AK4: 1992 | AL4: 1993 | AM4: 1994 | AN4: 1995 | AO4: 1996 | AP4: 1997 | AQ4: 1998 | AR4: 1999 | AS4: 2000 | AT4: 2001 | AU4: 2002 | AV4: 2003 | AW4: 2004 | AX4: 2005 | AY4: 2006 | AZ4: 2007 | BA4: 2008 | BB4: 2009 | BC4: 2010 | BD4: 2011 | BE4: 2012 | BF4: 2013 | BG4: 2014 | BH4: 2015 | BI4: 2016 | BJ4: 2017 | BK4: 2018*
A5: Aruba | B5: ABW | C5: Population growth (annual %) | D5: SP.POP.GROW | E5: 3.1480368 | F5: 2.2381439 | G5: 1.4096219 | H5: 0.83245256 | I5: 0.59264904 | J5: 0.57346825 | K5: 0.61699088 | L5: 0.5873732 | M5: 0.5685298 | N5: 0.58064239 | O5: 0.57221119 | P5: 0.63627296 | Q5: 0.67069333 | R5: 0.67120494 | S5: 0.47196848 | T5: 0.21289772 | U5: -0.11712018 | V5: -0.36378107 | W5: -0.43662754 | X5: -0.20485838 | Y5: 0.19321103 | Z5: 0.78069067 | AA5: 1.2763478 | AB5: 1.3857409 | AC5: 1.0157081 | AD5: 0.3019182 | AE5: -0.60794331 | AF5: -1.3030704 | AG5: -1.2269094 | AH5: -0.076979146 | AI5: 1.8136411 | AJ5: 3.9020182 | AK5: 5.440272 | AL5: 6.0684103 | AM5: 5.6259976 | AN5: 4.6166747 | AO5: 3.5178892 | AP5: 2.6695764 | AQ5: 2.1143857 | AR5: 1.9605579 | AS5: 2.0550268 | AT5: 2.2259301 | AU5: 2.229056 | AV5: 2.1093543 | AW5: 1.7573529 | AX5: 1.3020388 | AY5: 0.79756276 | AZ5: 0.38406002 | BA5: 0.13131071 | BB5: 0.09861642 | BC5: 0.21268014 | BD5: 0.37698477 | BE5: 0.51214499 | BF5: 0.59291401 | BG5: 0.58749239 | BH5: 0.52465816 | BI5: 0.45992919 | BJ5: 0.42078068
A6: Afghanistan | B6: AFG | C6: Population growth (annual %) | D6: SP.POP.GROW | E6: 1.8160765 | F6: 1.8765283 | G6: 1.9349986 | H6: 1.9925211 | I6: 2.0494231 | J6: 2.1053688 | K6: 2.1295884 | L6: 2.1467272 | M6: 2.2093311 | N6: 2.330919 | O6: 2.4722659 | P6: 2.5879964 | Q6: 2.6286569 | R6: 2.5760167 | S6: 2.4126565 | T6: 2.1576533 | U6: 1.966302 | V6: 1.7542555 | W6: 1.2940248 | X6: 0.51959042 | Y6: -0.4392766 | Z6: -1.478345 | AA6: -2.3587648 | AB6: -2.8672733 | AC6: -2.8005483 | AD6: -2.2163154 | AE6: -1.5567223 | AF6: -0.8507742 | AG6: 0.33091144 | AH6: 2.0303979 | AI6: 3.9253421 | AJ6: 5.9007707 | AK6: 7.3254472 | AL6: 7.6654334 | AM6: 6.8955689 | AN6: 5.5725811 | AO6: 4.1431629 | AP6: 3.0867187 | AQ6: 2.5904854 | AR6: 2.8207242 | AS6: 3.4946587 | AT6: 4.2515041 | AU6: 4.7205285 | AV6: 4.8180411 | AW6: 4.4689184 | AX6: 3.8704702 | AY6: 3.2286298 | AZ6: 2.7552254 | BA6: 2.5125739 | BB6: 2.5691143 | BC6: 2.812617 | BD6: 3.0951186 | BE6: 3.2727029 | BF6: 3.3152241 | BG6: 3.1832015 | BH6: 2.9432342 | BI6: 2.6891635 | BJ6: 2.4907896
A7: Angola | B7: AGO | C7: Population growth (annual %) | D7: SP.POP.GROW | E7: 1.9035167 | F7: 1.9277539 | G7: 1.945774 | H7: 1.9306929 | I7: 1.8702955 | J7: 1.7887994 | K7: 1.7017978 | L7: 1.6538993 | M7: 1.681743 | N7: 1.8052622 | O7: 1.9934913 | P7: 2.2022468 | Q7: 2.3901262 | R7: 2.548369 | S7: 2.662495 | T7: 2.7466728 | U7: 2.8046673 | V7: 2.8693487 | W7: 2.9705582 | X7: 3.1190585 | Y7: 3.2826588 | Z7: 3.4624341 | AA7: 3.5873082 | AB7: 3.5815148 | AC7: 3.4221856 | AD7: 3.1767033 | AE7: 2.8984273 | AF7: 2.6852592 | AG7: 2.6017386 | AH7: 2.6844185 | AI7: 2.8687214 | AJ7: 3.0902904 | AK7: 3.2516178 | AL7: 3.3021937 | AM7: 3.2123624 | AN7: 3.0431983 | AO7: 2.8552665 | AP7: 2.7323145 | AQ7: 2.7153823 | AR7: 2.8325593 | AS7: 3.0329434 | AT7: 3.2454914 | AU7: 3.4115153 | AV7: 3.5263028 | AW7: 3.573962 | AX7: 3.5758997 | AY7: 3.5661599 | AZ7: 3.5645386 | BA7: 3.5634478 | BB7: 3.566821 | BC7: 3.5700986 | BD7: 3.5703524 | BE7: 3.559496 | BF7: 3.5318242 | BG7: 3.4854125 | BH7: 3.4280207 | BI7: 3.3675721 | BJ7: 3.3135073
A8: Albania | B8: ALB | C8: Population growth (annual %) | D8: SP.POP.GROW | E8: 3.0154231 | F8: 3.1208554 | G8: 3.0567305 | H8: 2.9537488 | I8: 2.8806864 | J8: 2.7540212 | K8: 2.6345639 | L8: 2.6301903 | M8: 2.8425107 | N8: 2.8960834 | O8: 2.5508512 | P8: 2.422972 | Q8: 2.4949731 | R8: 2.3625522 | S8: 2.2972142 | T8: 2.3011538 | U8: 2.2082353 | V8: 2.2132522 | W8: 2.0757419 | X8: 1.989457 | Y8: 2.0479639 | Z8: 2.0029743 | AA8: 2.1132718 | AB8: 2.1208853 | AC8: 2.1039366 | AD8: 2.0559946 | AE8: 1.9332208 | AF8: 1.99704 | AG8: 1.8867105 | AH8: 2.687862 | AI8: 1.7990856 | AJ8: -0.60280968 | AK8: -0.60643473 | AL8: -0.61016579 | AM8: -0.61388051 | AN8: -0.61770366 | AO8: -0.6215114 | AP8: -0.6254301 | AQ8: -0.62933439 | AR8: -0.63335227 | AS8: -0.63735683 | AT8: -0.93847043 | AU8: -0.2998767 | AV8: -0.37414917 | AW8: -0.41793138 | AX8: -0.51179012 | AY8: -0.63091124 | AZ8: -0.75571876 | BA8: -0.76734296 | BB8: -0.67389405 | BC8: -0.49646196 | BD8: -0.26901733 | BE8: -0.16515104 | BF8: -0.18321138 | BG8: -0.207047 | BH8: -0.29120579 | BI8: -0.15988041 | BJ8: -0.091972294
A9: Andorra | B9: AND | C9: Population growth (annual %) | D9: SP.POP.GROW | E9: 7.0506634 | F9: 6.9415321 | G9: 6.6926971 | H9: 6.5595217 | I9: 6.2415107 | J9: 5.9987998 | K9: 5.7508776 | L9: 5.500706 | M9: 5.3098197 | N9: 5.1982869 | O9: 5.1475427 | P9: 5.1501297 | Q9: 5.0839339 | R9: 4.8627242 | S9: 4.4611913 | T9: 3.9357508 | U9: 3.431725 | V9: 3.080122 | W9: 2.905118 | X9: 3.1539337 | Y9: 3.5243825 | Z9: 3.8962613 | AA9: 4.2139526 | AB9: 4.3842432 | AC9: 4.4016534 | AD9: 4.3394433 | AE9: 4.2083978 | AF9: 4.0817695 | AG9: 4.0030019 | AH9: 3.9156652 | AI9: 3.8543623 | AJ9: 3.889679 | AK9: 3.8374719 | AL9: 3.4761007 | AM9: 2.7596213 | AN9: 1.8542028 | AO9: 0.79557396 | AP9: -0.051287233 | AQ9: -0.28800742 | AR9: 0.35483105 | AS9: 1.5721656 | AT9: 2.9399922 | AU9: 3.9425734 | AV9: 4.3754492 | AW9: 4.0989235 | AX9: 3.3824166 | AY9: 2.6575148 | AZ9: 2.0675981 | BA9: 1.4146648 | BB9: 0.71410628 | BC9: -0.015392722 | BD9: -0.82996909 | BE9: -1.5886531 | BF9: -2.013314 | BG9: -1.9561779 | BH9: -1.5378363 | BI9: -0.9440168 | BJ9: -0.40973567
A10: Arab World | B10: ARB | C10: Population growth (annual %) | D10: SP.POP.GROW | F10: 2.7608815 | G10: 2.7753285 | H10: 2.7935278 | I10: 2.817245 | J10: 2.8429764 | K10: 2.8778953 | L10: 2.9079207 | M10: 2.9119494 | N10: 2.8841392 | O10: 2.8414806 | P10: 2.7852045 | Q10: 2.75179 | R10: 2.7802726 | S10: 2.8851772 | T10: 3.0333835 | U10: 3.1872869 | V10: 3.3032391 | W10: 3.3641293 | X10: 3.3565144 | Y10: 3.302525 | Z10: 3.2364515 | AA10: 3.1792295 | AB10: 3.1252424 | AC10: 3.0795327 | AD10: 3.0379628 | AE10: 2.9918044 | AF10: 2.9377022 | AG10: 2.8799398 | AH10: 2.8184863 | AI10: 3.666285 | AJ10: 2.7118205 | AK10: 1.8226892 | AL10: 2.6586909 | AM10: 2.5487748 | AN10: 3.0689726 | AO10: 2.2796528 | AP10: 2.1973382 | AQ10: 2.1232559 | AR10: 2.1039616 | AS10: 2.111486 | AT10: 2.1203883 | AU10: 2.1308299 | AV10: 2.1646516 | AW10: 2.2244518 | AX10: 2.2974034 | AY10: 2.3741301 | AZ10: 2.4339666 | BA10: 2.4639205 | BB10: 2.448201 | BC10: 2.4023932 | BD10: 2.3525275 | BE10: 2.3050726 | BF10: 2.2488443 | BG10: 2.1851969 | BH10: 2.1182104 | BI10: 2.0456009 | BJ10: 1.9778922
A11: United Arab Emirates | B11: ARE | C11: Population growth (annual %) | D11: SP.POP.GROW | E11: 5.8595839 | F11: 8.7236251 | G11: 10.681181 | H11: 11.012721 | I11: 9.8248173 | J11: 8.196603 | K11: 6.5129835 | L11: 5.9286203 | M11: 7.3083942 | N11: 10.669155 | O11: 14.446942 | P11: 16.881671 | Q11: 17.689814 | R11: 17.695296 | S11: 17.125615 | T11: 16.211873 | U11: 15.450884 | V11: 14.530119 | W11: 13.033461 | X11: 11.071306 | Y11: 9.0658626 | Z11: 7.2621537 | AA11: 5.9438947 | AB11: 5.2017679 | AC11: 5.0889481 | AD11: 5.3582254 | AE11: 5.6709812 | AF11: 5.8375865 | AG11: 5.9167896 | AH11: 5.8749114 | AI11: 5.7607049 | AJ11: 5.7376709 | AK11: 5.7507897 | AL11: 5.626298 | AM11: 5.3486543 | AN11: 5.0302116 | AO11: 4.8696431 | AP11: 4.8952769 | AQ11: 4.9895193 | AR11: 5.1507813 | AS11: 5.4306241 | AT11: 5.2815278 | AU11: 5.304712 | AV11: 6.4774933 | AW11: 8.8436919 | AX11: 11.356439 | AY11: 13.510585 | AZ11: 14.236792 | BA11: 13.161466 | BB11: 10.615444 | BC11: 7.5870983 | BD11: 4.7437003 | BE11: 2.5947957 | BF11: 1.181805 | BG11: 0.71476252 | BH11: 0.91560833 | BI11: 1.2517591 | BJ11: 1.3983591
A12: Argentina | B12: ARG | C12: Population growth (annual %) | D12: SP.POP.GROW | E12: 1.6308745 | F12: 1.6068891 | G12: 1.5843086 | H12: 1.5575319 | I12: 1.5242206 | J12: 1.4895437 | K12: 1.4495353 | L12: 1.4205256 | M12: 1.4247922 | N12: 1.4710277 | O12: 1.543025 | P12: 1.6276118 | Q12: 1.6949142 | R12: 1.7219247 | S12: 1.6954234 | T12: 1.633983 | U12: 1.5612985 | V12: 1.5046956 | W12: 1.4741893 | X12: 1.4802896 | Y12: 1.5105174 | Z12: 1.5445383 | AA12: 1.5663989 | AB12: 1.5766316 | AC12: 1.5702587 | AD12: 1.5516194 | AE12: 1.5297976 | AF12: 1.5091986 | AG12: 1.4861782 | AH12: 1.4613146 | AI12: 1.4345663 | AJ12: 1.4082552 | AK12: 1.3799454 | AL12: 1.345136 | AM12: 1.302492 | AN12: 1.2557479 | AO12: 1.2067775 | AP12: 1.1628644 | AQ12: 1.1311056 | AR12: 1.1153358 | AS12: 1.1108753 | AT12: 1.1111419 | AU12: 1.1089714 | AV12: 1.1024151 | AW12: 1.0886075 | AX12: 1.0704343 | AY12: 1.0505281 | AZ12: 1.0344329 | BA12: 1.0258997 | BB12: 1.0273773 | BC12: 1.0350371 | BD12: 1.0448599 | BE12: 1.0503762 | BF12: 1.0472767 | BG12: 1.0327093 | BH12: 1.009855 | BI12: 0.98474191 | BJ12: 0.96146531
A13: Armenia | B13: ARM | C13: Population growth (annual %) | D13: SP.POP.GROW | E13: 3.5963862 | F13: 3.5317019 | G13: 3.4442639 | H13: 3.3302475 | I13: 3.1937272 | J13: 3.0449193 | K13: 2.8845323 | L13: 2.7343364 | M13: 2.6167124 | N13: 2.5406043 | O13: 2.4917137 | P13: 2.4504964 | Q13: 2.3970496 | R13: 2.3232043 | S13: 2.2224806 | T13: 2.1051329 | U13: 1.9860374 | V13: 1.8787112 | W13: 1.7850987 | X13: 1.7099189 | Y13: 1.6473681 | Z13: 1.5474769 | AA13: 1.4379181 | AB13: 1.3963549 | AC13: 1.4408477 | AD13: 1.5205238 | AE13: 1.6742187 | AF13: 1.7441784 | AG13: 1.5153972 | AH13: 0.90378282 | AI13: 0.047945944 | AJ13: -0.93461013 | AK13: -1.7974132 | AL13: -2.3425425 | AM13: -2.3903919 | AN13: -2.0403101 | AO13: -1.5387215 | AP13: -1.1149876 | AQ13: -0.78189758 | AR13: -0.63465682 | AS13: -0.63095667 | AT13: -0.6187029 | AU13: -0.55083899 | AV13: -0.53178545 | AW13: -0.57138094 | AX13: -0.64705733 | AY13: -0.76633114 | AZ13: -0.86375002 | BA13: -0.85036727 | BB13: -0.67747935 | BC13: -0.39102392 | BD13: -0.060143665 | BE13: 0.22026919 | BF13: 0.40125198 | BG13: 0.43833153 | BH13: 0.36852821 | BI13: 0.26930229 | BJ13: 0.19244221
A14: American Samoa | B14: ASM | C14: Population growth (annual %) | D14: SP.POP.GROW | E14: 1.4039026 | F14: 2.3359664 | G14: 3.0336677 | H14: 3.5585978 | I14: 3.6612434 | J14: 3.5574308 | K14: 3.3489052 | L14: 3.2164919 | M14: 3.0158557 | N14: 2.7773743 | O14: 2.5156226 | P14: 2.2606382 | Q14: 2.0423345 | R14: 1.8155126 | S14: 1.6204929 | T14: 1.4944741 | U14: 1.29124 | V14: 1.2063742 | W14: 1.3367842 | X14: 1.8192457 | Y14: 2.4451553 | Z14: 3.1420325 | AA14: 3.6497727 | AB14: 4.0119347 | AC14: 4.1388206 | AD14: 4.0380377 | AE14: 3.9866415 | AF14: 3.873838 | AG14: 3.6930333 | AH14: 3.449695 | AI14: 3.120159 | AJ14: 2.8027366 | AK14: 2.4866543 | AL14: 2.2470615 | AM14: 2.1127753 | AN14: 2.0350178 | AO14: 1.9870126 | AP14: 1.8591516 | AQ14: 1.7322387 | AR14: 1.5425748 | AS14: 1.3142081 | AT14: 1.1305611 | AU14: 0.95119873 | AV14: 0.65508346 | AW14: 0.24835079 | AX14: -0.24665925 | AY14: -0.79478715 | AZ14: -1.2818378 | BA14: -1.5191752 | BB14: -1.4180377 | BC14: -1.0548621 | BD14: -0.57139408 | BE14: -0.16282229 | BF14: 0.13931989 | BG14: 0.23477581 | BH14: 0.18022244 | BI14: 0.11157502 | BJ14: 0.075512409
A15: Antigua and Barbuda | B15: ATG | C15: Population growth (annual %) | D15: SP.POP.GROW | E15: 1.1212082 | F15: 1.4441915 | G15: 1.7654579 | H15: 1.9924774 | I15: 2.088042 | J15: 2.0897648 | K15: 2.0808305 | L15: 2.0747202 | M15: 2.0232694 | N15: 1.9224733 | O15: 1.7864062 | P15: 1.6114359 | Q15: 1.4385385 | R15: 1.2783673 | S15: 1.1522434 | T15: 1.0260675 | U15: 0.93958744 | V15: 0.81290059 | W15: 0.61423322 | X15: 0.27783092 | Y15: -0.1170307 | Z15: -0.51328368 | AA15: -0.84940791 | AB15: -1.1229445 | AC15: -1.2840501 | AD15: -1.342302 | AE15: -1.4041547 | AF15: -1.4108859 | AG15: -1.1667775 | AH15: -0.64480158 | AI15: 0.10350803 | AJ15: 0.9119262 | AK15: 1.650324 | AL15: 2.1841652 | AM15: 2.514657 | AN15: 2.6147439 | AO15: 2.692344 | AP15: 2.7530477 | AQ15: 2.6805336 | AR15: 2.4493747 | AS15: 2.1195969 | AT15: 1.7469506 | AU15: 1.4113926 | AV15: 1.183473 | AW15: 1.0982736 | AX15: 1.1222021 | AY15: 1.1673501 | AZ15: 1.1889045 | BA15: 1.1933199 | BB15: 1.1856593 | BC15: 1.1474717 | BD15: 1.1114727 | BE15: 1.0992547 | BF15: 1.0760583 | BG15: 1.068648 | BH15: 1.0543463 | BI15: 1.0354224 | BJ15: 1.033634
A16: Australia | B16: AUS | C16: Population growth (annual %) | D16: SP.POP.GROW | E16: 2.2669115 | F16: 1.98974 | G16: 2.4406394 | H16: 1.9178165 | I16: 1.9623544 | J16: 1.9597169 | K16: 2.2831844 | L16: 1.2622769 | M16: 1.7641587 | N16: 2.093023 | O16: 1.9701889 | P16: 3.3802935 | Q16: 1.8381463 | R16: 1.5288169 | S16: 2.5312203 | T16: 1.2311859 | U16: 1.0026583 | V16: 1.1266727 | W16: 1.1628853 | X16: 1.0806423 | Y16: 1.2189427 | Z16: 1.5868526 | AA16: 1.6675357 | AB16: 1.2505483 | AC16: 1.1322218 | AD16: 1.3673461 | AE16: 1.6389889 | AF16: 1.5209866 | AG16: 1.6362067 | AH16: 1.6925668 | AI16: 1.479978 | AJ16: 1.2745776 | AK16: 1.2133908 | AL16: 0.97833668 | AM16: 1.0585088 | AN16: 1.2080198 | AO16: 1.3138193 | AP16: 1.1187257 | AQ16: 1.0422357 | AR16: 1.1425052 | AS16: 1.1922723 | AT16: 1.3483583 | AU16: 1.2205638 | AV16: 1.2339967 | AW16: 1.1593522 | AX16: 1.3197896 | AY16: 1.4752279 | AZ16: 0.62467844 | BA16: 2.0040217 | BB16: 2.0610451 | BC16: 1.5554896 | BD16: 1.3895273 | BE16: 1.7854454 | BF16: 1.7583381 | BG16: 1.5358789 | BH16: 1.4640598 | BI16: 1.4982097 | BJ16: 1.5903882
A17: Austria | B17: AUT | C17: Population growth (annual %) | D17: SP.POP.GROW | E17: 0.51079936 | F17: 0.54847236 | G17: 0.61289585 | H17: 0.64236267 | I17: 0.66654821 | J17: 0.64972988 | K17: 0.70139612 | L17: 0.74742522 | M17: 0.51925426 | N17: 0.34533165 | O17: 0.34921895 | P17: 0.44624558 | Q17: 0.58119035 | R17: 0.5540414 | S17: 0.17020577 | T17: -0.26531941 | U17: -0.17667228 | V17: 0.038390494 | W17: -0.080961042 | X17: -0.17046365 | Y17: 0.00010596828 | Z17: 0.25501823 | AA17: 0.071717018 | AB17: -0.16160098 | AC17: -0.0062949041 | AD17: 0.046950968 | AE17: 0.063548997 | AF17: 0.063284204 | AG17: 0.14157085 | AH17: 0.4505139 | AI17: 0.76200161 | AJ17: 0.9984181 | AK17: 1.1005523 | AL17: 0.82462794 | AM17: 0.38486955 | AN17: 0.15310626 | AO17: 0.13501983 | AP17: 0.11331661 | AQ17: 0.10972837 | AR17: 0.19456315 | AS17: 0.24046665 | AT17: 0.38279939 | AU17: 0.49198046 | AV17: 0.48713389 | AW17: 0.62041313 | AX17: 0.68126725 | AY17: 0.49479778 | AZ17: 0.32414654 | BA17: 0.31304144 | BB17: 0.26195319 | BC17: 0.2403943 | BD17: 0.33708084 | BE17: 0.45593747 | BF17: 0.58938725 | BG17: 0.78154163 | BH17: 1.1209925 | BI17: 1.0813963 | BJ17: 0.82691109
A18: Azerbaijan | B18: AZE | C18: Population growth (annual %) | D18: SP.POP.GROW | E18: 3.3163145 | F18: 3.4050434 | G18: 3.4411927 | H18: 3.3869284 | I18: 3.2279126 | J18: 3.0042376 | K18: 2.7683351 | L18: 2.5582147 | M18: 2.3739131 | N18: 2.2268297 | O18: 2.1088467 | P18: 1.997418 | Q18: 1.8882829 | R18: 1.8000825 | S18: 1.7355634 | T18: 1.6895131 | U18: 1.6532431 | V18: 1.6233361 | W18: 1.6038665 | X18: 1.5937632 | Y18: 1.5911505 | Z18: 1.5900583 | AA18: 1.5912546 | AB18: 1.6016735 | AC18: 1.6220455 | AD18: 1.6465839 | AE18: 1.6687225 | AF18: 1.6803479 | AG18: 1.6763898 | AH18: 1.6532258 | AI18: 0.4495212 | AJ18: 1.5523527 | AK18: 1.5150771 | AL18: 1.5191527 | AM18: 1.3517301 | AN18: 1.1516944 | AO18: 1.009848 | AP18: 0.96467377 | AQ18: 0.94913815 | AR18: 0.8775987 | AS18: 0.82151996 | AT18: 0.77476594 | AU18: 0.74617358 | AV18: 0.75765096 | AW18: 0.87542728 | AX18: 1.0222656 | AY18: 1.0985866 | AZ18: 1.1338555 | BA18: 2.099854 | BB18: 2.0761483 | BC18: 1.1897877 | BD18: 1.3030009 | BE18: 1.3287638 | BF18: 1.293447 | BG18: 1.248209 | BH18: 1.1912099 | BI18: 1.1178572 | BJ18: 1.0664292
A19: Burundi | B19: BDI | C19: Population growth (annual %) | D19: SP.POP.GROW | E19: 1.9450671 | F19: 1.9041518 | G19: 1.8838807 | H19: 1.9254838 | I19: 2.0445335 | J19: 2.2014329 | K19: 2.4026775 | L19: 2.5460349 | M19: 2.5102627 | N19: 2.2517397 | O19: 1.8650943 | P19: 1.4304229 | Q19: 1.0967225 | R19: 0.96716292 | S19: 1.1142142 | T19: 1.4515598 | U19: 1.8395767 | V19: 2.1568508 | W19: 2.3937654 | X19: 2.5115744 | Y19: 2.5463955 | Z19: 2.5511659 | AA19: 2.5757272 | AB19: 2.626899 | AC19: 2.7177666 | AD19: 2.8206108 | AE19: 2.9236029 | AF19: 2.9744084 | AG19: 2.92839 | AH19: 2.7664644 | AI19: 2.5318873 | AJ19: 2.3114591 | AK19: 2.1261001 | AL19: 1.928923 | AM19: 1.7214022 | AN19: 1.5287362 | AO19: 1.3172377 | AP19: 1.1681821 | AQ19: 1.2075653 | AR19: 1.4855601 | AS19: 1.920712 | AT19: 2.3946281 | AU19: 2.793811 | AV19: 3.0896786 | AW19: 3.2451217 | AX19: 3.2981531 | AY19: 3.3390111 | AZ19: 3.3847164 | BA19: 3.3769151 | BB19: 3.3146213 | BC19: 3.2211829 | BD19: 3.1060464 | BE19: 3.008436 | BF19: 2.9650961 | BG19: 2.9922647 | BH19: 3.0611029 | BI19: 3.1353331 | BJ19: 3.1807642
A20: Belgium | B20: BEL | C20: Population growth (annual %) | D20: SP.POP.GROW | E20: 0.6577115 | F20: 0.33220595 | G20: 0.39805479 | H20: 0.74760693 | I20: 0.94647754 | J20: 0.908137 | K20: 0.67546357 | L20: 0.55664555 | M20: 0.39339111 | N20: 0.28316967 | O20: 0.098613692 | P20: 0.18224707 | Q20: 0.39158591 | R20: 0.31465877 | S20: 0.31463366 | T20: 0.28897816 | U20: 0.17867445 | V20: 0.12347965 | W20: 0.09329996 | X20: 0.089882551 | Y20: 0.11021117 | Z20: -0.0026371543 | AA20: -0.027176883 | AB20: -0.0079444707 | AC20: -0.0015017078 | AD20: 0.029786423 | AE20: 0.035648851 | AF20: 0.085252141 | AG20: 0.31792625 | AH20: 0.36324799 | AI20: 0.29823571 | AJ20: 0.37159317 | AK20: 0.4057135 | AL20: 0.39063852 | AM20: 0.30819707 | AN20: 0.20943684 | AO20: 0.19539318 | AP20: 0.24199188 | AQ20: 0.21352765 | AR20: 0.2291891 | AS20: 0.24251796 | AT20: 0.34395116 | AU20: 0.44826889 | AV20: 0.41864151 | AW20: 0.43278825 | AX20: 0.55005571 | AY20: 0.65955821 | AZ20: 0.73433083 | BA20: 0.78997685 | BB20: 0.80459957 | BC20: 0.91363939 | BD20: 1.3868491 | BE20: 0.72603166 | BF20: 0.4891843 | BG20: 0.23437084 | BH20: 0.57944624 | BI20: 0.5063 | BJ20: 0.35805987
A21: Benin | B21: BEN | C21: Population growth (annual %) | D21: SP.POP.GROW | E21: 1.3036872 | F21: 1.3984945 | G21: 1.4904992 | H21: 1.5840577 | I21: 1.6809707 | J21: 1.7780517 | K21: 1.8742805 | L21: 1.9621611 | M21: 2.0367648 | N21: 2.0939571 | O21: 2.1405985 | P21: 2.1815421 | Q21: 2.225788 | R21: 2.2773518 | S21: 2.3405602 | T21: 2.4100995 | U21: 2.4805812 | V21: 2.5446274 | W21: 2.6016731 | X21: 2.6487646 | Y21: 2.689452 | Z21: 2.7322649 | AA21: 2.7773647 | AB21: 2.8174491 | AC21: 2.851805 | AD21: 2.8852596 | AE21: 2.9025393 | AF21: 2.9254967 | AG21: 2.9886517 | AH21: 3.1007656 | AI21: 3.235059 | AJ21: 3.3771591 | AK21: 3.4790027 | AL21: 3.5007738 | AM21: 3.4260612 | AN21: 3.2936136 | AO21: 3.1453239 | AP21: 3.0283753 | AQ21: 2.9586132 | AR21: 2.9517545 | AS21: 2.9839948 | AT21: 3.0237802 | AU21: 3.043083 | AV21: 3.0396748 | AW21: 3.0053421 | AX21: 2.9523835 | AY21: 2.8975328 | AZ21: 2.8540741 | BA21: 2.8235217 | BB21: 2.8093369 | BC21: 2.8061088 | BD21: 2.803422 | BE21: 2.7970404 | BF21: 2.7902532 | BG21: 2.7822871 | BH21: 2.7729779 | BI21: 2.7635342 | BJ21: 2.7522976
A22: Burkina Faso | B22: BFA | C22: Population growth (annual %) | D22: SP.POP.GROW | E22: 1.3595231 | F22: 1.3429426 | G22: 1.3342994 | H22: 1.3515225 | I22: 1.403618 | J22: 1.4791349 | K22: 1.5625125 | L22: 1.6351506 | M22: 1.6892207 | N22: 1.7174506 | O22: 1.7292272 | P22: 1.740988 | Q22: 1.7628984 | R22: 1.7916961 | S22: 1.830514 | T22: 1.8780033 | U22: 1.9229174 | V22: 1.9711563 | W22: 2.0400786 | X22: 2.1335748 | Y22: 2.2408142 | Z22: 2.3511652 | AA22: 2.4478338 | AB22: 2.5195896 | AC22: 2.5597836 | AD22: 2.5778094 | AE22: 2.5902485 | AF22: 2.60586 | AG22: 2.6217196 | AH22: 2.639694 | AI22: 2.6591516 | AJ22: 2.676924 | AK22: 2.6929882 | AL22: 2.7096466 | AM22: 2.727322 | AN22: 2.7459135 | AO22: 2.764895 | AP22: 2.7836853 | AQ22: 2.8029404 | AR22: 2.8222717 | AS22: 2.8418851 | AT22: 2.8588686 | AU22: 2.8759924 | AV22: 2.8984316 | AW22: 2.9275614 | AX22: 2.9591878 | AY22: 2.9890699 | AZ22: 3.0118086 | BA22: 3.0249617 | BB22: 3.0264497 | BC22: 3.0192447 | BD22: 3.0089383 | BE22: 2.997255 | BF22: 2.9814829 | BG22: 2.9619779 | BH22: 2.9396904 | BI22: 2.915614 | BJ22: 2.8910664
... A38: Canada | B38: CAN | C38: Population growth (annual %) | D38: SP.POP.GROW | E38: 2.2986265 | F38: 2.0011221 | G38: 1.8598882 | H38: 1.8628459 | I38: 1.8857149 | J38: 1.8101666 | K38: 1.8628138 | L38: 1.7993565 | M38: 1.6134085 | N38: 1.3597835 | O38: 1.3978316 | P38: 1.4965999 | Q38: 1.5953714 | R38: 1.69414 | S38: 1.7929043 | T38: 1.891678 | U38: 1.3225951 | V38: 1.1751414 | W38: 1.0035207 | X38: 0.99766936 | Y38: 1.293245 | Z38: 1.2405954 | AA38: 1.2055553 | AB38: 1.0028115 | AC38: 0.96173383 | AD38: 0.9294467 | AE38: 1.0048794 | AF38: 1.3117677 | AG38: 1.2910648 | AH38: 1.78359 | AI38: 1.4935931 | AJ38: 1.3605062 | AK38: 1.2274176 | AL38: 1.0943319 | AM38: 0.96124472 | AN38: 0.82815918 | AO38: 1.0771647 | AP38: 1.0570154 | AQ38: 0.86561366 | AR38: 0.82736932 | AS38: 0.88299858 | AT38: 1.0095217 | AU38: 0.89713128 | AV38: 0.99623274 | AW38: 1.0020344 | AX38: 0.98590377 | AY38: 0.7968446 | AZ38: 0.96985361 | BA38: 1.0821971 | BB38: 1.1448402 | BC38: 1.1139597 | BD38: 0.98761771 | BE38: 1.1803448 | BF38: 1.1496786 | BG38: 1.0835878 | BH38: 0.83277462 | BI38: 1.1986504 | BJ38: 1.2154807
A39: Central Europe and the Baltics | B39: CEB | C39: Population growth (annual %) | D39: SP.POP.GROW | F39: 0.91413625 | G39: 0.84323103 | H39: 0.89325376 | I39: 0.93435239 | J39: 0.7648291 | K39: 0.7350357 | L39: 0.93080053 | M39: 0.86436108 | N39: 0.73531712 | O39: 0.53868608 | P39: 0.51010813 | Q39: 0.72723946 | R39: 0.75417982 | S39: 0.81658699 | T39: 0.8987412 | U39: 0.88238678 | V39: 0.78941692 | W39: 0.6836253 | X39: 0.58926932 | Y39: 0.60426526 | Z39: 0.58469249 | AA39: 0.54372887 | AB39: 0.51600344 | AC39: 0.48583133 | AD39: 0.46587063 | AE39: 0.44518168 | AF39: 0.40923411 | AG39: 0.3552718 | AH39: 0.10195004 | AI39: -0.050197931 | AJ39: -0.41113538 | AK39: -0.25823543 | AL39: 0.068928287 | AM39: -0.056222909 | AN39: -0.096668256 | AO39: -0.31854131 | AP39: -0.094926123 | AQ39: -0.23012067 | AR39: -0.096011064 | AS39: -0.63869566 | AT39: -0.55820311 | AU39: -0.65196605 | AV39: -0.31448797 | AW39: -0.27599277 | AX39: -0.27459441 | AY39: -0.25660199 | AZ39: -0.37467993 | BA39: -0.35813154 | BB39: -0.19244781 | BC39: -0.36270982 | BD39: -0.35369194 | BE39: -0.22915498 | BF39: -0.21320183 | BG39: -0.20975719 | BH39: -0.23037372 | BI39: -0.25509756 | BJ39: -0.25947153
A40: Switzerland | B40: CHE | C40: Population growth (annual %) | D40: SP.POP.GROW | E40: 2.1722738 | F40: 1.9786151 | G40: 2.5350125 | H40: 2.1376628 | I40: 1.6542582 | J40: 1.1548425 | K40: 1.0451517 | L40: 1.2390472 | M40: 1.2592563 | N40: 1.1254205 | O40: 0.72240383 | P40: 0.52479184 | Q40: 0.76247999 | R40: 0.73822553 | S40: 0.53852083 | T40: -0.043738043 | U40: -0.57159575 | V40: -0.33901091 | W40: 0.00897881 | X40: 0.20080949 | Y40: 0.39707442 | Z40: 0.54706491 | AA40: 0.58429168 | AB40: 0.42878792 | AC40: 0.35911165 | AD40: 0.44144267 | AE40: 0.52039161 | AF40: 0.62811575 | AG40: 0.73494306 | AH40: 0.80853606 | AI40: 1.0268731 | AJ40: 1.249826 | AK40: 1.1025211 | AL40: 0.91071557 | AM40: 0.79715841 | AN40: 0.66824233 | AO40: 0.44163641 | AP40: 0.24089121 | AQ40: 0.29713577 | AR40: 0.47691993 | AS40: 0.56195462 | AT40: 0.63277124 | AU40: 0.75646915 | AV40: 0.7419196 | AW40: 0.68742596 | AX40: 0.64060154 | AY40: 0.62755847 | AZ40: 0.89369098 | BA40: 1.2706181 | BB40: 1.2494846 | BC40: 1.0415581 | BD40: 1.1118789 | BE40: 1.0618193 | BF40: 1.1498798 | BG40: 1.220104 | BH40: 1.1383372 | BI40: 1.0920312 | BJ40: 1.100754
A41: Channel Islands | B41: CHI | C41: Population growth (annual %) | D41: SP.POP.GROW | E41: 0.82131275 | F41: 0.89073872 | G41: 0.95377905 | H41: 1.0158443 | I41: 1.0407925 | J41: 1.0683414 | K41: 1.0656526 | L41: 1.0671857 | M41: 1.0601285 | N41: 1.0440065 | O41: 1.0158939 | P41: 0.99832527 | Q41: 0.97632336 | R41: 0.89475065 | S41: 0.76435935 | T41: 0.58152383 | U41: 0.38449895 | V41: 0.22118591 | W41: 0.16262529 | X41: 0.23678671 | Y41: 0.40640296 | Z41: 0.59799628 | AA41: 0.77077923 | AB41: 0.90145555 | AC41: 0.98404111 | AD41: 1.0178071 | AE41: 1.0571096 | AF41: 1.0928749 | AG41: 1.0702059 | AH41: 0.96717916 | AI41: 0.81441987 | AJ41: 0.63563364 | AK41: 0.48621434 | AL41: 0.39357838 | AM41: 0.39482517 | AN41: 0.46063471 | AO41: 0.54210431 | AP41: 0.6098923 | AQ41: 0.65393241 | AR41: 0.69031862 | AS41: 0.70037937 | AT41: 0.71553779 | AU41: 0.73696516 | AV41: 0.75064969 | AW41: 0.74179261 | AX41: 0.73114576 | AY41: 0.72133472 | AZ41: 0.70658531 | BA41: 0.68005382 | BB41: 0.64646128 | BC41: 0.61474058 | BD41: 0.57236205 | BE41: 0.53502481 | BF41: 0.50813306 | BG41: 0.48531692 | BH41: 0.48297296 | BI41: 0.4770051 | BJ41: 0.46869165
A42: Chile | B42: CHL | C42: Population growth (annual %) | D42: SP.POP.GROW | E42: 2.2264988 | F42: 2.2238814 | G42: 2.2182618 | H42: 2.2101293 | I42: 2.1996356 | J42: 2.1849758 | K42: 2.1702933 | L42: 2.1478446 | M42: 2.1060434 | N42: 2.0404687 | O42: 1.9599502 | P42: 1.8781793 | Q42: 1.8037024 | R42: 1.7357774 | S42: 1.6771798 | T42: 1.627639 | U42: 1.5810481 | V42: 1.5404745 | W42: 1.5150999 | X42: 1.5079969 | Y42: 1.5146494 | Z42: 1.5231757 | AA42: 1.5328182 | AB42: 1.5521187 | AC42: 1.5820242 | AD42: 1.6168891 | AE42: 1.6534378 | AF42: 1.6817986 | AG42: 1.6917977 | AH42: 1.6781775 | AI42: 1.6471789 | AJ42: 1.6113984 | AK42: 1.5761666 | AL42: 1.5361941 | AM42: 1.4922746 | AN42: 1.4458754 | AO42: 1.3976051 | AP42: 1.3497364 | AQ42: 1.3043059 | AR42: 1.262809 | AS42: 1.2248261 | AT42: 1.1867838 | AU42: 1.1501513 | AV42: 1.119612 | AW42: 1.0967551 | AX42: 1.0789735 | AY42: 1.0640367 | AZ42: 1.0477831 | BA42: 1.0270761 | BB42: 1.0002656 | BC42: 0.96924739 | BD42: 0.93715715 | BE42: 0.90757976 | BF42: 0.88136307 | BG42: 0.8599246 | BH42: 0.84171112 | BI42: 0.82457973 | BJ42: 0.80619981
A43: China | B43: CHN | C43: Population growth (annual %) | D43: SP.POP.GROW | E43: 1.8328677 | F43: -1.0155278 | G43: 0.82045555 | H43: 2.4576474 | I43: 2.320683 | J43: 2.3813681 | K43: 2.7873318 | L43: 2.5706976 | M43: 2.6109026 | N43: 2.7400021 | O43: 2.7616756 | P43: 2.7469155 | Q43: 2.4573569 | R43: 2.2833954 | S43: 2.065955 | T43: 1.7663918 | U43: 1.547338 | V43: 1.3627795 | W43: 1.3381823 | X43: 1.333928 | Y43: 1.2542211 | Z43: 1.2809523 | AA43: 1.4726748 | AB43: 1.4449497 | AC43: 1.3120688 | AD43: 1.3616991 | AE43: 1.4873989 | AF43: 1.6036051 | AG43: 1.6100711 | AH43: 1.53317 | AI43: 1.4673032 | AJ43: 1.364434 | AK43: 1.2255362 | AL43: 1.1496194 | AM43: 1.1302606 | AN43: 1.0865092 | AO43: 1.0481415 | AP43: 1.02345 | AQ43: 0.95955041 | AR43: 0.86585139 | AS43: 0.78795659 | AT43: 0.72638064 | AU43: 0.66999957 | AV43: 0.62286094 | AW43: 0.59393282 | AX43: 0.58812499 | AY43: 0.55837437 | AZ43: 0.52227187 | BA43: 0.51238693 | BB43: 0.4973814 | BC43: 0.48295969 | BD43: 0.47915045 | BE43: 0.48723112 | BF43: 0.49370963 | BG43: 0.50631159 | BH43: 0.50813675 | BI43: 0.54147851 | BJ43: 0.55912133
A44: Cote d'Ivoire | B44: CIV | C44: Population growth (annual %) | D44: SP.POP.GROW | E44: 3.5188603 | F44: 3.7289141 | G44: 3.8985858 | H44: 3.9778085 | I44: 3.9496453 | J44: 3.8644128 | K44: 3.7559891 | L44: 3.7002733 | M44: 3.7499473 | N44: 3.9284526 | O44: 4.1761932 | P44: 4.4205836 | Q44: 4.6001114 | R44: 4.7081733 | S44: 4.732135 | T44: 4.6984705 | U44: 4.6473409 | V44: 4.5993199 | W44: 4.5453306 | X44: 4.489938 | Y44: 4.430069 | Z44: 4.3689913 | AA44: 4.2970764 | AB44: 4.2031809 | AC44: 4.0851869 | AD44: 3.9559316 | AE44: 3.816731 | AF44: 3.6915977 | AG44: 3.6059031 | AH44: 3.5680527 | AI44: 3.5554502 | AJ44: 3.5415521 | AK44: 3.5021592 | AL44: 3.4328488 | AM44: 3.3271986 | AN44: 3.1948086 | AO44: 3.0773551 | AP44: 2.9615746 | AQ44: 2.7997901 | AR44: 2.5832338 | AS44: 2.3424263 | AT44: 2.0968777 | AU44: 1.89716 | AV44: 1.7853533 | AW44: 1.7848509 | AX44: 1.8636782 | AY44: 1.9610444 | AZ44: 2.0458681 | BA44: 2.1359187 | BB44: 2.2234323 | BC44: 2.3054643 | BD44: 2.3924636 | BE44: 2.4735064 | BF44: 2.5250164 | BG44: 2.5397666 | BH44: 2.5291631 | BI44: 2.5103536 | BJ44: 2.4957438
