Workbook

Sheet Expectativa de Vida - BM
A1: Data Source | B1: World Development Indicators
A2: Last Updated Date | B2: 42592
A4: Country Name | B4: Country Code | C4: Indicator Name | D4: Indicator Code | E4: 1960 | F4: 1961 | G4: 1962 | H4: 1963 | I4: 1964 | J4: 1965 | K4: 1966 | L4: 1967 | M4: 1968 | N4: 1969 | O4: 1970 | P4: 1971 | Q4: 1972 | R4: 1973 | S4: 1974 | T4: 1975 | U4: 1976 | V4: 1977 | W4: 1978 | X4: 1979 | Y4: 1980 | Z4: 1981 | AA4: 1982 | AB4: 1983 | AC4: 1984 | AD4: 1985 | AE4: 1986 | AF4: 1987 | AG4: 1988 | AH4: 1989 | AI4: 1990 | AJ4: 1991 | AK4: 1992 | AL4: 1993 | AM4: 1994 | AN4: 1995 | AO4: 1996 | AP4: 1997 | AQ4: 1998 | AR4: 1999 | AS4: 2000 | AT4: 2001 | AU4: 2002 | AV4: 2003 | AW4: 2004 | AX4: 2005 | AY4: 2006 | AZ4: 2007 | BA4: 2008 | BB4: 2009 | BC4: 2010 | BD4: 2011 | BE4: 2012 | BF4: 2013 | BG4: 2014 | BH4: 2015
A5: Aruba | B5: ABW | C5: Life expectancy at birth, total (years) | D5: SP.DYN.LE00.IN | E5: 65.569366 | F5: 65.988024 | G5: 66.365537 | H5: 66.713976 | I5: 67.044293 | J5: 67.369756 | K5: 67.699 | L5: 68.034683 | M5: 68.377146 | N5: 68.728415 | O5: 69.086146 | P5: 69.446098 | Q5: 69.799146 | R5: 70.139659 | S5: 70.465293 | T5: 70.777805 | U5: 71.080829 | V5: 71.377707 | W5: 71.66978 | X5: 71.952854 | Y5: 72.220146 | Z5: 72.462341 | AA5: 72.673195 | AB5: 72.849024 | AC5: 72.989756 | AD5: 73.097976 | AE5: 73.179366 | AF5: 73.242707 | AG5: 73.296244 | AH5: 73.344488 | AI5: 73.389976 | AJ5: 73.433122 | AK5: 73.471756 | AL5: 73.505317 | AM5: 73.535756 | AN5: 73.56361 | AO5: 73.589951 | AP5: 73.616341 | AQ5: 73.644854 | AR5: 73.679488 | AS5: 73.724195 | AT5: 73.784439 | AU5: 73.862171 | AV5: 73.958829 | AW5: 74.071902 | AX5: 74.199902 | AY5: 74.338829 | AZ5: 74.482756 | BA5: 74.627683 | BB5: 74.771146 | BC5: 74.910634 | BD5: 75.047659 | BE5: 75.183195 | BF5: 75.319732 | BG5: 75.45678 | BH5: 75.594341
A6: Afghanistan | B6: AFG | C6: Life expectancy at birth, total (years) | D6: SP.DYN.LE00.IN | E6: 32.337561 | F6: 32.786976 | G6: 33.228927 | H6: 33.666902 | I6: 34.101902 | J6: 34.534902 | K6: 34.966927 | L6: 35.398927 | M6: 35.832415 | N6: 36.26939 | O6: 36.712829 | P6: 37.161756 | Q6: 37.620171 | R6: 38.088585 | S6: 38.571 | T6: 39.069439 | U6: 39.58539 | V6: 40.119854 | W6: 40.676829 | X6: 41.258805 | Y6: 41.875244 | Z6: 42.53361 | AA6: 43.235902 | AB6: 43.980098 | AC6: 44.762195 | AD6: 45.57922 | AE6: 46.427659 | AF6: 47.296561 | AG6: 48.170463 | AH6: 49.031366 | AI6: 49.857805 | AJ6: 50.627756 | AK6: 51.332756 | AL6: 51.970268 | AM6: 52.543829 | AN6: 53.062415 | AO6: 53.543537 | AP6: 54.009707 | AQ6: 54.482902 | AR6: 54.975146 | AS6: 55.498927 | AT6: 56.060707 | AU6: 56.653537 | AV6: 57.265878 | AW6: 57.89122 | AX6: 58.515585 | AY6: 59.125951 | AZ6: 59.708854 | BA6: 60.256732 | BB6: 60.76461 | BC6: 61.235463 | BD6: 61.674244 | BE6: 62.092976 | BF6: 62.50161 | BG6: 62.902683 | BH6: 63.298195
A7: Angola | B7: AGO | C7: Life expectancy at birth, total (years) | D7: SP.DYN.LE00.IN | E7: 33.226024 | F7: 33.547756 | G7: 33.888 | H7: 34.244732 | I7: 34.617463 | J7: 35.00222 | K7: 35.396512 | L7: 35.797854 | M7: 36.202268 | N7: 36.60722 | O7: 37.01422 | P7: 37.425756 | Q7: 37.843317 | R7: 38.261854 | S7: 38.675317 | T7: 39.072122 | U7: 39.441195 | V7: 39.772463 | W7: 40.061488 | X7: 40.30778 | Y7: 40.510927 | Z7: 40.675585 | AA7: 40.814366 | AB7: 40.937829 | AC7: 41.053024 | AD7: 41.161341 | AE7: 41.260707 | AF7: 41.351488 | AG7: 41.44161 | AH7: 41.543585 | AI7: 41.669488 | AJ7: 41.828463 | AK7: 42.034659 | AL7: 42.303098 | AM7: 42.650293 | AN7: 43.098122 | AO7: 43.665951 | AP7: 44.355146 | AQ7: 45.159585 | AR7: 46.07078 | AS7: 47.076756 | AT7: 48.162634 | AU7: 49.301561 | AV7: 50.466122 | AW7: 51.632854 | AX7: 52.787707 | AY7: 53.927122 | AZ7: 55.047512 | BA7: 56.139293 | BB7: 57.181 | BC7: 58.141122 | BD7: 58.991244 | BE7: 59.718439 | BF7: 60.321756 | BG7: 60.806732 | BH7: 61.189341
A8: Albania | B8: ALB | C8: Life expectancy at birth, total (years) | D8: SP.DYN.LE00.IN | E8: 62.254366 | F8: 63.273463 | G8: 64.162854 | H8: 64.887098 | I8: 65.438195 | J8: 65.82739 | K8: 66.089317 | L8: 66.28722 | M8: 66.474951 | N8: 66.68161 | O8: 66.932585 | P8: 67.238878 | Q8: 67.585951 | R8: 67.957951 | S8: 68.348341 | T8: 68.74122 | U8: 69.115512 | V8: 69.456171 | W8: 69.754244 | X8: 70.009659 | Y8: 70.235976 | Z8: 70.454463 | AA8: 70.685122 | AB8: 70.93739 | AC8: 71.206537 | AD8: 71.47122 | AE8: 71.697561 | AF8: 71.861951 | AG8: 71.953293 | AH8: 71.978585 | AI8: 71.95878 | AJ8: 71.926268 | AK8: 71.917976 | AL8: 71.964805 | AM8: 72.080732 | AN8: 72.276268 | AO8: 72.551488 | AP8: 72.883951 | AQ8: 73.250634 | AR8: 73.635537 | AS8: 74.014024 | AT8: 74.362927 | AU8: 74.670659 | AV8: 74.934707 | AW8: 75.157098 | AX8: 75.357024 | AY8: 75.561244 | AZ8: 75.794927 | BA8: 76.072659 | BB8: 76.394878 | BC8: 76.747902 | BD8: 77.108463 | BE8: 77.448268 | BF8: 77.747098 | BG8: 77.99839 | BH8: 78.203146
A9: Andorra | B9: AND | C9: Life expectancy at birth, total (years) | D9: SP.DYN.LE00.IN
A10: Arab World | B10: ARB | C10: Life expectancy at birth, total (years) | D10: SP.DYN.LE00.IN | E10: 46.815045 | F10: 47.397232 | G10: 47.977768 | H10: 48.560874 | I10: 49.147395 | J10: 49.732657 | K10: 50.306779 | L10: 50.864002 | M10: 51.403916 | N10: 51.932732 | O10: 52.461087 | P10: 53.004296 | Q10: 53.572348 | R10: 54.166482 | S10: 54.780343 | T10: 55.405284 | U10: 56.030123 | V10: 56.645952 | W10: 57.251884 | X10: 57.855794 | Y10: 58.469154 | Z10: 59.10246 | AA10: 59.75808 | AB10: 60.43014 | AC10: 61.104082 | AD10: 61.758484 | AE10: 62.373326 | AF10: 62.936413 | AG10: 63.440542 | AH10: 63.887033 | AI10: 64.319273 | AJ10: 64.687537 | AK10: 64.981542 | AL10: 65.345648 | AM10: 65.713361 | AN10: 66.124964 | AO10: 66.484175 | AP10: 66.82631 | AQ10: 67.14321 | AR10: 67.434597 | AS10: 67.703474 | AT10: 67.956683 | AU10: 68.202171 | AV10: 68.448209 | AW10: 68.698538 | AX10: 68.951805 | AY10: 69.203319 | AZ10: 69.445691 | BA10: 69.671638 | BB10: 69.879299 | BC10: 70.071361 | BD10: 70.255694 | BE10: 70.440675 | BF10: 70.631378 | BG10: 70.827589 | BH10: 71.028439
A11: United Arab Emirates | B11: ARE | C11: Life expectancy at birth, total (years) | D11: SP.DYN.LE00.IN | E11: 52.288707 | F11: 53.334049 | G11: 54.376488 | H11: 55.415 | I11: 56.446073 | J11: 57.461195 | K11: 58.449341 | L11: 59.400463 | M11: 60.306049 | N11: 61.162073 | O11: 61.967049 | P11: 62.722439 | Q11: 63.436293 | R11: 64.114098 | S11: 64.760854 | T11: 65.378561 | U11: 65.968244 | V11: 66.528878 | W11: 67.063463 | X11: 67.573024 | Y11: 68.058049 | Z11: 68.520537 | AA11: 68.959976 | AB11: 69.377878 | AC11: 69.775244 | AD11: 70.154561 | AE11: 70.515341 | AF11: 70.858073 | AG11: 71.185756 | AH11: 71.499415 | AI11: 71.802024 | AJ11: 72.094122 | AK11: 72.377195 | AL11: 72.653268 | AM11: 72.924293 | AN11: 73.192268 | AO11: 73.458634 | AP11: 73.723902 | AQ11: 73.987512 | AR11: 74.250024 | AS11: 74.509463 | AT11: 74.766878 | AU11: 75.018317 | AV11: 75.263829 | AW11: 75.501415 | AX11: 75.728537 | AY11: 75.944195 | AZ11: 76.148341 | BA11: 76.340415 | BB11: 76.522439 | BC11: 76.694878 | BD11: 76.85978 | BE11: 77.019146 | BF11: 77.175 | BG11: 77.329366 | BH11: 77.484244
A12: Argentina | B12: ARG | C12: Life expectancy at birth, total (years) | D12: SP.DYN.LE00.IN | E12: 65.215537 | F12: 65.338512 | G12: 65.43261 | H12: 65.50939 | I12: 65.582415 | J12: 65.668683 | K12: 65.782244 | L12: 65.930024 | M12: 66.113488 | N12: 66.335098 | O12: 66.590829 | P12: 66.873122 | Q12: 67.167951 | R12: 67.465317 | S12: 67.758659 | T12: 68.047951 | U12: 68.336707 | V12: 68.629439 | W12: 68.926634 | X12: 69.224317 | Y12: 69.514488 | Z12: 69.786659 | AA12: 70.035317 | AB12: 70.257 | AC12: 70.454195 | AD12: 70.63139 | AE12: 70.799073 | AF12: 70.967756 | AG12: 71.145902 | AH12: 71.337537 | AI12: 71.543659 | AJ12: 71.763293 | AK12: 71.988951 | AL12: 72.215659 | AM12: 72.44139 | AN12: 72.665122 | AO12: 72.887341 | AP12: 73.108049 | AQ12: 73.327683 | AR12: 73.544268 | AS12: 73.755805 | AT12: 73.960317 | AU12: 74.15578 | AV12: 74.341268 | AW12: 74.51878 | AX12: 74.688317 | AY12: 74.851415 | AZ12: 75.011561 | BA12: 75.171293 | BB12: 75.331098 | BC12: 75.492024 | BD12: 75.653561 | BE12: 75.814756 | BF12: 75.974561 | BG12: 76.134 | BH12: 76.293024
A13: Armenia | B13: ARM | C13: Life expectancy at birth, total (years) | D13: SP.DYN.LE00.IN | E13: 65.863463 | F13: 66.28439 | G13: 66.709854 | H13: 67.137854 | I13: 67.565415 | J13: 67.991537 | K13: 68.414732 | L13: 68.830488 | M13: 69.229268 | N13: 69.600049 | O13: 69.924268 | P13: 70.182878 | Q13: 70.367341 | R13: 70.479659 | S13: 70.526341 | T13: 70.531927 | U13: 70.529415 | V13: 70.542902 | W13: 70.582976 | X13: 70.641268 | Y13: 70.684537 | Z13: 70.66161 | AA13: 70.535512 | AB13: 70.290146 | AC13: 69.935683 | AD13: 69.5 | AE13: 69.024293 | AF13: 68.567561 | AG13: 68.182098 | AH13: 67.899512 | AI13: 67.74878 | AJ13: 67.742683 | AK13: 67.86261 | AL13: 68.085659 | AM13: 68.39861 | AN13: 68.789512 | AO13: 69.243122 | AP13: 69.738854 | AQ13: 70.248171 | AR13: 70.745341 | AS13: 71.199659 | AT13: 71.581976 | AU13: 71.88839 | AV13: 72.120976 | AW13: 72.284732 | AX13: 72.39878 | AY13: 72.491244 | AZ13: 72.593244 | BA13: 72.725902 | BB13: 72.898756 | BC13: 73.109293 | BD13: 73.345976 | BE13: 73.58622 | BF13: 73.811927 | BG13: 74.019585 | BH13: 74.206195
A14: American Samoa | B14: ASM | C14: Life expectancy at birth, total (years) | D14: SP.DYN.LE00.IN
A15: Antigua and Barbuda | B15: ATG | C15: Life expectancy at birth, total (years) | D15: SP.DYN.LE00.IN | E15: 61.782732 | F15: 62.195415 | G15: 62.598537 | H15: 62.992585 | I15: 63.378585 | J15: 63.756073 | K15: 64.125561 | L15: 64.488073 | M15: 64.842122 | N15: 65.189195 | O15: 65.529341 | P15: 65.862024 | Q15: 66.188268 | R15: 66.508 | S15: 66.82178 | T15: 67.130073 | U15: 67.43339 | V15: 67.730756 | W15: 68.022634 | X15: 68.309537 | Y15: 68.591976 | Z15: 68.868951 | AA15: 69.140927 | AB15: 69.407927 | AC15: 69.670463 | AD15: 69.928512 | AE15: 70.182561 | AF15: 70.432634 | AG15: 70.679732 | AH15: 70.922829 | AI15: 71.162951 | AJ15: 71.400585 | AK15: 71.634707 | AL15: 71.865854 | AM15: 72.093 | AN15: 72.317683 | AO15: 72.538854 | AP15: 72.757561 | AQ15: 72.97378 | AR15: 73.186024 | AS15: 73.397293 | AT15: 73.607098 | AU15: 73.815439 | AV15: 74.02178 | AW15: 74.226146 | AX15: 74.425439 | AY15: 74.619146 | AZ15: 74.804732 | BA15: 74.982195 | BB15: 75.151537 | BC15: 75.313293 | BD15: 75.469537 | BE15: 75.621805 | BF15: 75.773659 | BG15: 75.924098 | BH15: 76.075634
A16: Australia | B16: AUS | C16: Life expectancy at birth, total (years) | D16: SP.DYN.LE00.IN | E16: 70.817073 | F16: 70.973171 | G16: 70.942439 | H16: 70.911707 | I16: 70.880976 | J16: 70.850244 | K16: 70.819512 | L16: 70.869268 | M16: 70.919024 | N16: 70.96878 | O16: 71.018537 | P16: 71.068293 | Q16: 71.457561 | R16: 71.846829 | S16: 72.236098 | T16: 72.625366 | U16: 73.014634 | V16: 73.34439 | W16: 73.674146 | X16: 74.003902 | Y16: 74.333659 | Z16: 74.663415 | AA16: 74.904878 | AB16: 75.146341 | AC16: 75.387805 | AD16: 75.629268 | AE16: 75.870732 | AF16: 76.151707 | AG16: 76.432683 | AH16: 76.713659 | AI16: 76.994634 | AJ16: 77.27561 | AK16: 77.378049 | AL16: 77.878049 | AM16: 77.878049 | AN16: 77.829268 | AO16: 78.078049 | AP16: 78.480488 | AQ16: 78.631707 | AR16: 78.931707 | AS16: 79.234146 | AT16: 79.634146 | AU16: 79.936585 | AV16: 80.239024 | AW16: 80.490244 | AX16: 80.841463 | AY16: 81.041463 | AZ16: 81.292683 | BA16: 81.395122 | BB16: 81.543902 | BC16: 81.695122 | BD16: 81.895122 | BE16: 82.046341 | BF16: 82.14878 | BG16: 82.3 | BH16: 82.45122
A17: Austria | B17: AUT | C17: Life expectancy at birth, total (years) | D17: SP.DYN.LE00.IN | E17: 68.58561 | F17: 69.577317 | G17: 69.309512 | H17: 69.443659 | I17: 69.921951 | J17: 69.722195 | K17: 70.045854 | L17: 69.917805 | M17: 70.057561 | N17: 69.833171 | O17: 69.914634 | P17: 70.114634 | Q17: 70.463415 | R17: 71.014634 | S17: 71.012195 | T17: 71.114634 | U17: 71.565854 | V17: 71.914634 | W17: 72.012195 | X17: 72.312195 | Y17: 72.463415 | Z17: 72.812195 | AA17: 72.960976 | AB17: 73.012195 | AC17: 73.612195 | AD17: 73.814634 | AE17: 74.317073 | AF17: 74.768293 | AG17: 75.217073 | AH17: 75.265854 | AI17: 75.568293 | AJ17: 75.617073 | AK17: 75.817073 | AL17: 76.068293 | AM17: 76.419512 | AN17: 76.668293 | AO17: 76.870732 | AP17: 77.319512 | AQ17: 77.670732 | AR17: 77.87561 | AS17: 78.126829 | AT17: 78.57561 | AU17: 78.678049 | AV17: 78.631707 | AW17: 79.180488 | AX17: 79.331707 | AY17: 79.880488 | AZ17: 80.180488 | BA17: 80.431707 | BB17: 80.331707 | BC17: 80.580488 | BD17: 80.982927 | BE17: 80.936585 | BF17: 81.136585 | BG17: 81.490244 | BH17: 81.843902
A18: Azerbaijan | B18: AZE | C18: Life expectancy at birth, total (years) | D18: SP.DYN.LE00.IN | E18: 60.780854 | F18: 60.99639 | G18: 61.202927 | H18: 61.407488 | I18: 61.612585 | J18: 61.82222 | K18: 62.03639 | L18: 62.250098 | M18: 62.457829 | N18: 62.657585 | O18: 62.84339 | P18: 63.009195 | Q18: 63.154024 | R18: 63.278366 | S18: 63.38222 | T18: 63.469098 | U18: 63.542512 | V18: 63.611463 | W18: 63.679951 | X18: 63.755951 | Y18: 63.848049 | Z18: 63.96778 | AA18: 64.112634 | AB18: 64.278024 | AC18: 64.454805 | AD18: 64.617073 | AE18: 64.733878 | AF18: 64.789537 | AG18: 64.782659 | AH18: 64.724512 | AI18: 64.64722 | AJ18: 64.594585 | AK18: 64.605805 | AL18: 64.706244 | AM18: 64.901098 | AN18: 65.174732 | AO18: 65.494366 | AP18: 65.821268 | AQ18: 66.127756 | AR18: 66.409854 | AS18: 66.681585 | AT18: 66.972488 | AU18: 67.31061 | AV18: 67.712561 | AW18: 68.173439 | AX18: 68.677098 | AY18: 69.199049 | AZ18: 69.70622 | BA18: 70.171 | BB18: 70.578488 | BC18: 70.91861 | BD18: 71.189634 | BE18: 71.405683 | BF18: 71.581415 | BG18: 71.724756 | BH18: 71.845195
A19: Burundi | B19: BDI | C19: Life expectancy at birth, total (years) | D19: SP.DYN.LE00.IN | E19: 41.236049 | F19: 41.545463 | G19: 41.86039 | H19: 42.177805 | I19: 42.49222 | J19: 42.790146 | K19: 43.055073 | L19: 43.280024 | M19: 43.467976 | N19: 43.627439 | O19: 43.781927 | P19: 43.959927 | Q19: 44.184951 | R19: 44.471463 | S19: 44.818463 | T19: 45.218902 | U19: 45.65322 | V19: 46.092415 | W19: 46.512976 | X19: 46.902439 | Y19: 47.262317 | Z19: 47.604683 | AA19: 47.939098 | AB19: 48.263122 | AC19: 48.562293 | AD19: 48.789171 | AE19: 48.884756 | AF19: 48.828049 | AG19: 48.629488 | AH19: 48.325024 | AI19: 48.000122 | AJ19: 47.762683 | AK19: 47.698659 | AL19: 47.854488 | AM19: 48.234683 | AN19: 48.797195 | AO19: 49.460049 | AP19: 50.118805 | AQ19: 50.692512 | AR19: 51.150195 | AS19: 51.487927 | AT19: 51.728756 | AU19: 51.933195 | AV19: 52.15222 | AW19: 52.403805 | AX19: 52.705366 | AY19: 53.06378 | AZ19: 53.466463 | BA19: 53.901878 | BB19: 54.362024 | BC19: 54.837 | BD19: 55.314415 | BE19: 55.782878 | BF19: 56.234512 | BG19: 56.663317 | BH19: 57.069341
A20: Belgium | B20: BEL | C20: Life expectancy at birth, total (years) | D20: SP.DYN.LE00.IN | E20: 69.701951 | F20: 70.520976 | G20: 70.219512 | H20: 70.051463 | I20: 70.755122 | J20: 70.625366 | K20: 70.706341 | L20: 71.012927 | M20: 70.693171 | N20: 70.764878 | O20: 70.971951 | P20: 71.060488 | Q20: 71.405122 | R20: 71.635366 | S20: 71.985854 | T20: 71.97122 | U20: 72.119756 | V20: 72.773902 | W20: 72.698049 | X20: 73.193659 | Y20: 73.207073 | Z20: 73.621707 | AA20: 73.888049 | AB20: 73.869024 | AC20: 74.404878 | AD20: 74.520244 | AE20: 74.731707 | AF20: 75.365854 | AG20: 75.565854 | AH20: 75.632683 | AI20: 76.051951 | AJ20: 76.192195 | AK20: 76.35122 | AL20: 76.345366 | AM20: 76.691707 | AN20: 76.840732 | AO20: 77.187317 | AP20: 77.370732 | AQ20: 77.473171 | AR20: 77.619512 | AS20: 77.721951 | AT20: 77.973171 | AU20: 78.07561 | AV20: 78.129268 | AW20: 78.878049 | AX20: 78.980488 | AY20: 79.380488 | AZ20: 79.782927 | BA20: 79.680488 | BB20: 79.982927 | BC20: 80.182927 | BD20: 80.585366 | BE20: 80.385366 | BF20: 80.587805 | BG20: 81.287805 | BH20: 81.287805
A21: Benin | B21: BEN | C21: Life expectancy at birth, total (years) | D21: SP.DYN.LE00.IN | E21: 37.286415 | F21: 37.738854 | G21: 38.193707 | H21: 38.653902 | I21: 39.12239 | J21: 39.599537 | K21: 40.08622 | L21: 40.580415 | M21: 41.082146 | N21: 41.589951 | O21: 42.107463 | P21: 42.637244 | Q21: 43.179 | R21: 43.729854 | S21: 44.284463 | T21: 44.828902 | U21: 45.345707 | V21: 45.828341 | W21: 46.279341 | X21: 46.70578 | Y21: 47.129732 | Z21: 47.579317 | AA21: 48.077537 | AB21: 48.637927 | AC21: 49.261439 | AD21: 49.95161 | AE21: 50.703951 | AF21: 51.490854 | AG21: 52.278146 | AH21: 53.03461 | AI21: 53.713951 | AJ21: 54.267854 | AK21: 54.678171 | AL21: 54.945805 | AM21: 55.079756 | AN21: 55.110122 | AO21: 55.080122 | AP21: 55.045585 | AQ21: 55.054707 | AR21: 55.135585 | AS21: 55.310756 | AT21: 55.589171 | AU21: 55.948659 | AV21: 56.362098 | AW21: 56.814927 | AX21: 57.28561 | AY21: 57.749122 | AZ21: 58.188976 | BA21: 58.590707 | BB21: 58.946805 | BC21: 59.259268 | BD21: 59.53661 | BE21: 59.797854 | BF21: 60.056512 | BG21: 60.318122 | BH21: 60.584683
A22: Burkina Faso | B22: BFA | C22: Life expectancy at birth, total (years) | D22: SP.DYN.LE00.IN | E22: 34.477902 | F22: 34.938634 | G22: 35.405878 | H22: 35.879659 | I22: 36.358951 | J22: 36.837756 | K22: 37.309049 | L22: 37.768317 | M22: 38.216537 | N22: 38.657732 | O22: 39.096878 | P22: 39.538512 | Q22: 39.995171 | R22: 40.480341 | S22: 41.006585 | T22: 41.60639 | U22: 42.313293 | V22: 43.130244 | W22: 44.03978 | X22: 45.01339 | Y22: 45.997561 | Z22: 46.928317 | AA22: 47.749634 | AB22: 48.422 | AC22: 48.924366 | AD22: 49.25122 | AE22: 49.417537 | AF22: 49.472268 | AG22: 49.462902 | AH22: 49.419878 | AI22: 49.36561 | AJ22: 49.316463 | AK22: 49.277951 | AL22: 49.259659 | AM22: 49.277707 | AN22: 49.340317 | AO22: 49.450805 | AP22: 49.605878 | AQ22: 49.806659 | AR22: 50.060659 | AS22: 50.382854 | AT22: 50.78861 | AU22: 51.281659 | AV22: 51.857268 | AW22: 52.507244 | AX22: 53.218439 | AY22: 53.975244 | AZ22: 54.755659 | BA22: 55.535707 | BB22: 56.294878 | BC22: 57.014683 | BD22: 57.681122 | BE22: 58.295829 | BF22: 58.860366 | BG22: 59.375293 | BH22: 59.844659
A23: Bangladesh | B23: BGD | C23: Life expectancy at birth, total (years) | D23: SP.DYN.LE00.IN | E23: 45.829829 | F23: 46.457927 | G23: 47.083463 | H23: 47.691439 | I23: 48.25339 | J23: 48.686463 | K23: 48.891829 | L23: 48.834049 | M23: 48.533122 | N23: 48.048463 | O23: 47.522854 | P23: 47.137049 | Q23: 47.033293 | R23: 47.293488 | S23: 47.926634 | T23: 48.865805 | U23: 49.981244 | V23: 51.097683 | W23: 52.080341 | X23: 52.877293 | Y23: 53.477049 | Z23: 53.917024 | AA23: 54.292561 | AB23: 54.679561 | AC23: 55.104439 | AD23: 55.580659 | AE23: 56.105195 | AF23: 56.659073 | AG23: 57.225878 | AH23: 57.806146 | AI23: 58.408561 | AJ23: 59.040268 | AK23: 59.707341 | AL23: 60.407293 | AM23: 61.132024 | AN23: 61.872366 | AO23: 62.612561 | AP23: 63.338878 | AQ23: 64.038195 | AR23: 64.702415 | AS23: 65.325122 | AT23: 65.904463 | AU23: 66.449659 | AV23: 66.967366 | AW23: 67.46261 | AX23: 67.941293 | AY23: 68.410268 | AZ23: 68.873902 | BA23: 69.333683 | BB23: 69.791171 | BC23: 70.242049 | BD23: 70.680561 | BE23: 71.100902 | BF23: 71.497756 | BG23: 71.871659 | BH23: 72.22161
A24: Bulgaria | B24: BGR | C24: Life expectancy at birth, total (years) | D24: SP.DYN.LE00.IN | E24: 69.247561 | F24: 70.19561 | G24: 69.491951 | H24: 70.309268 | I24: 71.12122 | J24: 71.293902 | K24: 71.223415 | L24: 70.413902 | M24: 71.225122 | N24: 70.43 | O24: 71.256341 | P24: 70.873659 | Q24: 70.899512 | R24: 71.342195 | S24: 71.208049 | T24: 71.049756 | U24: 71.394878 | V24: 70.816098 | W24: 71.184634 | X24: 71.308293 | Y24: 71.157561 | Z24: 71.571951 | AA24: 71.186098 | AB24: 71.386341 | AC24: 71.499756 | AD24: 71.228049 | AE24: 71.730732 | AF24: 71.526829 | AG24: 71.60439 | AH24: 71.722439 | AI24: 71.641463 | AJ24: 71.560976 | AK24: 71.49439 | AL24: 71.346829 | AM24: 71.20878 | AN24: 71.053415 | AO24: 70.897317 | AP24: 70.35122 | AQ24: 71.060976 | AR24: 71.412195 | AS24: 71.663415 | AT24: 71.768293 | AU24: 71.865854 | AV24: 72.065854 | AW24: 72.563415 | AX24: 72.560976 | AY24: 72.612195 | AZ24: 72.663415 | BA24: 72.963415 | BB24: 73.412195 | BC24: 73.512195 | BD24: 74.163415 | BE24: 74.314634 | BF24: 74.860976 | BG24: 74.465854 | BH24: 74.465854
A25: Bahrain | B25: BHR | C25: Life expectancy at birth, total (years) | D25: SP.DYN.LE00.IN | E25: 52.092439 | F25: 53.460561 | G25: 54.819293 | H25: 56.147098 | I25: 57.425878 | J25: 58.640073 | K25: 59.78261 | L25: 60.858 | M25: 61.869732 | N25: 62.817293 | O25: 63.699195 | P25: 64.517976 | Q25: 65.277707 | R25: 65.986415 | S25: 66.64661 | T25: 67.263829 | U25: 67.840049 | V25: 68.37778 | W25: 68.878976 | X25: 69.345122 | Y25: 69.777195 | Z25: 70.172659 | AA25: 70.531512 | AB25: 70.854707 | AC25: 71.14678 | AD25: 71.412732 | AE25: 71.656585 | AF25: 71.883366 | AG25: 72.099098 | AH25: 72.308805 | AI25: 72.515976 | AJ25: 72.72261 | AK25: 72.927195 | AL25: 73.129244 | AM25: 73.330244 | AN25: 73.530732 | AO25: 73.732244 | AP25: 73.934293 | AQ25: 74.134366 | AR25: 74.332976 | AS25: 74.528024 | AT25: 74.717976 | AU25: 74.90078 | AV25: 75.076902 | AW25: 75.245366 | AX25: 75.407171 | AY25: 75.56339 | AZ25: 75.714561 | BA25: 75.863268 | BB25: 76.010024 | BC25: 76.155317 | BD25: 76.299634 | BE25: 76.442951 | BF25: 76.58522 | BG25: 76.725463 | BH25: 76.865195
A26: Bahamas, The | B26: BHS | C26: Life expectancy at birth, total (years) | D26: SP.DYN.LE00.IN | E26: 62.729049 | F26: 63.072512 | G26: 63.408024 | H26: 63.737049 | I26: 64.059098 | J26: 64.374683 | K26: 64.68378 | L26: 64.98739 | M26: 65.285024 | N26: 65.576683 | O26: 65.863854 | P26: 66.145561 | Q26: 66.422268 | R26: 66.693 | S26: 66.958756 | T26: 67.220024 | U26: 67.476317 | V26: 67.728122 | W26: 67.974951 | X26: 68.21878 | Y26: 68.45861 | Z26: 68.695415 | AA26: 68.929683 | AB26: 69.160463 | AC26: 69.387244 | AD26: 69.61061 | AE26: 69.829098 | AF26: 70.04278 | AG26: 70.249659 | AH26: 70.44778 | AI26: 70.630659 | AJ26: 70.791805 | AK26: 70.929634 | AL26: 71.048146 | AM26: 71.154805 | AN26: 71.262561 | AO26: 71.390439 | AP26: 71.549878 | AQ26: 71.747878 | AR26: 71.984366 | AS26: 72.254293 | AT26: 72.545098 | AU26: 72.841268 | AV26: 73.127293 | AW26: 73.394659 | AX26: 73.639366 | AY26: 73.859463 | AZ26: 74.061463 | BA26: 74.250951 | BB26: 74.428415 | BC26: 74.596902 | BD26: 74.757927 | BE26: 74.913976 | BF26: 75.066537 | BG26: 75.217634 | BH26: 75.36878
... A29: Belize | B29: BLZ | C29: Life expectancy at birth, total (years) | D29: SP.DYN.LE00.IN | E29: 59.961366 | F29: 60.51278 | G29: 61.074341 | H29: 61.646049 | I29: 62.224829 | J29: 62.806122 | K29: 63.385341 | L29: 63.95439 | M29: 64.507707 | N29: 65.039195 | O29: 65.546268 | P29: 66.026317 | Q29: 66.480902 | R29: 66.912098 | S29: 67.324 | T29: 67.718756 | U29: 68.102098 | V29: 68.478146 | W29: 68.847024 | X29: 69.208756 | Y29: 69.566366 | Z29: 69.919756 | AA29: 70.264268 | AB29: 70.589268 | AC29: 70.883171 | AD29: 71.131366 | AE29: 71.317341 | AF29: 71.430585 | AG29: 71.46561 | AH29: 71.418488 | AI29: 71.283732 | AJ29: 71.054415 | AK29: 70.74661 | AL29: 70.38239 | AM29: 69.986293 | AN29: 69.58878 | AO29: 69.219805 | AP29: 68.901854 | AQ29: 68.653902 | AR29: 68.489512 | AS29: 68.418878 | AT29: 68.444122 | AU29: 68.544366 | AV29: 68.697122 | AW29: 68.884829 | AX29: 69.085366 | AY29: 69.275976 | AZ29: 69.443488 | BA29: 69.579707 | BB29: 69.683561 | BC29: 69.762024 | BD29: 69.830171 | BE29: 69.908659 | BF29: 70.013073 | BG29: 70.147512 | BH29: 70.310976
A30: Bermuda | B30: BMU | C30: Life expectancy at birth, total (years) | D30: SP.DYN.LE00.IN | J30: 68.897805 | O30: 70.29 | Y30: 72.304634 | AJ30: 74.029512 | AS30: 77.885366 | AT30: 77.885366 | AU30: 78.087805 | AV30: 78.334146 | AW30: 78.485366 | AX30: 78.685366 | AY30: 78.887805 | AZ30: 78.934146 | BA30: 79.236585 | BB30: 79.388439 | BC30: 79.288537 | BD30: 81.152683 | BE30: 81.677805 | BF30: 80.572439 | BG30: 80.797317 | BH30: 81.012195
A31: Bolivia | B31: BOL | C31: Life expectancy at birth, total (years) | D31: SP.DYN.LE00.IN | E31: 42.118317 | F31: 42.433439 | G31: 42.757049 | H31: 43.089146 | I31: 43.43022 | J31: 43.77978 | K31: 44.137805 | L31: 44.504805 | M31: 44.879756 | N31: 45.263683 | O31: 45.655561 | P31: 46.05539 | Q31: 46.46322 | R31: 46.878512 | S31: 47.302293 | T31: 47.733024 | U31: 48.171732 | V31: 48.618902 | W31: 49.073024 | X31: 49.53461 | Y31: 50.004146 | Z31: 50.482146 | AA31: 50.968098 | AB31: 51.461537 | AC31: 51.962927 | AD31: 52.470805 | AE31: 52.985659 | AF31: 53.507976 | AG31: 54.035268 | AH31: 54.569049 | AI31: 55.107293 | AJ31: 55.650024 | AK31: 56.198244 | AL31: 56.749439 | AM31: 57.305122 | AN31: 57.863293 | AO31: 58.424951 | AP31: 58.98861 | AQ31: 59.554268 | AR31: 60.121415 | AS31: 60.690049 | AT31: 61.259195 | AU31: 61.828829 | AV31: 62.398976 | AW31: 62.968634 | AX31: 63.53978 | AY31: 64.114951 | AZ31: 64.693634 | BA31: 65.272829 | BB31: 65.846561 | BC31: 66.405805 | BD31: 66.94161 | BE31: 67.446951 | BF31: 67.917366 | BG31: 68.350317 | BH31: 68.749805
A32: Brazil | B32: BRA | C32: Life expectancy at birth, total (years) | D32: SP.DYN.LE00.IN | E32: 54.213024 | F32: 54.726756 | G32: 55.244707 | H32: 55.760927 | I32: 56.271512 | J32: 56.775439 | K32: 57.273268 | L32: 57.764512 | M32: 58.246244 | N32: 58.713561 | O32: 59.155585 | P32: 59.562463 | Q32: 59.929244 | R32: 60.255439 | S32: 60.544512 | T32: 60.802927 | U32: 61.041073 | V32: 61.27178 | W32: 61.506951 | X32: 61.754976 | Y32: 62.020293 | Z32: 62.303878 | AA32: 62.602244 | AB32: 62.911463 | AC32: 63.232073 | AD32: 63.562561 | AE32: 63.900463 | AF32: 64.245829 | AG32: 64.59822 | AH32: 64.961195 | AI32: 65.340317 | AJ32: 65.742683 | AK32: 66.171805 | AL32: 66.627683 | AM32: 67.106829 | AN32: 67.601683 | AO32: 68.104732 | AP32: 68.605854 | AQ32: 69.095049 | AR32: 69.56722 | AS32: 70.01639 | AT32: 70.442561 | AU32: 70.84922 | AV32: 71.240439 | AW32: 71.618195 | AX32: 71.986 | AY32: 72.349341 | AZ32: 72.709732 | BA32: 73.068659 | BB32: 73.423098 | BC32: 73.769561 | BD32: 74.100512 | BE32: 74.410439 | BF32: 74.696341 | BG32: 74.958244 | BH32: 75.199122
A33: Barbados | B33: BRB | C33: Life expectancy at birth, total (years) | D33: SP.DYN.LE00.IN | E33: 60.738049 | F33: 61.215098 | G33: 61.696171 | H33: 62.182268 | I33: 62.672878 | J33: 63.161024 | K33: 63.638634 | L33: 64.098732 | M33: 64.535268 | N33: 64.94578 | O33: 65.331244 | P33: 65.695171 | Q33: 66.044073 | R33: 66.382488 | S33: 66.71439 | T33: 67.040805 | U33: 67.36222 | V33: 67.677146 | W33: 67.984561 | X33: 68.284463 | Y33: 68.577366 | Z33: 68.86378 | AA33: 69.143683 | AB33: 69.41661 | AC33: 69.684024 | AD33: 69.944951 | AE33: 70.201366 | AF33: 70.45178 | AG33: 70.696683 | AH33: 70.936585 | AI33: 71.171951 | AJ33: 71.403341 | AK33: 71.63122 | AL33: 71.854098 | AM33: 72.072488 | AN33: 72.28439 | AO33: 72.488805 | AP33: 72.68422 | AQ33: 72.870659 | AR33: 73.048585 | AS33: 73.219512 | AT33: 73.383927 | AU33: 73.546317 | AV33: 73.707171 | AW33: 73.868024 | AX33: 74.030341 | AY33: 74.193634 | AZ33: 74.357415 | BA33: 74.521707 | BB33: 74.685488 | BC33: 74.848805 | BD33: 75.010146 | BE33: 75.170024 | BF33: 75.327951 | BG33: 75.483902 | BH33: 75.637902
A34: Brunei Darussalam | B34: BRN | C34: Life expectancy at birth, total (years) | D34: SP.DYN.LE00.IN | E34: 62.500366 | F34: 63.048951 | G34: 63.575902 | H34: 64.076195 | I34: 64.548317 | J34: 64.992293 | K34: 65.412122 | L34: 65.81439 | M34: 66.205146 | N34: 66.588415 | O34: 66.965195 | P34: 67.335512 | Q34: 67.698854 | R34: 68.053683 | S34: 68.400537 | T34: 68.73939 | U34: 69.071244 | V34: 69.396098 | W34: 69.713439 | X34: 70.024805 | Y34: 70.329659 | Z34: 70.627512 | AA34: 70.919366 | AB34: 71.20622 | AC34: 71.486073 | AD34: 71.759927 | AE34: 72.02878 | AF34: 72.292634 | AG34: 72.550488 | AH34: 72.803341 | AI34: 73.051195 | AJ34: 73.295049 | AK34: 73.53339 | AL34: 73.767244 | AM34: 73.997098 | AN34: 74.222951 | AO34: 74.444317 | AP34: 74.662171 | AQ34: 74.875537 | AR34: 75.085415 | AS34: 75.29478 | AT34: 75.507659 | AU34: 75.723024 | AV34: 75.938878 | AW34: 76.14922 | AX34: 76.341585 | AY34: 76.500439 | AZ34: 76.619341 | BA34: 76.695756 | BB34: 76.736707 | BC34: 76.754195 | BD34: 76.767195 | BE34: 76.795195 | BF34: 76.85122 | BG34: 76.941732 | BH34: 77.066756
A35: Bhutan | B35: BTN | C35: Life expectancy at birth, total (years) | D35: SP.DYN.LE00.IN | E35: 34.52339 | F35: 34.886732 | G35: 35.288171 | H35: 35.73222 | I35: 36.217902 | J35: 36.74322 | K35: 37.301098 | L35: 37.879463 | M35: 38.467317 | N35: 39.055659 | O35: 39.634512 | P35: 40.193976 | Q35: 40.735073 | R35: 41.262878 | S35: 41.783341 | T35: 42.309439 | U35: 42.858634 | V35: 43.443829 | W35: 44.072488 | X35: 44.746561 | Y35: 45.459024 | Z35: 46.198415 | AA35: 46.948756 | AB35: 47.696585 | AC35: 48.436415 | AD35: 49.168244 | AE35: 49.895585 | AF35: 50.626439 | AG35: 51.366293 | AH35: 52.115683 | AI35: 52.872073 | AJ35: 53.630463 | AK35: 54.385878 | AL35: 55.13878 | AM35: 55.889171 | AN35: 56.647537 | AO35: 57.422341 | AP35: 58.221098 | AQ35: 59.04478 | AR35: 59.888902 | AS35: 60.748439 | AT35: 61.614439 | AU35: 62.473878 | AV35: 63.311293 | AW35: 64.114707 | AX35: 64.869659 | AY35: 65.56522 | AZ35: 66.20039 | BA35: 66.777659 | BB35: 67.299488 | BC35: 67.774293 | BD35: 68.210951 | BE35: 68.624902 | BF35: 69.025073 | BG35: 69.417976 | BH35: 69.807122
A36: Botswana | B36: BWA | C36: Life expectancy at birth, total (years) | D36: SP.DYN.LE00.IN | E36: 50.547732 | F36: 50.907634 | G36: 51.255024 | H36: 51.593415 | I36: 51.928756 | J36: 52.272537 | K36: 52.635707 | L36: 53.028244 | M36: 53.457634 | N36: 53.927878 | O36: 54.443463 | P36: 55.008415 | Q36: 55.612732 | R36: 56.245 | S36: 56.894732 | T36: 57.550488 | U36: 58.204317 | V36: 58.845268 | W36: 59.460293 | X36: 60.035927 | Y36: 60.565634 | Z36: 61.049878 | AA36: 61.486098 | AB36: 61.864732 | AC36: 62.170707 | AD36: 62.392902 | AE36: 62.526171 | AF36: 62.557024 | AG36: 62.464024 | AH36: 62.22078 | AI36: 61.761512 | AJ36: 61.012439 | AK36: 59.962268 | AL36: 58.641732 | AM36: 57.112902 | AN36: 55.454976 | AO36: 53.764024 | AP36: 52.159415 | AQ36: 50.76239 | AR36: 49.66822 | AS36: 48.982585 | AT36: 48.783195 | AU36: 49.04378 | AV36: 49.713561 | AW36: 50.746366 | AX36: 52.070317 | AY36: 53.593683 | AZ36: 55.20961 | BA36: 56.819463 | BB36: 58.354659 | BC36: 59.780927 | BD36: 61.098098 | BE36: 62.347244 | BF36: 63.550659 | BG36: 64.69439 | BH36: 65.751098
A37: Central African Republic | B37: CAF | C37: Life expectancy at birth, total (years) | D37: SP.DYN.LE00.IN | E37: 36.482634 | F37: 36.895707 | G37: 37.31878 | H37: 37.760341 | I37: 38.225366 | J37: 38.725854 | K37: 39.272756 | L37: 39.868561 | M37: 40.512756 | N37: 41.202366 | O37: 41.935415 | P37: 42.708951 | Q37: 43.508512 | R37: 44.316122 | S37: 45.113756 | T37: 45.88339 | U37: 46.610439 | V37: 47.284366 | W37: 47.893171 | X37: 48.424902 | Y37: 48.870122 | Z37: 49.223927 | AA37: 49.492439 | AB37: 49.67922 | AC37: 49.784854 | AD37: 49.807854 | AE37: 49.745707 | AF37: 49.601878 | AG37: 49.383805 | AH37: 49.098463 | AI37: 48.746878 | AJ37: 48.328585 | AK37: 47.850561 | AL37: 47.32878 | AM37: 46.782171 | AN37: 46.227171 | AO37: 45.674244 | AP37: 45.140805 | AQ37: 44.649756 | AR37: 44.229463 | AS37: 43.914293 | AT37: 43.733585 | AU37: 43.696317 | AV37: 43.805488 | AW37: 44.057634 | AX37: 44.442829 | AY37: 44.94322 | AZ37: 45.526463 | BA37: 46.163171 | BB37: 46.834927 | BC37: 47.532707 | BD37: 48.256976 | BE37: 49.012146 | BF37: 49.795659 | BG37: 50.591049 | BH37: 51.377854
A38: Canada | B38: CAN | C38: Life expectancy at birth, total (years) | D38: SP.DYN.LE00.IN | E38: 71.133171 | F38: 71.346098 | G38: 71.367073 | H38: 71.380732 | I38: 71.776341 | J38: 71.872195 | K38: 72.00439 | L38: 72.207805 | M38: 72.353415 | N38: 72.501463 | O38: 72.700488 | P38: 73.029268 | Q38: 72.933902 | R38: 73.162683 | S38: 73.237561 | T38: 73.521707 | U38: 73.856098 | V38: 74.21561 | W38: 74.529756 | X38: 74.866341 | Y38: 75.078049 | Z38: 75.478537 | AA38: 75.680488 | AB38: 76.036341 | AC38: 76.317561 | AD38: 76.303415 | AE38: 76.44 | AF38: 76.739512 | AG38: 76.809268 | AH38: 77.06561 | AI38: 77.377073 | AJ38: 77.553415 | AK38: 77.320732 | AL38: 77.685122 | AM38: 77.861951 | AN38: 77.977561 | AO38: 78.230488 | AP38: 78.480488 | AQ38: 78.662439 | AR38: 78.882927 | AS38: 79.236585 | AT38: 79.487805 | AU38: 79.590244 | AV38: 79.839024 | AW38: 80.141463 | AX38: 80.292683 | AY38: 80.292683 | AZ38: 80.543902 | BA38: 80.695122 | BB38: 80.946341 | BC38: 81.197561 | BD38: 81.44878 | BE38: 81.583512 | BF38: 81.772049 | BG38: 81.953049 | BH38: 82.129024
A39: Central Europe and the Baltics | B39: CEB | C39: Life expectancy at birth, total (years) | D39: SP.DYN.LE00.IN | E39: 67.821395 | F39: 68.262044 | G39: 68.006775 | H39: 68.69587 | I39: 69.052276 | J39: 69.276822 | K39: 69.527008 | L39: 69.272735 | M39: 69.536058 | N39: 69.275798 | O39: 69.446971 | P39: 69.485129 | Q39: 69.925368 | R39: 70.067697 | S39: 70.305874 | T39: 70.174405 | U39: 70.319141 | V39: 70.242241 | W39: 70.147839 | X39: 70.239355 | Y39: 69.890213 | Z39: 70.37147 | AA39: 70.455134 | AB39: 70.389611 | AC39: 70.349018 | AD39: 70.312757 | AE39: 70.564922 | AF39: 70.611765 | AG39: 70.861718 | AH39: 70.73197 | AI39: 70.656367 | AJ39: 70.572608 | AK39: 70.732348 | AL39: 70.84623 | AM39: 70.869527 | AN39: 71.025893 | AO39: 71.335465 | AP39: 71.517589 | AQ39: 71.898118 | AR39: 72.184735 | AS39: 72.71969 | AT39: 73.097993 | AU39: 73.244314 | AV39: 73.383829 | AW39: 73.739404 | AX39: 73.840047 | AY39: 74.094725 | AZ39: 74.252383 | BA39: 74.577539 | BB39: 74.931826 | BC39: 75.295349 | BD39: 75.888475 | BE39: 75.993489 | BF39: 76.355163 | BG39: 76.685476 | BH39: 77.026907
A40: Switzerland | B40: CHE | C40: Life expectancy at birth, total (years) | D40: SP.DYN.LE00.IN | E40: 71.313415 | F40: 71.644878 | G40: 71.196098 | H40: 71.187561 | I40: 72.077805 | J40: 72.201707 | K40: 72.33561 | L40: 72.636585 | M40: 72.590244 | N40: 72.612683 | O40: 73.020244 | P40: 73.130732 | Q40: 73.64439 | R40: 73.940976 | S40: 74.287073 | T40: 74.66561 | U40: 74.785366 | V40: 75.238049 | W40: 75.187317 | X40: 75.466098 | Y40: 75.459268 | Z40: 75.693171 | AA40: 76.033902 | AB40: 76.03122 | AC40: 76.608537 | AD40: 76.733659 | AE40: 76.899024 | AF40: 77.197561 | AG40: 77.226585 | AH40: 77.42122 | AI40: 77.242439 | AJ40: 77.514634 | AK40: 77.806098 | AL40: 78.085366 | AM40: 78.35 | AN40: 78.417073 | AO40: 78.896098 | AP40: 79.079512 | AQ40: 79.32439 | AR40: 79.580488 | AS40: 79.680488 | AT40: 80.180488 | AU40: 80.385366 | AV40: 80.536585 | AW40: 81.087805 | AX40: 81.236585 | AY40: 81.490244 | AZ40: 81.741463 | BA40: 81.992683 | BB40: 82.043902 | BC40: 82.246341 | BD40: 82.695122 | BE40: 82.697561 | BF40: 82.797561 | BG40: 83.197561 | BH40: 83.197561
A41: Channel Islands | B41: CHI | C41: Life expectancy at birth, total (years) | D41: SP.DYN.LE00.IN | E41: 70.63978 | F41: 70.734415 | G41: 70.830098 | H41: 70.933317 | I41: 71.047585 | J41: 71.171927 | K41: 71.299341 | L41: 71.421854 | M41: 71.535976 | N41: 71.640707 | O41: 71.739049 | P41: 71.836 | Q41: 71.938049 | R41: 72.050171 | S41: 72.177366 | T41: 72.32461 | U41: 72.493902 | V41: 72.685244 | W41: 72.893122 | X41: 73.116024 | Y41: 73.344951 | Z41: 73.573927 | AA41: 73.795927 | AB41: 74.006463 | AC41: 74.206537 | AD41: 74.398122 | AE41: 74.587732 | AF41: 74.781829 | AG41: 74.985463 | AH41: 75.198585 | AI41: 75.418244 | AJ41: 75.636927 | AK41: 75.849683 | AL41: 76.053 | AM41: 76.24739 | AN41: 76.436854 | AO41: 76.627878 | AP41: 76.827 | AQ41: 77.039659 | AR41: 77.268341 | AS41: 77.514 | AT41: 77.776634 | AU41: 78.051683 | AV41: 78.333171 | AW41: 78.616098 | AX41: 78.894 | AY41: 79.161927 | AZ41: 79.415415 | BA41: 79.652488 | BB41: 79.871146 | BC41: 80.071341 | BD41: 80.253024 | BE41: 80.422122 | BF41: 80.581122 | BG41: 80.735 | BH41: 80.885268
A42: Chile | B42: CHL | C42: Life expectancy at birth, total (years) | D42: SP.DYN.LE00.IN | E42: 57.263512 | F42: 57.659415 | G42: 58.073024 | H42: 58.507805 | I42: 58.965244 | J42: 59.449829 | K42: 59.961024 | L42: 60.500293 | M42: 61.064122 | N42: 61.652463 | O42: 62.263829 | P42: 62.899195 | Q42: 63.554537 | R42: 64.225927 | S42: 64.907317 | T42: 65.595732 | U42: 66.288634 | V42: 66.982073 | W42: 67.670049 | X42: 68.343098 | Y42: 68.989805 | Z42: 69.60022 | AA42: 70.168902 | AB42: 70.695854 | AC42: 71.179049 | AD42: 71.623463 | AE42: 72.036049 | AF42: 72.427707 | AG42: 72.807341 | AH42: 73.177902 | AI42: 73.54378 | AJ42: 73.903463 | AK42: 74.253415 | AL42: 74.590659 | AM42: 74.914732 | AN42: 75.227659 | AO42: 75.531488 | AP42: 75.825293 | AQ42: 76.110146 | AR42: 76.385098 | AS42: 76.644707 | AT42: 76.887024 | AU42: 77.108024 | AV42: 77.307683 | AW42: 77.487 | AX42: 77.647439 | AY42: 77.790951 | AZ42: 77.923 | BA42: 78.050024 | BB42: 78.176512 | BC42: 78.308927 | BD42: 78.452756 | BE42: 78.609537 | BF42: 78.780268 | BG42: 78.964488 | BH42: 79.160683
... A53: Cuba | B53: CUB | C53: Life expectancy at birth, total (years) | D53: SP.DYN.LE00.IN | E53: 63.904659 | F53: 64.516439 | G53: 65.13822 | H53: 65.768024 | I53: 66.401805 | J53: 67.031561 | K53: 67.649244 | L53: 68.247854 | M53: 68.820878 | N53: 69.365805 | O53: 69.883098 | P53: 70.378293 | Q53: 70.85639 | R53: 71.320951 | S53: 71.769488 | T53: 72.19761 | U53: 72.598854 | V53: 72.966268 | W53: 73.295829 | X53: 73.584537 | Y53: 73.831756 | Z53: 74.036366 | AA53: 74.203268 | AB53: 74.33939 | AC53: 74.447756 | AD53: 74.528927 | AE53: 74.581537 | AF53: 74.607707 | AG53: 74.618049 | AH53: 74.623098 | AI53: 74.643805 | AJ53: 74.700561 | AK53: 74.803293 | AL53: 74.958927 | AM53: 75.163976 | AN53: 75.409 | AO53: 75.675634 | AP53: 75.941976 | AQ53: 76.193073 | AR53: 76.425878 | AS53: 76.644805 | AT53: 76.86522 | AU53: 77.102463 | AV53: 77.363951 | AW53: 77.644683 | AX53: 77.932146 | AY53: 78.205951 | AZ53: 78.449707 | BA53: 78.651537 | BB53: 78.811512 | BC53: 78.936659 | BD53: 79.040537 | BE53: 79.142122 | BF53: 79.256341 | BG53: 79.389707 | BH53: 79.543707
...

Sheet Fecundidade - BM
A1: Data Source | B1: World Development Indicators
A2: Last Updated Date | B2: 43091
A4: Country Name | B4: Country Code | C4: Indicator Name | D4: Indicator Code | E4: 1960 | F4: 1961 | G4: 1962 | H4: 1963 | I4: 1964 | J4: 1965 | K4: 1966 | L4: 1967 | M4: 1968 | N4: 1969 | O4: 1970 | P4: 1971 | Q4: 1972 | R4: 1973 | S4: 1974 | T4: 1975 | U4: 1976 | V4: 1977 | W4: 1978 | X4: 1979 | Y4: 1980 | Z4: 1981 | AA4: 1982 | AB4: 1983 | AC4: 1984 | AD4: 1985 | AE4: 1986 | AF4: 1987 | AG4: 1988 | AH4: 1989 | AI4: 1990 | AJ4: 1991 | AK4: 1992 | AL4: 1993 | AM4: 1994 | AN4: 1995 | AO4: 1996 | AP4: 1997 | AQ4: 1998 | AR4: 1999 | AS4: 2000 | AT4: 2001 | AU4: 2002 | AV4: 2003 | AW4: 2004 | AX4: 2005 | AY4: 2006 | AZ4: 2007 | BA4: 2008 | BB4: 2009 | BC4: 2010 | BD4: 2011 | BE4: 2012 | BF4: 2013 | BG4: 2014 | BH4: 2015 | BI4: 2016 | BJ4: 2017
A5: Aruba | B5: ABW | C5: Fertility rate, total (births per woman) | D5: SP.DYN.TFRT.IN | E5: 4.82 | F5: 4.655 | G5: 4.471 | H5: 4.271 | I5: 4.059 | J5: 3.842 | K5: 3.625 | L5: 3.417 | M5: 3.226 | N5: 3.054 | O5: 2.908 | P5: 2.788 | Q5: 2.691 | R5: 2.613 | S5: 2.552 | T5: 2.506 | U5: 2.472 | V5: 2.446 | W5: 2.425 | X5: 2.408 | Y5: 2.392 | Z5: 2.377 | AA5: 2.364 | AB5: 2.353 | AC5: 2.342 | AD5: 2.332 | AE5: 2.32 | AF5: 2.307 | AG5: 2.291 | AH5: 2.272 | AI5: 2.249 | AJ5: 2.221 | AK5: 2.187 | AL5: 2.149 | AM5: 2.108 | AN5: 2.064 | AO5: 2.021 | AP5: 1.978 | AQ5: 1.939 | AR5: 1.903 | AS5: 1.872 | AT5: 1.846 | AU5: 1.823 | AV5: 1.803 | AW5: 1.787 | AX5: 1.774 | AY5: 1.766 | AZ5: 1.763 | BA5: 1.764 | BB5: 1.769 | BC5: 1.776 | BD5: 1.783 | BE5: 1.791 | BF5: 1.796 | BG5: 1.8 | BH5: 1.801
A6: Afghanistan | B6: AFG | C6: Fertility rate, total (births per woman) | D6: SP.DYN.TFRT.IN | E6: 7.45 | F6: 7.45 | G6: 7.45 | H6: 7.45 | I6: 7.45 | J6: 7.45 | K6: 7.45 | L6: 7.45 | M6: 7.45 | N6: 7.45 | O6: 7.45 | P6: 7.45 | Q6: 7.45 | R6: 7.45 | S6: 7.45 | T6: 7.45 | U6: 7.45 | V6: 7.449 | W6: 7.449 | X6: 7.449 | Y6: 7.449 | Z6: 7.449 | AA6: 7.45 | AB6: 7.452 | AC6: 7.455 | AD6: 7.458 | AE6: 7.46 | AF6: 7.461 | AG6: 7.461 | AH6: 7.461 | AI6: 7.466 | AJ6: 7.479 | AK6: 7.502 | AL6: 7.535 | AM6: 7.572 | AN6: 7.606 | AO6: 7.63 | AP6: 7.635 | AQ6: 7.616 | AR6: 7.569 | AS6: 7.494 | AT6: 7.392 | AU6: 7.271 | AV6: 7.136 | AW6: 6.988 | AX6: 6.827 | AY6: 6.651 | AZ6: 6.46 | BA6: 6.254 | BB6: 6.038 | BC6: 5.816 | BD6: 5.595 | BE6: 5.38 | BF6: 5.174 | BG6: 4.981 | BH6: 4.802
A7: Angola | B7: AGO | C7: Fertility rate, total (births per woman) | D7: SP.DYN.TFRT.IN | E7: 7.478 | F7: 7.524 | G7: 7.563 | H7: 7.592 | I7: 7.611 | J7: 7.619 | K7: 7.618 | L7: 7.613 | M7: 7.608 | N7: 7.604 | O7: 7.601 | P7: 7.603 | Q7: 7.606 | R7: 7.611 | S7: 7.614 | T7: 7.615 | U7: 7.609 | V7: 7.594 | W7: 7.571 | X7: 7.54 | Y7: 7.504 | Z7: 7.469 | AA7: 7.438 | AB7: 7.413 | AC7: 7.394 | AD7: 7.38 | AE7: 7.366 | AF7: 7.349 | AG7: 7.324 | AH7: 7.291 | AI7: 7.247 | AJ7: 7.193 | AK7: 7.13 | AL7: 7.063 | AM7: 6.992 | AN7: 6.922 | AO7: 6.854 | AP7: 6.791 | AQ7: 6.734 | AR7: 6.683 | AS7: 6.639 | AT7: 6.602 | AU7: 6.568 | AV7: 6.536 | AW7: 6.502 | AX7: 6.465 | AY7: 6.42 | AZ7: 6.368 | BA7: 6.307 | BB7: 6.238 | BC7: 6.162 | BD7: 6.082 | BE7: 6 | BF7: 5.92 | BG7: 5.841 | BH7: 5.766
A8: Albania | B8: ALB | C8: Fertility rate, total (births per woman) | D8: SP.DYN.TFRT.IN | E8: 6.489 | F8: 6.401 | G8: 6.282 | H8: 6.133 | I8: 5.96 | J8: 5.773 | K8: 5.581 | L8: 5.394 | M8: 5.218 | N8: 5.057 | O8: 4.91 | P8: 4.775 | Q8: 4.642 | R8: 4.509 | S8: 4.373 | T8: 4.235 | U8: 4.099 | V8: 3.966 | W8: 3.841 | X8: 3.725 | Y8: 3.621 | Z8: 3.53 | AA8: 3.452 | AB8: 3.383 | AC8: 3.323 | AD8: 3.269 | AE8: 3.217 | AF8: 3.164 | AG8: 3.108 | AH8: 3.046 | AI8: 2.978 | AJ8: 2.905 | AK8: 2.829 | AL8: 2.751 | AM8: 2.672 | AN8: 2.591 | AO8: 2.507 | AP8: 2.422 | AQ8: 2.334 | AR8: 2.246 | AS8: 2.157 | AT8: 2.068 | AU8: 1.981 | AV8: 1.897 | AW8: 1.821 | AX8: 1.754 | AY8: 1.703 | AZ8: 1.668 | BA8: 1.65 | BB8: 1.646 | BC8: 1.653 | BD8: 1.668 | BE8: 1.685 | BF8: 1.7 | BG8: 1.71 | BH8: 1.714
A9: Andorra | B9: AND | C9: Fertility rate, total (births per woman) | D9: SP.DYN.TFRT.IN | AY9: 1.24 | AZ9: 1.18 | BA9: 1.25 | BB9: 1.19 | BC9: 1.27
A10: Arab World | B10: ARB | C10: Fertility rate, total (births per woman) | D10: SP.DYN.TFRT.IN | E10: 6.9487467 | F10: 6.97137 | G10: 6.9923495 | H10: 7.0092647 | I10: 7.020105 | J10: 7.0231594 | K10: 7.0158238 | L10: 6.9986282 | M10: 6.972205 | N10: 6.9361107 | O10: 6.891975 | P10: 6.841981 | Q10: 6.7889413 | R10: 6.735216 | S10: 6.6820123 | T10: 6.6298747 | U10: 6.5777911 | V10: 6.5242998 | W10: 6.4669519 | X10: 6.4040736 | Y10: 6.3357556 | Z10: 6.2603705 | AA10: 6.1789562 | AB10: 6.0902733 | AC10: 5.9941504 | AD10: 5.8887245 | AE10: 5.7702484 | AF10: 5.6401183 | AG10: 5.499388 | AH10: 5.3495054 | AI10: 5.2061923 | AJ10: 5.0455184 | AK10: 4.9018785 | AL10: 4.737134 | AM10: 4.5758055 | AN10: 4.4106931 | AO10: 4.2678181 | AP10: 4.1358822 | AQ10: 4.0158821 | AR10: 3.9091089 | AS10: 3.8162258 | AT10: 3.7361412 | AU10: 3.6673746 | AV10: 3.6089118 | AW10: 3.5597601 | AX10: 3.5210015 | AY10: 3.493351 | AZ10: 3.476805 | BA10: 3.4701265 | BB10: 3.4697365 | BC10: 3.4716658 | BD10: 3.4700027 | BE10: 3.4613473 | BF10: 3.4428287 | BG10: 3.4132995 | BH10: 3.3738397
A11: United Arab Emirates | B11: ARE | C11: Fertility rate, total (births per woman) | D11: SP.DYN.TFRT.IN | E11: 6.929 | F11: 6.91 | G11: 6.892 | H11: 6.875 | I11: 6.857 | J11: 6.838 | K11: 6.817 | L11: 6.791 | M11: 6.757 | N11: 6.713 | O11: 6.655 | P11: 6.579 | Q11: 6.484 | R11: 6.372 | S11: 6.245 | T11: 6.111 | U11: 5.973 | V11: 5.84 | W11: 5.716 | X11: 5.603 | Y11: 5.505 | Z11: 5.422 | AA11: 5.35 | AB11: 5.283 | AC11: 5.215 | AD11: 5.139 | AE11: 5.047 | AF11: 4.934 | AG11: 4.797 | AH11: 4.636 | AI11: 4.454 | AJ11: 4.253 | AK11: 4.041 | AL11: 3.827 | AM11: 3.618 | AN11: 3.418 | AO11: 3.232 | AP11: 3.062 | AQ11: 2.907 | AR11: 2.768 | AS11: 2.644 | AT11: 2.532 | AU11: 2.428 | AV11: 2.33 | AW11: 2.238 | AX11: 2.151 | AY11: 2.073 | AZ11: 2.005 | BA11: 1.949 | BB11: 1.904 | BC11: 1.869 | BD11: 1.841 | BE11: 1.82 | BF11: 1.801 | BG11: 1.783 | BH11: 1.765
A12: Argentina | B12: ARG | C12: Fertility rate, total (births per woman) | D12: SP.DYN.TFRT.IN | E12: 3.109 | F12: 3.1 | G12: 3.089 | H12: 3.078 | I12: 3.068 | J12: 3.058 | K12: 3.051 | L12: 3.048 | M12: 3.049 | N12: 3.056 | O12: 3.073 | P12: 3.104 | Q12: 3.148 | R12: 3.203 | S12: 3.264 | T12: 3.321 | U12: 3.366 | V12: 3.391 | W12: 3.391 | X12: 3.368 | Y12: 3.325 | Z12: 3.27 | AA12: 3.213 | AB12: 3.163 | AC12: 3.123 | AD12: 3.093 | AE12: 3.073 | AF12: 3.056 | AG12: 3.037 | AH12: 3.016 | AI12: 2.989 | AJ12: 2.954 | AK12: 2.913 | AL12: 2.866 | AM12: 2.815 | AN12: 2.762 | AO12: 2.711 | AP12: 2.664 | AQ12: 2.623 | AR12: 2.589 | AS12: 2.561 | AT12: 2.537 | AU12: 2.516 | AV12: 2.495 | AW12: 2.474 | AX12: 2.452 | AY12: 2.432 | AZ12: 2.413 | BA12: 2.396 | BB12: 2.382 | BC12: 2.37 | BD12: 2.358 | BE12: 2.347 | BF12: 2.335 | BG12: 2.322 | BH12: 2.308
A13: Armenia | B13: ARM | C13: Fertility rate, total (births per woman) | D13: SP.DYN.TFRT.IN | E13: 4.786 | F13: 4.67 | G13: 4.521 | H13: 4.345 | I13: 4.15 | J13: 3.95 | K13: 3.758 | L13: 3.582 | M13: 3.429 | N13: 3.302 | O13: 3.199 | P13: 3.114 | Q13: 3.035 | R13: 2.956 | S13: 2.875 | T13: 2.792 | U13: 2.712 | V13: 2.641 | W13: 2.582 | X13: 2.538 | Y13: 2.51 | Z13: 2.499 | AA13: 2.503 | AB13: 2.517 | AC13: 2.538 | AD13: 2.559 | AE13: 2.578 | AF13: 2.591 | AG13: 2.592 | AH13: 2.578 | AI13: 2.544 | AJ13: 2.484 | AK13: 2.4 | AL13: 2.297 | AM13: 2.179 | AN13: 2.056 | AO13: 1.938 | AP13: 1.832 | AQ13: 1.747 | AR13: 1.685 | AS13: 1.648 | AT13: 1.635 | AU13: 1.637 | AV13: 1.648 | AW13: 1.665 | AX13: 1.681 | AY13: 1.694 | AZ13: 1.702 | BA13: 1.706 | BB13: 1.703 | BC13: 1.693 | BD13: 1.68 | BE13: 1.664 | BF13: 1.648 | BG13: 1.634 | BH13: 1.622
A14: American Samoa | B14: ASM | C14: Fertility rate, total (births per woman) | D14: SP.DYN.TFRT.IN
A15: Antigua and Barbuda | B15: ATG | C15: Fertility rate, total (births per woman) | D15: SP.DYN.TFRT.IN | E15: 4.425 | F15: 4.386 | G15: 4.344 | H15: 4.299 | I15: 4.25 | J15: 4.193 | K15: 4.125 | L15: 4.042 | M15: 3.942 | N15: 3.824 | O15: 3.684 | P15: 3.517 | Q15: 3.328 | R15: 3.122 | S15: 2.908 | T15: 2.701 | U15: 2.514 | V15: 2.358 | W15: 2.239 | X15: 2.159 | Y15: 2.115 | Z15: 2.098 | AA15: 2.096 | AB15: 2.098 | AC15: 2.098 | AD15: 2.092 | AE15: 2.082 | AF15: 2.07 | AG15: 2.062 | AH15: 2.058 | AI15: 2.061 | AJ15: 2.073 | AK15: 2.096 | AL15: 2.128 | AM15: 2.166 | AN15: 2.208 | AO15: 2.248 | AP15: 2.281 | AQ15: 2.304 | AR15: 2.316 | AS15: 2.316 | AT15: 2.305 | AU15: 2.288 | AV15: 2.268 | AW15: 2.246 | AX15: 2.224 | AY15: 2.203 | AZ15: 2.183 | BA15: 2.164 | BB15: 2.146 | BC15: 2.13 | BD15: 2.115 | BE15: 2.102 | BF15: 2.089 | BG15: 2.076 | BH15: 2.063
A16: Australia | B16: AUS | C16: Fertility rate, total (births per woman) | D16: SP.DYN.TFRT.IN | E16: 3.453 | F16: 3.54 | G16: 3.442 | H16: 3.332 | I16: 3.146 | J16: 2.977 | K16: 2.881 | L16: 2.848 | M16: 2.888 | N16: 2.886 | O16: 2.859 | P16: 2.961 | Q16: 2.744 | R16: 2.491 | S16: 2.397 | T16: 2.148 | U16: 2.06 | V16: 2.007 | W16: 1.949 | X16: 1.907 | Y16: 1.891 | Z16: 1.935 | AA16: 1.929 | AB16: 1.924 | AC16: 1.84 | AD16: 1.923 | AE16: 1.868 | AF16: 1.845 | AG16: 1.831 | AH16: 1.838 | AI16: 1.902 | AJ16: 1.849 | AK16: 1.888 | AL16: 1.859 | AM16: 1.842 | AN16: 1.822 | AO16: 1.796 | AP16: 1.778 | AQ16: 1.762 | AR16: 1.755 | AS16: 1.756 | AT16: 1.739 | AU16: 1.756 | AV16: 1.748 | AW16: 1.768 | AX16: 1.807 | AY16: 1.908 | AZ16: 1.959 | BA16: 1.984 | BB16: 1.971 | BC16: 1.928 | BD16: 1.927 | BE16: 1.921 | BF16: 1.859 | BG16: 1.833 | BH16: 1.833
A17: Austria | B17: AUT | C17: Fertility rate, total (births per woman) | D17: SP.DYN.TFRT.IN | E17: 2.69 | F17: 2.78 | G17: 2.8 | H17: 2.82 | I17: 2.79 | J17: 2.7 | K17: 2.66 | L17: 2.62 | M17: 2.58 | N17: 2.49 | O17: 2.29 | P17: 2.2 | Q17: 2.08 | R17: 1.94 | S17: 1.91 | T17: 1.83 | U17: 1.69 | V17: 1.63 | W17: 1.6 | X17: 1.6 | Y17: 1.65 | Z17: 1.67 | AA17: 1.66 | AB17: 1.56 | AC17: 1.52 | AD17: 1.47 | AE17: 1.45 | AF17: 1.43 | AG17: 1.45 | AH17: 1.45 | AI17: 1.46 | AJ17: 1.51 | AK17: 1.51 | AL17: 1.5 | AM17: 1.47 | AN17: 1.42 | AO17: 1.45 | AP17: 1.39 | AQ17: 1.37 | AR17: 1.34 | AS17: 1.36 | AT17: 1.33 | AU17: 1.39 | AV17: 1.38 | AW17: 1.42 | AX17: 1.41 | AY17: 1.41 | AZ17: 1.38 | BA17: 1.42 | BB17: 1.39 | BC17: 1.44 | BD17: 1.43 | BE17: 1.44 | BF17: 1.44 | BG17: 1.47 | BH17: 1.47
A18: Azerbaijan | B18: AZE | C18: Fertility rate, total (births per woman) | D18: SP.DYN.TFRT.IN | E18: 5.878 | F18: 5.937 | G18: 5.961 | H18: 5.945 | I18: 5.888 | J18: 5.792 | K18: 5.663 | L18: 5.512 | M18: 5.351 | N18: 5.185 | O18: 5.018 | P18: 4.85 | Q18: 4.681 | R18: 4.51 | S18: 4.341 | T18: 4.176 | U18: 4.018 | V18: 3.869 | W18: 3.73 | X18: 3.605 | Y18: 3.497 | Z18: 3.41 | AA18: 3.343 | AB18: 3.293 | AC18: 3.259 | AD18: 2.91 | AE18: 2.9 | AF18: 2.9026 | AG18: 2.8 | AH18: 2.8 | AI18: 2.74 | AJ18: 2.87 | AK18: 2.74 | AL18: 2.7 | AM18: 2.52 | AN18: 2.29 | AO18: 2.06 | AP18: 2.07 | AQ18: 2 | AR18: 2.07 | AS18: 2 | AT18: 1.8 | AU18: 1.8 | AV18: 1.9 | AW18: 2.0535 | AX18: 2 | AY18: 1.97 | AZ18: 1.97 | BA18: 1.9 | BB18: 1.82 | BC18: 1.92 | BD18: 1.96 | BE18: 2 | BF18: 1.98 | BG18: 1.97 | BH18: 1.97
A19: Burundi | B19: BDI | C19: Fertility rate, total (births per woman) | D19: SP.DYN.TFRT.IN | E19: 6.953 | F19: 6.999 | G19: 7.046 | H19: 7.094 | I19: 7.141 | J19: 7.183 | K19: 7.218 | L19: 7.245 | M19: 7.265 | N19: 7.279 | O19: 7.289 | P19: 7.299 | Q19: 7.312 | R19: 7.329 | S19: 7.35 | T19: 7.373 | U19: 7.394 | V19: 7.41 | W19: 7.418 | X19: 7.42 | Y19: 7.418 | Z19: 7.417 | AA19: 7.423 | AB19: 7.438 | AC19: 7.459 | AD19: 7.485 | AE19: 7.509 | AF19: 7.527 | AG19: 7.533 | AH19: 7.526 | AI19: 7.505 | AJ19: 7.473 | AK19: 7.432 | AL19: 7.387 | AM19: 7.338 | AN19: 7.288 | AO19: 7.236 | AP19: 7.182 | AQ19: 7.126 | AR19: 7.068 | AS19: 7.008 | AT19: 6.948 | AU19: 6.887 | AV19: 6.824 | AW19: 6.759 | AX19: 6.69 | AY19: 6.616 | AZ19: 6.534 | BA19: 6.447 | BB19: 6.353 | BC19: 6.256 | BD19: 6.156 | BE19: 6.058 | BF19: 5.962 | BG19: 5.869 | BH19: 5.781
A20: Belgium | B20: BEL | C20: Fertility rate, total (births per woman) | D20: SP.DYN.TFRT.IN | E20: 2.54 | F20: 2.63 | G20: 2.59 | H20: 2.68 | I20: 2.71 | J20: 2.61 | K20: 2.52 | L20: 2.41 | M20: 2.31 | N20: 2.27 | O20: 2.25 | P20: 2.21 | Q20: 2.09 | R20: 1.95 | S20: 1.83 | T20: 1.74 | U20: 1.73 | V20: 1.71 | W20: 1.69 | X20: 1.69 | Y20: 1.68 | Z20: 1.66 | AA20: 1.61 | AB20: 1.57 | AC20: 1.54 | AD20: 1.51 | AE20: 1.54 | AF20: 1.54 | AG20: 1.57 | AH20: 1.58 | AI20: 1.62 | AJ20: 1.66 | AK20: 1.65 | AL20: 1.61 | AM20: 1.56 | AN20: 1.56 | AO20: 1.59 | AP20: 1.6 | AQ20: 1.6 | AR20: 1.62 | AS20: 1.67 | AT20: 1.67 | AU20: 1.65 | AV20: 1.67 | AW20: 1.72 | AX20: 1.76 | AY20: 1.8 | AZ20: 1.82 | BA20: 1.85 | BB20: 1.84 | BC20: 1.86 | BD20: 1.81 | BE20: 1.79 | BF20: 1.75 | BG20: 1.74 | BH20: 1.74
A21: Benin | B21: BEN | C21: Fertility rate, total (births per woman) | D21: SP.DYN.TFRT.IN | E21: 6.282 | F21: 6.339 | G21: 6.394 | H21: 6.447 | I21: 6.497 | J21: 6.544 | K21: 6.588 | L21: 6.63 | M21: 6.671 | N21: 6.71 | O21: 6.748 | P21: 6.786 | Q21: 6.823 | R21: 6.86 | S21: 6.896 | T21: 6.929 | U21: 6.959 | V21: 6.984 | W21: 7.004 | X21: 7.018 | Y21: 7.025 | Z21: 7.025 | AA21: 7.021 | AB21: 7.01 | AC21: 6.994 | AD21: 6.972 | AE21: 6.942 | AF21: 6.904 | AG21: 6.858 | AH21: 6.805 | AI21: 6.744 | AJ21: 6.677 | AK21: 6.603 | AL21: 6.526 | AM21: 6.446 | AN21: 6.364 | AO21: 6.282 | AP21: 6.199 | AQ21: 6.118 | AR21: 6.038 | AS21: 5.962 | AT21: 5.889 | AU21: 5.82 | AV21: 5.754 | AW21: 5.691 | AX21: 5.632 | AY21: 5.576 | AZ21: 5.522 | BA21: 5.469 | BB21: 5.416 | BC21: 5.362 | BD21: 5.305 | BE21: 5.246 | BF21: 5.183 | BG21: 5.117 | BH21: 5.048
A22: Burkina Faso | B22: BFA | C22: Fertility rate, total (births per woman) | D22: SP.DYN.TFRT.IN | E22: 6.291 | F22: 6.316 | G22: 6.344 | H22: 6.377 | I22: 6.414 | J22: 6.454 | K22: 6.493 | L22: 6.53 | M22: 6.563 | N22: 6.593 | O22: 6.623 | P22: 6.657 | Q22: 6.697 | R22: 6.744 | S22: 6.799 | T22: 6.859 | U22: 6.922 | V22: 6.984 | W22: 7.041 | X22: 7.09 | Y22: 7.127 | Z22: 7.152 | AA22: 7.165 | AB22: 7.167 | AC22: 7.159 | AD22: 7.142 | AE22: 7.119 | AF22: 7.092 | AG22: 7.064 | AH22: 7.036 | AI22: 7.007 | AJ22: 6.979 | AK22: 6.95 | AL22: 6.917 | AM22: 6.882 | AN22: 6.844 | AO22: 6.801 | AP22: 6.754 | AQ22: 6.704 | AR22: 6.65 | AS22: 6.592 | AT22: 6.531 | AU22: 6.468 | AV22: 6.403 | AW22: 6.335 | AX22: 6.265 | AY22: 6.192 | AZ22: 6.116 | BA22: 6.036 | BB22: 5.953 | BC22: 5.868 | BD22: 5.781 | BE22: 5.693 | BF22: 5.607 | BG22: 5.521 | BH22: 5.436
A23: Bangladesh | B23: BGD | C23: Fertility rate, total (births per woman) | D23: SP.DYN.TFRT.IN | E23: 6.725 | F23: 6.761 | G23: 6.794 | H23: 6.825 | I23: 6.853 | J23: 6.878 | K23: 6.901 | L23: 6.92 | M23: 6.935 | N23: 6.945 | O23: 6.947 | P23: 6.942 | Q23: 6.928 | R23: 6.904 | S23: 6.869 | T23: 6.821 | U23: 6.758 | V23: 6.681 | W23: 6.59 | X23: 6.483 | Y23: 6.359 | Z23: 6.217 | AA23: 6.058 | AB23: 5.884 | AC23: 5.698 | AD23: 5.501 | AE23: 5.298 | AF23: 5.092 | AG23: 4.887 | AH23: 4.686 | AI23: 4.494 | AJ23: 4.314 | AK23: 4.146 | AL23: 3.99 | AM23: 3.846 | AN23: 3.713 | AO23: 3.592 | AP23: 3.479 | AQ23: 3.372 | AR23: 3.27 | AS23: 3.17 | AT23: 3.071 | AU23: 2.973 | AV23: 2.876 | AW23: 2.782 | AX23: 2.69 | AY23: 2.603 | AZ23: 2.522 | BA23: 2.449 | BB23: 2.384 | BC23: 2.328 | BD23: 2.279 | BE23: 2.236 | BF23: 2.199 | BG23: 2.165 | BH23: 2.133
A24: Bulgaria | B24: BGR | C24: Fertility rate, total (births per woman) | D24: SP.DYN.TFRT.IN | E24: 2.31 | F24: 2.29 | G24: 2.24 | H24: 2.21 | I24: 2.19 | J24: 2.09 | K24: 2.03 | L24: 2.02 | M24: 2.27 | N24: 2.27 | O24: 2.17 | P24: 2.1 | Q24: 2.03 | R24: 2.15 | S24: 2.29 | T24: 2.23 | U24: 2.24 | V24: 2.21 | W24: 2.15 | X24: 2.16 | Y24: 2.05 | Z24: 2 | AA24: 2.01 | AB24: 2.01 | AC24: 2.01 | AD24: 1.97 | AE24: 2.02 | AF24: 1.96 | AG24: 1.97 | AH24: 1.9 | AI24: 1.82 | AJ24: 1.66 | AK24: 1.55 | AL24: 1.46 | AM24: 1.37 | AN24: 1.23 | AO24: 1.23 | AP24: 1.09 | AQ24: 1.11 | AR24: 1.23 | AS24: 1.26 | AT24: 1.21 | AU24: 1.23 | AV24: 1.26 | AW24: 1.33 | AX24: 1.37 | AY24: 1.44 | AZ24: 1.49 | BA24: 1.56 | BB24: 1.66 | BC24: 1.57 | BD24: 1.51 | BE24: 1.5 | BF24: 1.48 | BG24: 1.53 | BH24: 1.53
A25: Bahrain | B25: BHR | C25: Fertility rate, total (births per woman) | D25: SP.DYN.TFRT.IN | E25: 7.087 | F25: 7.129 | G25: 7.163 | H25: 7.185 | I25: 7.188 | J25: 7.162 | K25: 7.099 | L25: 6.997 | M25: 6.86 | N25: 6.692 | O25: 6.501 | P25: 6.297 | Q25: 6.094 | R25: 5.899 | S25: 5.721 | T25: 5.56 | U25: 5.417 | V25: 5.285 | W25: 5.158 | X25: 5.036 | Y25: 4.916 | Z25: 4.8 | AA25: 4.688 | AB25: 4.578 | AC25: 4.47 | AD25: 4.36 | AE25: 4.245 | AF25: 4.124 | AG25: 3.997 | AH25: 3.866 | AI25: 3.732 | AJ25: 3.599 | AK25: 3.471 | AL25: 3.352 | AM25: 3.244 | AN25: 3.147 | AO25: 3.062 | AP25: 2.987 | AQ25: 2.919 | AR25: 2.856 | AS25: 2.795 | AT25: 2.731 | AU25: 2.663 | AV25: 2.59 | AW25: 2.514 | AX25: 2.436 | AY25: 2.363 | AZ25: 2.297 | BA25: 2.241 | BB25: 2.197 | BC25: 2.164 | BD25: 2.139 | BE25: 2.118 | BF25: 2.098 | BG25: 2.078 | BH25: 2.056
A26: Bahamas, The | B26: BHS | C26: Fertility rate, total (births per woman) | D26: SP.DYN.TFRT.IN | E26: 4.495 | F26: 4.496 | G26: 4.45 | H26: 4.356 | I26: 4.22 | J26: 4.057 | K26: 3.893 | L26: 3.75 | M26: 3.641 | N26: 3.571 | O26: 3.531 | P26: 3.504 | Q26: 3.469 | R26: 3.411 | S26: 3.33 | T26: 3.234 | U26: 3.139 | V26: 3.062 | W26: 3.012 | X26: 2.99 | Y26: 2.989 | Z26: 2.994 | AA26: 2.989 | AB26: 2.965 | AC26: 2.919 | AD26: 2.857 | AE26: 2.789 | AF26: 2.728 | AG26: 2.683 | AH26: 2.654 | AI26: 2.639 | AJ26: 2.631 | AK26: 2.621 | AL26: 2.601 | AM26: 2.566 | AN26: 2.514 | AO26: 2.443 | AP26: 2.357 | AQ26: 2.263 | AR26: 2.165 | AS26: 2.071 | AT26: 1.99 | AU26: 1.927 | AV26: 1.885 | AW26: 1.863 | AX26: 1.859 | AY26: 1.865 | AZ26: 1.874 | BA26: 1.879 | BB26: 1.876 | BC26: 1.865 | BD26: 1.847 | BE26: 1.827 | BF26: 1.808 | BG26: 1.792 | BH26: 1.778
... A29: Belize | B29: BLZ | C29: Fertility rate, total (births per woman) | D29: SP.DYN.TFRT.IN | E29: 6.5 | F29: 6.48 | G29: 6.46 | H29: 6.44 | I29: 6.42 | J29: 6.4 | K29: 6.379 | L29: 6.358 | M29: 6.337 | N29: 6.316 | O29: 6.299 | P29: 6.288 | Q29: 6.284 | R29: 6.285 | S29: 6.287 | T29: 6.278 | U29: 6.25 | V29: 6.195 | W29: 6.109 | X29: 5.992 | Y29: 5.849 | Z29: 5.684 | AA29: 5.51 | AB29: 5.336 | AC29: 5.17 | AD29: 5.019 | AE29: 4.886 | AF29: 4.771 | AG29: 4.671 | AH29: 4.584 | AI29: 4.508 | AJ29: 4.436 | AK29: 4.363 | AL29: 4.286 | AM29: 4.201 | AN29: 4.109 | AO29: 4.01 | AP29: 3.908 | AQ29: 3.805 | AR29: 3.703 | AS29: 3.6 | AT29: 3.496 | AU29: 3.39 | AV29: 3.282 | AW29: 3.175 | AX29: 3.072 | AY29: 2.977 | AZ29: 2.893 | BA29: 2.821 | BB29: 2.762 | BC29: 2.715 | BD29: 2.676 | BE29: 2.642 | BF29: 2.61 | BG29: 2.578 | BH29: 2.544
A30: Bermuda | B30: BMU | C30: Fertility rate, total (births per woman) | D30: SP.DYN.TFRT.IN | AN30: 1.8 | AS30: 1.74 | AT30: 1.75 | AU30: 1.77 | AV30: 1.8 | AW30: 1.78 | AX30: 1.76 | AY30: 1.76 | AZ30: 1.76 | BA30: 1.77 | BB30: 1.76 | BC30: 1.76 | BD30: 1.59 | BE30: 1.59 | BF30: 1.63 | BG30: 1.63 | BH30: 1.62
A31: Bolivia | B31: BOL | C31: Fertility rate, total (births per woman) | D31: SP.DYN.TFRT.IN | E31: 6.7 | F31: 6.668 | G31: 6.633 | H31: 6.597 | I31: 6.559 | J31: 6.519 | K31: 6.477 | L31: 6.432 | M31: 6.384 | N31: 6.335 | O31: 6.284 | P31: 6.233 | Q31: 6.182 | R31: 6.132 | S31: 6.081 | T31: 6.029 | U31: 5.975 | V31: 5.917 | W31: 5.855 | X31: 5.787 | Y31: 5.715 | Z31: 5.637 | AA31: 5.556 | AB31: 5.472 | AC31: 5.386 | AD31: 5.3 | AE31: 5.215 | AF31: 5.132 | AG31: 5.051 | AH31: 4.971 | AI31: 4.894 | AJ31: 4.817 | AK31: 4.741 | AL31: 4.664 | AM31: 4.585 | AN31: 4.503 | AO31: 4.418 | AP31: 4.331 | AQ31: 4.241 | AR31: 4.148 | AS31: 4.055 | AT31: 3.96 | AU31: 3.866 | AV31: 3.773 | AW31: 3.683 | AX31: 3.595 | AY31: 3.51 | AZ31: 3.427 | BA31: 3.348 | BB31: 3.272 | BC31: 3.2 | BD31: 3.134 | BE31: 3.072 | BF31: 3.017 | BG31: 2.966 | BH31: 2.921
A32: Brazil | B32: BRA | C32: Fertility rate, total (births per woman) | D32: SP.DYN.TFRT.IN | E32: 6.07 | F32: 6.047 | G32: 6.004 | H32: 5.937 | I32: 5.847 | J32: 5.733 | K32: 5.6 | L32: 5.454 | M32: 5.304 | N32: 5.153 | O32: 5.009 | P32: 4.877 | Q32: 4.756 | R32: 4.647 | S32: 4.55 | T32: 4.463 | U32: 4.385 | V32: 4.311 | W32: 4.235 | X32: 4.156 | Y32: 4.068 | Z32: 3.97 | AA32: 3.861 | AB32: 3.743 | AC32: 3.618 | AD32: 3.488 | AE32: 3.358 | AF32: 3.232 | AG32: 3.113 | AH32: 3.005 | AI32: 2.909 | AJ32: 2.827 | AK32: 2.756 | AL32: 2.694 | AM32: 2.638 | AN32: 2.586 | AO32: 2.535 | AP32: 2.482 | AQ32: 2.426 | AR32: 2.365 | AS32: 2.3 | AT32: 2.232 | AU32: 2.163 | AV32: 2.096 | AW32: 2.033 | AX32: 1.975 | AY32: 1.926 | AZ32: 1.884 | BA32: 1.851 | BB32: 1.824 | BC32: 1.805 | BD32: 1.79 | BE32: 1.777 | BF32: 1.765 | BG32: 1.753 | BH32: 1.74
A33: Barbados | B33: BRB | C33: Fertility rate, total (births per woman) | D33: SP.DYN.TFRT.IN | E33: 4.333 | F33: 4.313 | G33: 4.269 | H33: 4.196 | I33: 4.094 | J33: 3.963 | K33: 3.807 | L33: 3.637 | M33: 3.46 | N33: 3.284 | O33: 3.113 | P33: 2.949 | Q33: 2.794 | R33: 2.648 | S33: 2.513 | T33: 2.393 | U33: 2.288 | V33: 2.198 | W33: 2.121 | X33: 2.057 | Y33: 2.004 | Z33: 1.96 | AA33: 1.922 | AB33: 1.889 | AC33: 1.858 | AD33: 1.83 | AE33: 1.805 | AF33: 1.782 | AG33: 1.765 | AH33: 1.75 | AI33: 1.74 | AJ33: 1.733 | AK33: 1.729 | AL33: 1.728 | AM33: 1.729 | AN33: 1.73 | AO33: 1.733 | AP33: 1.736 | AQ33: 1.739 | AR33: 1.742 | AS33: 1.744 | AT33: 1.746 | AU33: 1.749 | AV33: 1.752 | AW33: 1.755 | AX33: 1.759 | AY33: 1.763 | AZ33: 1.768 | BA33: 1.772 | BB33: 1.777 | BC33: 1.781 | BD33: 1.785 | BE33: 1.788 | BF33: 1.791 | BG33: 1.794 | BH33: 1.796
