Workbook

Sheet Gini - INE
B1: Fonte: INE
B2: Coeficiente de GINI y quintiles del ingreso percápita de los hogares, 1997-2015
B4: Coeficiente Gini y Quintiles | C4: 1997 | D4: 1998 | E4: 1999 | F4: 2000 | G4: 2001 | H4: 2002 | I4: 2003 | J4: 2004 | K4: 2005 | L4: 2006 | M4: 2007 | N4: 2008 | O4: 2009 | P4: 2010 | Q4: 2011 | R4: 2012 | S4: 2013 | T4: 2014 | U4: 2015
B6: Coeficiente de Gini | C6: 0.4873821 | D6: 0.4864825 | E6: 0.4692812 | F6: 0.4771588 | G6: 0.4572604 | H6: 0.4938404 | I6: 0.4811 | J6: 0.45589 | K6: 0.47483 | L6: 0.44223 | M6: 0.42365 | N6: 0.40986 | O6: 0.41827 | P6: 0.38978 | Q6: 0.39024 | R6: 0.40397 | S6: 0.4085 | T6: 0.38049 | U6: 0.38057
B8: Quintiles del Ingreso Percápita de los hogares
B9: 20% Más Pobre | C9: 4.1 | D9: 4.06 | E9: 4.36 | F9: 3.95 | G9: 4.45 | H9: 4.4 | I9: 4.01 | J9: 3.5316707 | K9: 4.63 | L9: 4.73 | M9: 5.09 | N9: 5.41 | O9: 5.81 | P9: 5.7 | Q9: 5.65 | R9: 5.358 | S9: 4.8 | T9: 5.893 | U9: 5.73
B10: Quintil 2 | C10: 8.2 | D10: 8.49 | E10: 9.1 | F10: 8.62 | G10: 9.93 | H10: 7.94 | I10: 8.83 | J10: 7.5994184 | K10: 8.35 | L10: 9.35 | M10: 10.4 | N10: 10.54 | O10: 9.86 | P10: 11.59 | Q10: 10.6 | R10: 10.343 | S10: 10.5 | T10: 11.043 | U10: 11.07
B11: Quintil Intermedio | C11: 13.24 | D11: 13.02 | E11: 13.22 | F11: 13.53 | G11: 13.07 | H11: 12.64 | I11: 12.96 | J11: 12.94132 | K11: 15.87 | L11: 14.45 | M11: 14.24 | N11: 15.06 | O11: 14.83 | P11: 14.92 | Q11: 15.93 | R11: 15.687 | S11: 15.7 | T11: 15.998 | U11: 16.08
B12: Quintil 4 | C12: 20.88 | D12: 21.07 | E12: 21.41 | F12: 21.63 | G12: 23 | H12: 20.88 | I12: 21.37 | J12: 21.154508 | K12: 18.78 | L12: 22.09 | M12: 22.56 | N12: 22.26 | O12: 21.97 | P12: 22.97 | Q12: 23.03 | R12: 23.838 | S12: 23.1 | T12: 23.001 | U12: 23.08
B13: 20% Más Rico | C13: 53.58 | D13: 53.36 | E13: 51.9 | F13: 52.28 | G13: 49.55 | H13: 54.13 | I13: 52.83 | J13: 54.773083 | K13: 52.36 | L13: 49.37 | M13: 47.71 | N13: 46.73 | O13: 47.53 | P13: 44.81 | Q13: 44.8 | R13: 44.774 | S13: 45.9 | T13: 44.066 | U13: 44.04
B15: Nota: 1eros semestres de cada año. No se incluyen hogares con ingresos iguales a cero Fuente: - Encuesta de Hogares por Muestreo - Instituto Nacional de Estadística, INE
C17: 1997 | D17: =1+C17 -> 1998 | E17: =1+D17 -> 1999 | F17: =1+E17 -> 2000 | G17: =1+F17 -> 2001 | H17: =1+G17 -> 2002 | I17: =1+H17 -> 2003 | J17: =1+I17 -> 2004 | K17: =1+J17 -> 2005 | ... U17: =1+T17 -> 2015
B18: Renda apropriada pelos lares 20% mais ricos | C18: =C13/100 -> 0.5358 | D18: =D13/100 -> 0.5336 | E18: =E13/100 -> 0.519 | F18: =F13/100 -> 0.5228 | G18: =G13/100 -> 0.4955 | H18: =H13/100 -> 0.5413 | I18: =I13/100 -> 0.5283 | J18: =J13/100 -> 0.54773083 | ... U18: =U13/100 -> 0.4404
B19: Gini | C19: =C6 -> 0.4873821 | D19: =D6 -> 0.4864825 | E19: =E6 -> 0.4692812 | F19: =F6 -> 0.4771588 | G19: =G6 -> 0.4572604 | H19: =H6 -> 0.4938404 | I19: =I6 -> 0.4811 | J19: =J6 -> 0.45589 | ... U19: =U6 -> 0.38057

Sheet Pobreza - INE
B1: Fonte: INE
B2: Hogares pobres por ingreso, 1er semestre 1997-1er semestre 2015
B4: Situación de Pobreza | C4: 1997 | E4: 1998 | G4: 1999 | I4: 2000 | K4: 2001 | M4: 2002 | O4: 2003 | Q4: 2004 | S4: 2005 | U4: 2006 | W4: 2007 | Y4: 2008 | AA4: 2009 | AC4: 2010 | AE4: 2011 | AG4: 2012 | AI4: 2013 | AK4: 2014 | AM4: 2015
C5: 1er Semestre | D5: 2do Semestre | E5: 1er Semestre | F5: 2do Semestre | G5: 1er Semestre | H5: 2do Semestre | I5: 1er Semestre | J5: 2do Semestre | K5: 1er Semestre | L5: 2do Semestre | M5: 1er Semestre | N5: 2do Semestre | O5: 1er Semestre | P5: 2do Semestre | Q5: 1er Semestre | R5: 2do Semestre | S5: 1er Semestre | T5: 2do Semestre | U5: 1er Semestre | V5: 2do Semestre | W5: 1er Semestre | X5: 2do Semestre | Y5: 1er Semestre | Z5: 2do Semestre | AA5: 1er Semestre | AB5: 2do Semestre | AC5: 1er Semestre | AD5: 2do Semestre | AE5: 1er Semestre | AF5: 2do Semestre | AG5: 1er Semestre | AH5: 2do Semestre | AI5: 1er Semestre | AJ5: 2do Semestre | AK5: 1er Semestre | AL5: 2do Semestre | AM5: 1er Semestre
B7: Total | C7: 4581418 | D7: 4790520 | E7: 4871926 | F7: 4900784 | G7: 4981692 | H7: 4953821 | I7: 5000526 | J7: 5116560 | K7: 5221970 | L7: 5412497 | M7: 5769181 | N7: 5808057 | O7: 5858918 | P7: 5901012 | Q7: 6004141 | R7: 6075452 | S7: 6135361 | T7: 6221917 | U7: 6319445 | V7: 6373848 | W7: 6411077 | X7: 6488505 | Y7: 6565279 | Z7: 6631697 | AA7: 6680125 | AB7: 6751959 | AC7: 6828602 | AD7: 6956611 | AE7: 6963602 | AF7: 7040837 | AG7: 7076893 | AH7: 7126561 | AI7: 7187291 | AJ7: 7268692 | AK7: 7308554 | AL7: 7426679 | AM7: 7519342
B9: Total Declarado | C9: 4415368 | D9: 4626926 | E9: 4689391 | F9: 4710765 | G9: 4846197 | H9: 4836058 | I9: 4899702 | J9: 4999633 | K9: 5081645 | L9: 5286079 | M9: 5596809 | N9: 5588741 | O9: 5528902 | P9: 5575633 | Q9: 5624147 | R9: 5725236 | S9: 5561732 | T9: 5941102 | U9: 6058468 | V9: 6152781 | W9: 6226013 | X9: 6327141 | Y9: 6390194 | Z9: 6447386 | AA9: 6513094 | AB9: 6597048 | AC9: 6661729 | AD9: 6787390 | AE9: 6787394 | AF9: 6879230 | AG9: 6908775 | AH9: 6995444 | AI9: 6988584 | AJ9: 6948982 | AK9: 7175306 | AL9: 7310921 | AM9: 7364701
B10: No Pobres | C10: 1962410 | D10: 2403507 | E10: 2392445 | F10: 2642029 | G10: 2771936 | H10: 2806986 | I10: 2861841 | J10: 2981522 | K10: 3094913 | L10: 3222415 | M10: 3276246 | N10: 2873362 | O10: 2543570 | P10: 2501332 | Q10: 2639159 | R10: 3035230 | S10: 3201325 | T10: 3689799 | U10: 4052123 | V10: 4268125 | W10: 4516256 | X10: 4522513 | Y10: 4620389 | Z10: 4672317 | AA10: 4792777 | AB10: 4836736 | AC10: 4878907 | AD10: 4959361 | AE10: 4927873 | AF10: 5056429 | AG10: 5032132 | AH10: 5512180 | AI10: 4937410 | AJ10: 5049392 | AK10: 5059509 | AL10: 4930640 | AM10: 4930666
B11: No Pobres (%) | C11: 44.444993 | D11: 51.946087 | E11: 51.018245 | F11: 56.084925 | G11: 57.19817 | H11: 58.042852 | I11: 58.408471 | J11: 59.634817 | K11: 60.903762 | L11: 60.960402 | M11: 58.537749 | N11: 51.413404 | O11: 46.004975 | P11: 44.861848 | Q11: 46.925498 | R11: 53.014932 | S11: 57.559857 | T11: 62.106306 | U11: 66.883625 | V11: 69.369038 | W11: 72.538493 | X11: 71.477987 | Y11: 72.304362 | Z11: 72.468393 | AA11: 73.586793 | AB11: 73.316671 | AC11: 73.237849 | AD11: 73.067276 | AE11: 72.603314 | AF11: 73.502834 | AG11: 72.83682 | AH11: 78.796714 | AI11: 70.649648 | AJ11: 72.663766 | AK11: 70.512798 | AL11: 67.44 | AM11: 66.949982
B12: Pobres | C12: 2452958 | D12: 2223419 | E12: 2296946 | F12: 2068736 | G12: 2074261 | H12: 2029072 | I12: 2037861 | J12: 2018111 | K12: 1986732 | L12: 2063664 | M12: 2320563 | N12: 2715379 | O12: 2985332 | P12: 3074301 | Q12: 2984988 | R12: 2690006 | S12: 2360407 | T12: 2251303 | U12: 2006345 | V12: 1884656 | W12: 1709757 | X12: 1804628 | Y12: 1769805 | Z12: 1775069 | AA12: 1720317 | AB12: 1760312 | AC12: 1782822 | AD12: 1828029 | AE12: 1859521 | AF12: 1822801 | AG12: 1876643 | AH12: 1483264 | AI12: 2051174 | AJ12: 1899590 | AK12: 2115797 | AL12: 2380281 | AM12: 2434035
B13: Pobres (%) | C13: 55.555007 | D13: 48.053913 | E13: 48.981755 | F13: 43.915075 | G13: 42.80183 | H13: 41.957148 | I13: 41.591529 | J13: 40.365183 | K13: 39.096238 | L13: 39.039598 | M13: 41.462251 | N13: 48.586596 | O13: 53.995025 | P13: 55.138152 | Q13: 53.074502 | R13: 46.985068 | S13: 42.440143 | T13: 37.893694 | U13: 33.116375 | V13: 30.630962 | W13: 27.461507 | X13: 28.522013 | Y13: 27.695638 | Z13: 27.531607 | AA13: 26.413207 | AB13: 26.683329 | AC13: 26.762151 | AD13: 26.932724 | AE13: 27.396686 | AF13: 26.497166 | AG13: 27.16 | AH13: 21.203286 | AI13: 29.350352 | AJ13: 27.336234 | AK13: 29.487202 | AL13: 32.557882 | AM13: 33.050018
B14: Pobres No Extremos | C14: 1328548 | D14: 1329287 | E14: 1311676 | F14: 1265260 | G14: 1269780 | H14: 1212227 | I14: 1221994 | J14: 1273789 | K14: 1266718 | L14: 1321459 | M14: 1392417 | N14: 1539750 | O14: 1598375 | P14: 1678924 | Q14: 1665380 | R14: 1623676 | S14: 1416093 | T14: 1341236 | U14: 1387664 | V14: 1326399 | W14: 1234438 | X14: 1307201 | Y14: 1292594 | Z14: 1287584 | AA14: 1246589 | AB14: 1264449 | AC14: 1306965 | AD14: 1360303 | AE14: 1367406 | AF14: 1341840 | AG14: 1345523 | AH14: 1060299 | AI14: 1224139 | AJ14: 1287539 | AK14: 1511102 | AL14: 1688258 | AM14: 1750665
B15: Pobres No Extremos (%) | C15: 30.089179 | D15: 28.729377 | E15: 27.971137 | F15: 26.858907 | G15: 26.201576 | H15: 25.066428 | I15: 24.94017 | J15: 25.47765 | K15: 24.927322 | L15: 24.998851 | M15: 24.878766 | N15: 27.550928 | O15: 28.909447 | P15: 30.11181 | Q15: 29.611246 | R15: 28.359984 | S15: 25.461367 | T15: 22.575542 | U15: 22.904536 | V15: 21.557715 | W15: 19.827103 | X15: 20.660216 | Y15: 20.227774 | Z15: 19.970636 | AA15: 19.139736 | AB15: 19.166891 | AC15: 19.619006 | AD15: 20.041621 | AE15: 20.146259 | AF15: 19.505671 | AG15: 19.475565 | AH15: 15.156994 | AI15: 17.516267 | AJ15: 18.528455 | AK15: 21.059757 | AL15: 23.092275 | AM15: 23.771026
B16: Pobres Extremos | C16: 1124410 | D16: 894132 | E16: 985270 | F16: 803476 | G16: 804481 | H16: 816845 | I16: 815867 | J16: 744322 | K16: 720014 | L16: 742205 | M16: 928146 | N16: 1175629 | O16: 1386957 | P16: 1395377 | Q16: 1319608 | R16: 1066330 | S16: 944314 | T16: 910067 | U16: 618681 | V16: 558257 | W16: 475319 | X16: 497427 | Y16: 477211 | Z16: 487485 | AA16: 473728 | AB16: 495863 | AC16: 475857 | AD16: 467726 | AE16: 492115 | AF16: 480961 | AG16: 531120 | AH16: 422965 | AI16: 827035 | AJ16: 612051 | AK16: 604695 | AL16: 692023 | AM16: 683370
B17: Pobres Extremos (%) | C17: 25.465828 | D17: 19.324536 | E17: 21.010617 | F17: 17.056168 | G17: 16.600254 | H17: 16.89072 | I17: 16.65136 | J17: 14.887533 | K17: 14.168916 | L17: 14.040747 | M17: 16.583485 | N17: 21.035668 | O17: 25.085578 | P17: 25.026342 | Q17: 23.463256 | R17: 18.625084 | S17: 16.978776 | T17: 15.318151 | U17: 10.211839 | V17: 9.0732467 | W17: 7.6344042 | X17: 7.8617973 | Y17: 7.467864 | Z17: 7.5609712 | AA17: 7.2734709 | AB17: 7.5164377 | AC17: 7.1431456 | AD17: 6.8911025 | AE17: 7.2504263 | AF17: 6.9914947 | AG17: 7.6876147 | AH17: 6.0462924 | AI17: 11.834085 | AJ17: 8.8077793 | AK17: 8.4274455 | AL17: 9.4656063 | AM17: 9.2789918
B19: Fuente: Encuesta de Hogares por Muestreo Instituto Nacional de Estadística, INE
C20: 1997.I | D20: 1997.II | E20: 1998.I | F20: 1998.II | G20: 1999.I | H20: 1999.II | I20: 2000.I | J20: 2000.II | K20: 2001.I | L20: 2001.II | M20: 2002.I | N20: 2002.II | O20: 2003.1 | P20: 2003.II | Q20: 2004.I | R20: 2004.II | S20: 2005.I | T20: 2005.II | U20: 2006.I | V20: 2006.II | W20: 2007.I | X20: 2007.II | Y20: 2008.I | Z20: 2008.II | AA20: 2009.I | AB20: 2009.II | AC20: 2010.I | AD20: 2010.II | AE20: 2011.I | AF20: 2011.II | AG20: 2012.I | AH20: 2012.II | AI20: 2013.I | AJ20: 2013.II | AK20: 2014.I | AL20: 2014.II | AM20: 2015.I
B21: Pobreza | C21: =C13/100 -> 0.55555007 | D21: =D13/100 -> 0.48053913 | E21: =E13/100 -> 0.48981755 | F21: =F13/100 -> 0.43915075 | G21: =G13/100 -> 0.4280183 | H21: =H13/100 -> 0.41957148 | I21: =I13/100 -> 0.41591529 | J21: =J13/100 -> 0.40365183 | ... AM21: =AM13/100 -> 0.33050018
B22: Pobreza extrema | C22: =C17/100 -> 0.25465828 | D22: =D17/100 -> 0.19324536 | E22: =E17/100 -> 0.21010617 | F22: =F17/100 -> 0.17056168 | G22: =G17/100 -> 0.16600254 | H22: =H17/100 -> 0.1689072 | I22: =I17/100 -> 0.1665136 | J22: =J17/100 -> 0.14887533 | ... AM22: =AM17/100 -> 0.092789918

Sheet Colheitas - BM
A1: Data Source | B1: World Development Indicators
A2: Last Updated Date | B2: 42949 | D2: (2004-2006 = 100)
A4: Country Name | B4: Country Code | C4: Indicator Name | D4: Indicator Code | E4: 1960 | F4: 1961 | G4: 1962 | H4: 1963 | I4: 1964 | J4: 1965 | K4: 1966 | L4: 1967 | M4: 1968 | N4: 1969 | O4: 1970 | P4: 1971 | Q4: 1972 | R4: 1973 | S4: 1974 | T4: 1975 | U4: 1976 | V4: 1977 | W4: 1978 | X4: 1979 | Y4: 1980 | Z4: 1981 | AA4: 1982 | AB4: 1983 | AC4: 1984 | AD4: 1985 | AE4: 1986 | AF4: 1987 | AG4: 1988 | AH4: 1989 | AI4: 1990 | AJ4: 1991 | AK4: 1992 | AL4: 1993 | AM4: 1994 | AN4: 1995 | AO4: 1996 | AP4: 1997 | AQ4: 1998 | AR4: 1999 | AS4: 2000 | AT4: 2001 | AU4: 2002 | AV4: 2003 | AW4: 2004 | AX4: 2005 | AY4: 2006 | AZ4: 2007 | BA4: 2008 | BB4: 2009 | BC4: 2010 | BD4: 2011 | BE4: 2012 | BF4: 2013 | BG4: 2014 | BH4: 2015 | BI4: 2016
A5: Aruba | B5: ABW | C5: Crop production index (2004-2006 = 100) | D5: AG.PRD.CROP.XD
A6: Afghanistan | B6: AFG | C6: Crop production index (2004-2006 = 100) | D6: AG.PRD.CROP.XD | F6: 67.72 | G6: 69.25 | H6: 67.6 | I6: 73.52 | J6: 76.1 | K6: 74.83 | L6: 83.47 | M6: 85.48 | N6: 87.84 | O6: 79.57 | P6: 71.59 | Q6: 84.36 | R6: 91.71 | S6: 95.4 | T6: 98.18 | U6: 103.45 | V6: 86.7 | W6: 96.66 | X6: 93.48 | Y6: 91.23 | Z6: 88.72 | AA6: 86.12 | AB6: 83.77 | AC6: 81.98 | AD6: 78.54 | AE6: 75.05 | AF6: 75.58 | AG6: 71.94 | AH6: 68.93 | AI6: 68.7 | AJ6: 75.36 | AK6: 70.9 | AL6: 75.92 | AM6: 78.42 | AN6: 80.03 | AO6: 81.19 | AP6: 85.17 | AQ6: 89.59 | AR6: 82.79 | AS6: 68.48 | AT6: 71.16 | AU6: 87.11 | AV6: 97.46 | AW6: 86.59 | AX6: 109.39 | AY6: 104.02 | AZ6: 122.09 | BA6: 103.3 | BB6: 132.08 | BC6: 126.61 | BD6: 114.58 | BE6: 135.37 | BF6: 135.07 | BG6: 147.22
A7: Angola | B7: AGO | C7: Crop production index (2004-2006 = 100) | D7: AG.PRD.CROP.XD | F7: 40.61 | G7: 43.32 | H7: 42.12 | I7: 45.36 | J7: 46.88 | K7: 48.79 | L7: 50.02 | M7: 48.73 | N7: 52.41 | O7: 53.39 | P7: 54.74 | Q7: 52.31 | R7: 53.62 | S7: 54.25 | T7: 45.61 | U7: 37.94 | V7: 35.74 | W7: 34 | X7: 30.94 | Y7: 31.1 | Z7: 28.33 | AA7: 28.35 | AB7: 28.47 | AC7: 28.75 | AD7: 28.71 | AE7: 30.03 | AF7: 30.42 | AG7: 30.38 | AH7: 30.08 | AI7: 29.27 | AJ7: 31.27 | AK7: 33.26 | AL7: 32.38 | AM7: 39.91 | AN7: 39.26 | AO7: 39.77 | AP7: 38.16 | AQ7: 46.56 | AR7: 43.13 | AS7: 52.53 | AT7: 62.98 | AU7: 74.35 | AV7: 81.78 | AW7: 93.29 | AX7: 101.68 | AY7: 105.03 | AZ7: 120.64 | BA7: 129.78 | BB7: 171.56 | BC7: 181.5 | BD7: 201.1 | BE7: 158.44 | BF7: 227.3 | BG7: 193.96
A8: Albania | B8: ALB | C8: Crop production index (2004-2006 = 100) | D8: AG.PRD.CROP.XD | F8: 37.59 | G8: 41.48 | H8: 40.21 | I8: 48.35 | J8: 43.41 | K8: 51.76 | L8: 51.31 | M8: 53.29 | N8: 54.55 | O8: 56.46 | P8: 57.9 | Q8: 61.16 | R8: 66.75 | S8: 68.07 | T8: 69.45 | U8: 77.04 | V8: 81.53 | W8: 82.68 | X8: 85.29 | Y8: 80.19 | Z8: 83.86 | AA8: 88.13 | AB8: 98.63 | AC8: 90.14 | AD8: 90.08 | AE8: 91.03 | AF8: 92.58 | AG8: 79.01 | AH8: 93.87 | AI8: 84.28 | AJ8: 61.36 | AK8: 67.47 | AL8: 79.4 | AM8: 79.37 | AN8: 81.57 | AO8: 80.31 | AP8: 82.74 | AQ8: 89.27 | AR8: 81.89 | AS8: 86.03 | AT8: 88.82 | AU8: 86.34 | AV8: 91.21 | AW8: 97.85 | AX8: 97.35 | AY8: 104.8 | AZ8: 102.13 | BA8: 119.13 | BB8: 127.63 | BC8: 140.25 | BD8: 148.94 | BE8: 160.71 | BF8: 159.38 | BG8: 164.67
A9: Andorra | B9: AND | C9: Crop production index (2004-2006 = 100) | D9: AG.PRD.CROP.XD
A10: Arab World | B10: ARB | C10: Crop production index (2004-2006 = 100) | D10: AG.PRD.CROP.XD | F10: 25.153763 | G10: 29.462016 | H10: 30.213974 | I10: 30.375789 | J10: 31.795426 | K10: 28.146562 | L10: 30.361695 | M10: 33.241427 | N10: 32.581464 | O10: 32.840735 | P10: 36.610814 | Q10: 36.904329 | R10: 34.586635 | S10: 38.83316 | T10: 39.7615 | U10: 40.177497 | V10: 38.225049 | W10: 40.873984 | X10: 40.672767 | Y10: 44.319333 | Z10: 43.529392 | AA10: 45.139866 | AB10: 45.854434 | AC10: 45.852186 | AD10: 52.69255 | AE10: 55.691658 | AF10: 54.519282 | AG10: 57.940648 | AH10: 57.089411 | AI10: 60.442891 | AJ10: 64.639011 | AK10: 66.442764 | AL10: 66.925064 | AM10: 68.47312 | AN10: 67.843522 | AO10: 82.452691 | AP10: 74.821994 | AQ10: 81.231431 | AR10: 80.692196 | AS10: 81.087585 | AT10: 82.746819 | AU10: 88.621936 | AV10: 94.302105 | AW10: 96.317575 | AX10: 98.445178 | AY10: 105.23725 | AZ10: 99.277966 | BA10: 101.39615 | BB10: 109.09543 | BC10: 105.59714 | BD10: 110.93826 | BE10: 111.35249 | BF10: 115.90237
A11: United Arab Emirates | B11: ARE | C11: Crop production index (2004-2006 = 100) | D11: AG.PRD.CROP.XD | F11: 0.85 | G11: 0.91 | H11: 0.97 | I11: 1.03 | J11: 1.04 | K11: 1.4 | L11: 1.52 | M11: 1.68 | N11: 1.95 | O11: 2.26 | P11: 2.56 | Q11: 2.25 | R11: 2.67 | S11: 4.34 | T11: 4.56 | U11: 5.3 | V11: 6.31 | W11: 8.77 | X11: 10.68 | Y11: 12.32 | Z11: 14.06 | AA11: 18.29 | AB11: 20.76 | AC11: 18.57 | AD11: 18.98 | AE11: 18.91 | AF11: 18.08 | AG11: 23.92 | AH11: 28.8 | AI11: 29.8 | AJ11: 38.62 | AK11: 51.14 | AL11: 54.41 | AM11: 57.81 | AN11: 70.4 | AO11: 75.85 | AP11: 97.93 | AQ11: 98.77 | AR11: 163.44 | AS11: 200.86 | AT11: 113.26 | AU11: 105.68 | AV11: 94.67 | AW11: 105.81 | AX11: 103.55 | AY11: 90.64 | AZ11: 90.36 | BA11: 97.34 | BB11: 92.94 | BC11: 99.12 | BD11: 39.28 | BE11: 34.55 | BF11: 36.42 | BG11: 40.07
A12: Argentina | B12: ARG | C12: Crop production index (2004-2006 = 100) | D12: AG.PRD.CROP.XD | F12: 25.69 | G12: 26.33 | H12: 29.12 | I12: 30.93 | J12: 28.09 | K12: 29.65 | L12: 33.64 | M12: 28.81 | N12: 30.75 | O12: 33.61 | P12: 35.14 | Q12: 31.64 | R12: 35.9 | S12: 40.89 | T12: 38.91 | U12: 41.76 | V12: 41.62 | W12: 44.96 | X12: 46.9 | Y12: 41.43 | Z12: 46.83 | AA12: 53.75 | AB12: 52.19 | AC12: 54.19 | AD12: 51.75 | AE12: 51.61 | AF12: 50.79 | AG12: 55.88 | AH12: 46.3 | AI12: 53.11 | AJ12: 57 | AK12: 57.98 | AL12: 54.54 | AM12: 58.55 | AN12: 65.92 | AO12: 63.27 | AP12: 71.35 | AQ12: 82.93 | AR12: 80.11 | AS12: 81.24 | AT12: 86.83 | AU12: 88.19 | AV12: 92.19 | AW12: 90.73 | AX12: 106.03 | AY12: 103.24 | AZ12: 117.75 | BA12: 119.3 | BB12: 84.55 | BC12: 119.29 | BD12: 127.17 | BE12: 110.37 | BF12: 123.93 | BG12: 132.01
A13: Armenia | B13: ARM | C13: Crop production index (2004-2006 = 100) | D13: AG.PRD.CROP.XD | AK13: 66.29 | AL13: 57.81 | AM13: 71.3 | AN13: 69.64 | AO13: 72.5 | AP13: 56.23 | AQ13: 63.21 | AR13: 61.59 | AS13: 58.11 | AT13: 62.45 | AU13: 61.83 | AV13: 67.46 | AW13: 84.19 | AX13: 107.88 | AY13: 107.93 | AZ13: 122.31 | BA13: 116.65 | BB13: 117.82 | BC13: 95.15 | BD13: 118.58 | BE13: 134.62 | BF13: 139.77 | BG13: 148.31
A14: American Samoa | B14: ASM | C14: Crop production index (2004-2006 = 100) | D14: AG.PRD.CROP.XD | F14: 60.21 | G14: 63.41 | H14: 67.99 | I14: 65.44 | J14: 62.51 | K14: 64.3 | L14: 70.04 | M14: 71.35 | N14: 78.41 | O14: 74.73 | P14: 68.65 | Q14: 67.48 | R14: 66.47 | S14: 62.4 | T14: 61.17 | U14: 57.49 | V14: 55.97 | W14: 52.63 | X14: 44.11 | Y14: 49.11 | Z14: 48.8 | AA14: 48.9 | AB14: 47.47 | AC14: 45.05 | AD14: 43.51 | AE14: 44.58 | AF14: 41.07 | AG14: 41.01 | AH14: 40.8 | AI14: 44.96 | AJ14: 42.03 | AK14: 44.64 | AL14: 49.75 | AM14: 53.63 | AN14: 56.7 | AO14: 61.02 | AP14: 64.21 | AQ14: 84.88 | AR14: 66.25 | AS14: 74.87 | AT14: 86.05 | AU14: 90.68 | AV14: 100.83 | AW14: 97.05 | AX14: 100.56 | AY14: 102.39 | AZ14: 104.25 | BA14: 106.59 | BB14: 109.46 | BC14: 111.33 | BD14: 109.8 | BE14: 105.91 | BF14: 114.61 | BG14: 113.59
A15: Antigua and Barbuda | B15: ATG | C15: Crop production index (2004-2006 = 100) | D15: AG.PRD.CROP.XD | F15: 195.53 | G15: 204.79 | H15: 251.07 | I15: 250.95 | J15: 160.03 | K15: 123.17 | L15: 102.16 | M15: 74.64 | N15: 97.65 | O15: 101.64 | P15: 173.75 | Q15: 77.68 | R15: 75.02 | S15: 71.67 | T15: 77.5 | U15: 77.06 | V15: 78.08 | W15: 81.28 | X15: 85.69 | Y15: 89.35 | Z15: 101.3 | AA15: 96.67 | AB15: 88.62 | AC15: 87.61 | AD15: 100.88 | AE15: 101.79 | AF15: 106.12 | AG15: 111.59 | AH15: 92.2 | AI15: 97.86 | AJ15: 105.13 | AK15: 105.76 | AL15: 104.76 | AM15: 104.31 | AN15: 102 | AO15: 104.37 | AP15: 106.38 | AQ15: 105.37 | AR15: 108.05 | AS15: 107.91 | AT15: 107.23 | AU15: 111.66 | AV15: 113.1 | AW15: 116.28 | AX15: 88.8 | AY15: 94.91 | AZ15: 101.82 | BA15: 106.09 | BB15: 108.15 | BC15: 109.81 | BD15: 110.57 | BE15: 107 | BF15: 109.01 | BG15: 111.06
A16: Australia | B16: AUS | C16: Crop production index (2004-2006 = 100) | D16: AG.PRD.CROP.XD | F16: 24.96 | G16: 29.85 | H16: 30.23 | I16: 34.23 | J16: 28.92 | K16: 40.14 | L16: 31.14 | M16: 44.97 | N16: 37.61 | O16: 36.83 | P16: 39.64 | Q16: 35.74 | R16: 43.71 | S16: 42.34 | T16: 45.85 | U16: 44.77 | V16: 40.71 | W16: 56.76 | X16: 54.56 | Y16: 46.62 | Z16: 57.96 | AA16: 45.18 | AB16: 67.72 | AC16: 67.11 | AD16: 65.79 | AE16: 65.51 | AF16: 58.26 | AG16: 64.5 | AH16: 65.84 | AI16: 66.69 | AJ16: 62.97 | AK16: 75.5 | AL16: 77.45 | AM16: 60.91 | AN16: 81.34 | AO16: 97.72 | AP16: 95.9 | AQ16: 104.23 | AR16: 113.06 | AS16: 108.12 | AT16: 116.62 | AU16: 81.2 | AV16: 110.17 | AW16: 101.14 | AX16: 116.81 | AY16: 82.05 | AZ16: 82.66 | BA16: 99.4 | BB16: 101.93 | BC16: 102.37 | BD16: 122.19 | BE16: 137.69 | BF16: 127.49 | BG16: 126.06
A17: Austria | B17: AUT | C17: Crop production index (2004-2006 = 100) | D17: AG.PRD.CROP.XD | F17: 86.38 | G17: 76.5 | H17: 87.87 | I17: 93.3 | J17: 65.42 | K17: 83.96 | L17: 88.38 | M17: 95.8 | N17: 90.21 | O17: 89.09 | P17: 82.75 | Q17: 78.48 | R17: 86.81 | S17: 85.84 | T17: 86.07 | U17: 88.09 | V17: 81.54 | W17: 88.76 | X17: 84.89 | Y17: 93.2 | Z17: 82.09 | AA17: 107.96 | AB17: 91.77 | AC17: 93.04 | AD17: 84.57 | AE17: 86.79 | AF17: 82.04 | AG17: 98.09 | AH17: 88.85 | AI17: 89.96 | AJ17: 87.23 | AK17: 79.95 | AL17: 82.68 | AM17: 83.85 | AN17: 86.64 | AO17: 86.42 | AP17: 93.5 | AQ17: 95.68 | AR17: 98.37 | AS17: 93.89 | AT17: 97.07 | AU17: 95.21 | AV17: 92.37 | AW17: 106.05 | AX17: 99.46 | AY17: 94.49 | AZ17: 98.88 | BA17: 110.05 | BB17: 103.49 | BC17: 101.47 | BD17: 118.94 | BE17: 98.74 | BF17: 99.1 | BG17: 115.45
A18: Azerbaijan | B18: AZE | C18: Crop production index (2004-2006 = 100) | D18: AG.PRD.CROP.XD | AK18: 95.64 | AL18: 78 | AM18: 68 | AN18: 62.49 | AO18: 64.35 | AP18: 53.71 | AQ18: 55.68 | AR18: 62.16 | AS18: 71.74 | AT18: 80.74 | AU18: 84.5 | AV18: 89.84 | AW18: 88.74 | AX18: 106.59 | AY18: 104.67 | AZ18: 102.83 | BA18: 108.78 | BB18: 111.62 | BC18: 101.42 | BD18: 112.05 | BE18: 117.49 | BF18: 120.08 | BG18: 115.48
A19: Burundi | B19: BDI | C19: Crop production index (2004-2006 = 100) | D19: AG.PRD.CROP.XD | F19: 54.84 | G19: 54.68 | H19: 54.67 | I19: 60.44 | J19: 60.02 | K19: 60.23 | L19: 62.92 | M19: 64.41 | N19: 63.39 | O19: 64.82 | P19: 66.8 | Q19: 59.7 | R19: 67.76 | S19: 63.19 | T19: 68.03 | U19: 69.11 | V19: 71.25 | W19: 66.41 | X19: 67.53 | Y19: 65.86 | Z19: 73.58 | AA19: 69.91 | AB19: 69.98 | AC19: 68.81 | AD19: 79.34 | AE19: 82.71 | AF19: 85.61 | AG19: 87.52 | AH19: 82.02 | AI19: 89.05 | AJ19: 91.72 | AK19: 94.17 | AL19: 91.11 | AM19: 79.59 | AN19: 82.82 | AO19: 84.56 | AP19: 84.75 | AQ19: 78.91 | AR19: 82.02 | AS19: 85.82 | AT19: 93.84 | AU19: 106.23 | AV19: 94.92 | AW19: 107.37 | AX19: 91.14 | AY19: 101.49 | AZ19: 93.05 | BA19: 101.09 | BB19: 98.73 | BC19: 107.39 | BD19: 100.36 | BE19: 86.26 | BF19: 128.08 | BG19: 108.35
A20: Belgium | B20: BEL | C20: Crop production index (2004-2006 = 100) | D20: AG.PRD.CROP.XD | AS20: 102.26 | AT20: 88.98 | AU20: 97.75 | AV20: 97.98 | AW20: 108.73 | AX20: 100.9 | AY20: 90.37 | AZ20: 95.43 | BA20: 92.62 | BB20: 100.15 | BC20: 98.8 | BD20: 100.17 | BE20: 88.28 | BF20: 94.8 | BG20: 107.39
A21: Benin | B21: BEN | C21: Crop production index (2004-2006 = 100) | D21: AG.PRD.CROP.XD | F21: 19.98 | G21: 18.11 | H21: 17.96 | I21: 18.89 | J21: 19.73 | K21: 18.6 | L21: 20.87 | M21: 23.08 | N21: 22.03 | O21: 23.44 | P21: 24 | Q21: 24.19 | R21: 24.61 | S21: 22.01 | T21: 21.15 | U21: 25.23 | V21: 24.11 | W21: 26.96 | X21: 28.68 | Y21: 26.17 | Z21: 25.24 | AA21: 25.71 | AB21: 25.69 | AC21: 35.24 | AD21: 34.76 | AE21: 39.35 | AF21: 32.58 | AG21: 41.74 | AH21: 43.59 | AI21: 46.31 | AJ21: 51.6 | AK21: 51.23 | AL21: 58.11 | AM21: 59.37 | AN21: 65.57 | AO21: 74.26 | AP21: 78.52 | AQ21: 80.41 | AR21: 83.58 | AS21: 90.49 | AT21: 89.81 | AU21: 98.75 | AV21: 101.71 | AW21: 106.85 | AX21: 101.75 | AY21: 91.4 | AZ21: 95.3 | BA21: 114.55 | BB21: 112.94 | BC21: 116.98 | BD21: 129.06 | BE21: 135.93 | BF21: 146.35 | BG21: 169.8
A22: Burkina Faso | B22: BFA | C22: Crop production index (2004-2006 = 100) | D22: AG.PRD.CROP.XD | F22: 16.99 | G22: 19.41 | H22: 19.4 | I22: 21.74 | J22: 20.83 | K22: 22.11 | L22: 22.93 | M22: 25.04 | N22: 24.18 | O22: 24.09 | P22: 21.77 | Q22: 21.72 | R22: 20.55 | S22: 25.35 | T22: 29.2 | U22: 26.12 | V22: 26.35 | W22: 29.2 | X22: 30.96 | Y22: 28.05 | Z22: 32.18 | AA22: 32.39 | AB22: 32.1 | AC22: 32.46 | AD22: 42.51 | AE22: 50.77 | AF22: 44.65 | AG22: 53.01 | AH22: 50.08 | AI22: 45.85 | AJ22: 57.38 | AK22: 59.46 | AL22: 59.72 | AM22: 56.55 | AN22: 56.57 | AO22: 64.32 | AP22: 61.78 | AQ22: 74.94 | AR22: 74.11 | AS22: 59.02 | AT22: 83.5 | AU22: 86.3 | AV22: 97.12 | AW22: 85.39 | AX22: 105.57 | AY22: 109.04 | AZ22: 79.74 | BA22: 122.7 | BB22: 102.88 | BC22: 123.91 | BD22: 105.33 | BE22: 131.92 | BF22: 145.61 | BG22: 148.47
A23: Bangladesh | B23: BGD | C23: Crop production index (2004-2006 = 100) | D23: AG.PRD.CROP.XD | F23: 39.19 | G23: 36.83 | H23: 41.89 | I23: 41.76 | J23: 42.58 | K23: 40.32 | L23: 46.18 | M23: 46.63 | N23: 49.14 | O23: 46.12 | P23: 41.53 | Q23: 41.45 | R23: 46.36 | S23: 43.83 | T23: 48.96 | U23: 46.43 | V23: 50.29 | W23: 51.31 | X23: 50.26 | Y23: 53.47 | Z23: 53 | AA23: 55.21 | AB23: 56.48 | AC23: 56.73 | AD23: 59.15 | AE23: 59.95 | AF23: 59.1 | AG23: 59.16 | AH23: 65.44 | AI23: 65.77 | AJ23: 67.33 | AK23: 67.95 | AL23: 67.19 | AM23: 63.92 | AN23: 66.2 | AO23: 70.03 | AP23: 70.67 | AQ23: 73.25 | AR23: 84.16 | AS23: 90.6 | AT23: 88.29 | AU23: 90.56 | AV23: 92.86 | AW23: 90.29 | AX23: 103.06 | AY23: 106.65 | AZ23: 113 | BA23: 122.16 | BB23: 123.08 | BC23: 131.37 | BD23: 135.07 | BE23: 135.41 | BF23: 138.18 | BG23: 145.57
A24: Bulgaria | B24: BGR | C24: Crop production index (2004-2006 = 100) | D24: AG.PRD.CROP.XD | F24: 115.85 | G24: 129.72 | H24: 136.58 | I24: 141.5 | J24: 145.54 | K24: 169.53 | L24: 159.47 | M24: 159.86 | N24: 168.13 | O24: 163.64 | P24: 163.4 | Q24: 173.09 | R24: 171.16 | S24: 159.8 | T24: 162.21 | U24: 176.84 | V24: 155.75 | W24: 166.51 | X24: 170.21 | Y24: 157.63 | Z24: 177.01 | AA24: 190.49 | AB24: 159.81 | AC24: 181.34 | AD24: 137.32 | AE24: 166.13 | AF24: 152.47 | AG24: 154.24 | AH24: 167.3 | AI24: 149.71 | AJ24: 145.05 | AK24: 126.58 | AL24: 92.8 | AM24: 109.96 | AN24: 126.12 | AO24: 90.07 | AP24: 109.22 | AQ24: 101.87 | AR24: 101.02 | AS24: 87.32 | AT24: 99.08 | AU24: 105.59 | AV24: 92.37 | AW24: 118.25 | AX24: 87.44 | AY24: 94.31 | AZ24: 64.98 | BA24: 105.29 | BB24: 98.11 | BC24: 112.45 | BD24: 114.68 | BE24: 103.12 | BF24: 134.44 | BG24: 133.96
A25: Bahrain | B25: BHR | C25: Crop production index (2004-2006 = 100) | D25: AG.PRD.CROP.XD | F25: 73.48 | G25: 73.65 | H25: 74.8 | I25: 74.8 | J25: 75.02 | K25: 73.78 | L25: 74.49 | M25: 75.07 | N25: 75.58 | O25: 76.53 | P25: 77.22 | Q25: 78.8 | R25: 78.8 | S25: 85.69 | T25: 121.05 | U25: 158.88 | V25: 200.17 | W25: 201.38 | X25: 201.83 | Y25: 204.47 | Z25: 91.82 | AA25: 73.85 | AB25: 75.31 | AC25: 76.41 | AD25: 84.61 | AE25: 89.39 | AF25: 98.84 | AG25: 98.8 | AH25: 98.62 | AI25: 61.6 | AJ25: 65.49 | AK25: 74.61 | AL25: 80.02 | AM25: 92.51 | AN25: 110.23 | AO25: 110.45 | AP25: 109.46 | AQ25: 128.04 | AR25: 112 | AS25: 110.2 | AT25: 106.98 | AU25: 95.06 | AV25: 97.93 | AW25: 94.43 | AX25: 85.75 | AY25: 119.82 | AZ25: 111.02 | BA25: 109.38 | BB25: 109.16 | BC25: 108.31 | BD25: 105.34 | BE25: 105.31 | BF25: 104.51 | BG25: 104.09
A26: Bahamas, The | B26: BHS | C26: Crop production index (2004-2006 = 100) | D26: AG.PRD.CROP.XD | F26: 38.56 | G26: 40.4 | H26: 42.7 | I26: 44.14 | J26: 45.61 | K26: 49.08 | L26: 52.35 | M26: 52.79 | N26: 53.11 | O26: 58 | P26: 54.89 | Q26: 63.13 | R26: 63.86 | S26: 65.62 | T26: 68.38 | U26: 75.66 | V26: 75.14 | W26: 73.76 | X26: 74.03 | Y26: 73.83 | Z26: 79.94 | AA26: 77.81 | AB26: 74.38 | AC26: 78.21 | AD26: 75.46 | AE26: 73.35 | AF26: 73.87 | AG26: 75.25 | AH26: 78.82 | AI26: 78.06 | AJ26: 72.23 | AK26: 67.78 | AL26: 68.32 | AM26: 69.28 | AN26: 74.01 | AO26: 73.95 | AP26: 78.05 | AQ26: 81.51 | AR26: 88.29 | AS26: 87.2 | AT26: 91.28 | AU26: 87.95 | AV26: 92.57 | AW26: 98.98 | AX26: 97.77 | AY26: 103.25 | AZ26: 109.07 | BA26: 109.7 | BB26: 102.09 | BC26: 132.16 | BD26: 136.4 | BE26: 136.64 | BF26: 137.47 | BG26: 140.8
A27: Bosnia and Herzegovina | B27: BIH | C27: Crop production index (2004-2006 = 100) | D27: AG.PRD.CROP.XD | AK27: 78.94 | AL27: 71.38 | AM27: 61.38 | AN27: 61.05 | AO27: 64.68 | AP27: 79.73 | AQ27: 85.99 | AR27: 83.61 | AS27: 64.75 | AT27: 73.43 | AU27: 79.48 | AV27: 72.81 | AW27: 103.54 | AX27: 96.4 | AY27: 100.06 | AZ27: 93.97 | BA27: 102.35 | BB27: 106.6 | BC27: 97.85 | BD27: 99.46 | BE27: 83 | BF27: 110.02 | BG27: 85.02
A28: Belarus | B28: BLR | C28: Crop production index (2004-2006 = 100) | D28: AG.PRD.CROP.XD | AK28: 77.87 | AL28: 102.43 | AM28: 70.58 | AN28: 76.48 | AO28: 87.86 | AP28: 69.23 | AQ28: 66.12 | AR28: 59.36 | AS28: 75.91 | AT28: 74.81 | AU28: 79.38 | AV28: 85.38 | AW28: 105.59 | AX28: 94.44 | AY28: 99.97 | AZ28: 104.65 | BA28: 119.93 | BB28: 112.07 | BC28: 109.11 | BD28: 102.22 | BE28: 113.69 | BF28: 96.92 | BG28: 125.04
A29: Belize | B29: BLZ | C29: Crop production index (2004-2006 = 100) | D29: AG.PRD.CROP.XD | F29: 12.99 | G29: 10.59 | H29: 11.67 | I29: 14.73 | J29: 15.7 | K29: 18.54 | L29: 21.02 | M29: 23.99 | N29: 21.94 | O29: 24.02 | P29: 25.08 | Q29: 26.17 | R29: 27.92 | S29: 30.94 | T29: 28.54 | U29: 26.41 | V29: 33.3 | W29: 38.09 | X29: 34.31 | Y29: 39.98 | Z29: 39.47 | AA29: 42.33 | AB29: 38.16 | AC29: 38.11 | AD29: 37.53 | AE29: 38.39 | AF29: 43.92 | AG29: 41.81 | AH29: 46.74 | AI29: 50.52 | AJ29: 49.14 | AK29: 59.78 | AL29: 68.7 | AM29: 61.5 | AN29: 67.03 | AO29: 76.15 | AP29: 78.49 | AQ29: 75.85 | AR29: 81.76 | AS29: 90.74 | AT29: 90.19 | AU29: 79.55 | AV29: 83.38 | AW29: 98.76 | AX29: 96.53 | AY29: 104.71 | AZ29: 95.93 | BA29: 95.34 | BB29: 93.7 | BC29: 92.29 | BD29: 85.06 | BE29: 101.93 | BF29: 92.79 | BG29: 95.91
A30: Bermuda | B30: BMU | C30: Crop production index (2004-2006 = 100) | D30: AG.PRD.CROP.XD | F30: 74.07 | G30: 64.56 | H30: 76.8 | I30: 81.29 | J30: 86.43 | K30: 83.45 | L30: 74.34 | M30: 72.47 | N30: 57.02 | O30: 88.39 | P30: 59.31 | Q30: 52.92 | R30: 68.27 | S30: 74.64 | T30: 74.32 | U30: 76.54 | V30: 72.66 | W30: 75.56 | X30: 76.24 | Y30: 68.31 | Z30: 71.57 | AA30: 75.04 | AB30: 74.71 | AC30: 71.02 | AD30: 74.45 | AE30: 73.65 | AF30: 73.08 | AG30: 81.03 | AH30: 95.28 | AI30: 92.84 | AJ30: 94.47 | AK30: 94.26 | AL30: 94.49 | AM30: 94.93 | AN30: 99.34 | AO30: 88.74 | AP30: 95.79 | AQ30: 100.67 | AR30: 103.4 | AS30: 105.03 | AT30: 106.61 | AU30: 94.54 | AV30: 101.56 | AW30: 100.52 | AX30: 98.52 | AY30: 100.96 | AZ30: 105.72 | BA30: 107.35 | BB30: 113.6 | BC30: 112.67 | BD30: 114.08 | BE30: 119.92 | BF30: 115.66 | BG30: 115.74
A31: Bolivia | B31: BOL | C31: Crop production index (2004-2006 = 100) | D31: AG.PRD.CROP.XD | F31: 20.8 | G31: 21.6 | H31: 23.54 | I31: 24.42 | J31: 25.76 | K31: 26.83 | L31: 27.83 | M31: 30.76 | N31: 30.35 | O31: 31.67 | P31: 33.24 | Q31: 35.62 | R31: 40.18 | S31: 40.64 | T31: 43.18 | U31: 43.34 | V31: 41.24 | W31: 40.65 | X31: 39.64 | Y31: 41.06 | Z31: 42.57 | AA31: 44.12 | AB31: 30.49 | AC31: 42.13 | AD31: 48.15 | AE31: 50.15 | AF31: 51.14 | AG31: 52.12 | AH31: 52.89 | AI31: 53.3 | AJ31: 58.38 | AK31: 55.87 | AL31: 60.42 | AM31: 64.39 | AN31: 71.4 | AO31: 74.68 | AP31: 75.97 | AQ31: 77.82 | AR31: 78.6 | AS31: 84.54 | AT31: 87.46 | AU31: 91.08 | AV31: 97.78 | AW31: 95.02 | AX31: 101.67 | AY31: 103.31 | AZ31: 103.15 | BA31: 102.2 | BB31: 121.81 | BC31: 114.02 | BD31: 116.8 | BE31: 134.41 | BF31: 141.91 | BG31: 153.6
A32: Brazil | B32: BRA | C32: Crop production index (2004-2006 = 100) | D32: AG.PRD.CROP.XD | F32: 23.31 | G32: 24.67 | H32: 24.82 | I32: 24.47 | J32: 29.29 | K32: 26.84 | L32: 29.56 | M32: 29.61 | N32: 30.41 | O32: 31.12 | P32: 33.58 | Q32: 34.71 | R32: 32.74 | S32: 36.25 | T32: 36.6 | U32: 37.55 | V32: 41.21 | W32: 39.4 | X32: 41.1 | Y32: 45.45 | Z32: 47.54 | AA32: 48.78 | AB32: 47.47 | AC32: 52.21 | AD32: 58.64 | AE32: 53.92 | AF32: 59.99 | AG32: 60.94 | AH32: 63.55 | AI32: 59.02 | AJ32: 59.91 | AK32: 63.87 | AL32: 62.73 | AM32: 68.08 | AN32: 69.97 | AO32: 66.05 | AP32: 70.38 | AQ32: 71.15 | AR32: 75.73 | AS32: 77.46 | AT32: 82.78 | AU32: 87.51 | AV32: 95.49 | AW32: 98.99 | AX32: 97.95 | AY32: 103.06 | AZ32: 112.28 | BA32: 121.77 | BB32: 118.93 | BC32: 126.72 | BD32: 135.22 | BE32: 130.58 | BF32: 140.32 | BG32: 143.48
A33: Barbados | B33: BRB | C33: Crop production index (2004-2006 = 100) | D33: AG.PRD.CROP.XD | F33: 271.57 | G33: 283.53 | H33: 326.17 | I33: 289.42 | J33: 329.93 | K33: 298.01 | L33: 347.76 | M33: 272.62 | N33: 251.37 | O33: 286.89 | P33: 249.33 | Q33: 217.89 | R33: 207.69 | S33: 188.8 | T33: 173.05 | U33: 183.67 | V33: 208.15 | W33: 185.73 | X33: 211.75 | Y33: 242.11 | Z33: 197.96 | AA33: 171.94 | AB33: 156.94 | AC33: 167.49 | AD33: 160.79 | AE33: 181.27 | AF33: 146.38 | AG33: 145.6 | AH33: 123.38 | AI33: 131.38 | AJ33: 129.7 | AK33: 119.42 | AL33: 106.87 | AM33: 106.15 | AN33: 109.25 | AO33: 136.33 | AP33: 132.35 | AQ33: 113.62 | AR33: 124.92 | AS33: 128.67 | AT33: 107.22 | AU33: 106.33 | AV33: 104.33 | AW33: 95.51 | AX33: 109.53 | AY33: 94.95 | AZ33: 96.01 | BA33: 83.11 | BB33: 93.06 | BC33: 74.66 | BD33: 79.9 | BE33: 75.45 | BF33: 61.44 | BG33: 62.4
A34: Brunei Darussalam | B34: BRN | C34: Crop production index (2004-2006 = 100) | D34: AG.PRD.CROP.XD | F34: 90.53 | G34: 88.14 | H34: 78.36 | I34: 76.87 | J34: 66.68 | K34: 65.52 | L34: 71.63 | M34: 67.31 | N34: 78.16 | O34: 76.98 | P34: 64.93 | Q34: 63.66 | R34: 81.82 | S34: 101.12 | T34: 101.19 | U34: 86.87 | V34: 72.65 | W34: 72.21 | X34: 74.16 | Y34: 70.61 | Z34: 70.19 | AA34: 72.41 | AB34: 77.49 | AC34: 69.63 | AD34: 53.45 | AE34: 56.58 | AF34: 55.07 | AG34: 59.62 | AH34: 56.68 | AI34: 60.93 | AJ34: 60.25 | AK34: 57.81 | AL34: 63.82 | AM34: 66.04 | AN34: 72.07 | AO34: 75.8 | AP34: 73.18 | AQ34: 69.84 | AR34: 81.62 | AS34: 90.97 | AT34: 93.3 | AU34: 95.17 | AV34: 99.39 | AW34: 111.13 | AX34: 99.33 | AY34: 89.55 | AZ34: 89.51 | BA34: 91.5 | BB34: 93.75 | BC34: 96.72 | BD34: 99.87 | BE34: 101.83 | BF34: 102.22 | BG34: 100.58
A35: Bhutan | B35: BTN | C35: Crop production index (2004-2006 = 100) | D35: AG.PRD.CROP.XD | F35: 28.96 | G35: 29.88 | H35: 30.78 | I35: 31.6 | J35: 32.42 | K35: 33.19 | L35: 34.05 | M35: 34.9 | N35: 35.74 | O35: 36.49 | P35: 37.38 | Q35: 38.19 | R35: 39.05 | S35: 39.88 | T35: 40.77 | U35: 41.62 | V35: 42.55 | W35: 43.71 | X35: 44.82 | Y35: 47.95 | Z35: 52.27 | AA35: 52.43 | AB35: 53.48 | AC35: 59.42 | AD35: 54.94 | AE35: 56.23 | AF35: 63.95 | AG35: 51.36 | AH35: 51.82 | AI35: 61.97 | AJ35: 63.67 | AK35: 63.59 | AL35: 63.07 | AM35: 64.26 | AN35: 66.16 | AO35: 65.59 | AP35: 64.26 | AQ35: 62.33 | AR35: 72.5 | AS35: 63.25 | AT35: 64.94 | AU35: 64.42 | AV35: 68.61 | AW35: 78.8 | AX35: 107.31 | AY35: 113.89 | AZ35: 114.47 | BA35: 89.44 | BB35: 87.47 | BC35: 94.13 | BD35: 113.94 | BE35: 103.74 | BF35: 95.52 | BG35: 99.19
A36: Botswana | B36: BWA | C36: Crop production index (2004-2006 = 100) | D36: AG.PRD.CROP.XD | F36: 74.96 | G36: 47.5 | H36: 50.5 | I36: 55.16 | J36: 53.48 | K36: 57.51 | L36: 71.52 | M36: 58.49 | N36: 69.85 | O36: 52.19 | P36: 93.79 | Q36: 81.4 | R36: 65.76 | S36: 97.55 | T36: 85.11 | U36: 108.42 | V36: 94.82 | W36: 82.87 | X36: 71.4 | Y36: 83.67 | Z36: 88.19 | AA36: 75.2 | AB36: 70.95 | AC36: 66.08 | AD36: 72.24 | AE36: 73.39 | AF36: 72.08 | AG36: 103.81 | AH36: 99.7 | AI36: 94.91 | AJ36: 95.31 | AK36: 75.93 | AL36: 89.28 | AM36: 97.35 | AN36: 92.92 | AO36: 110.69 | AP36: 94.18 | AQ36: 82.76 | AR36: 88.49 | AS36: 94.84 | AT36: 101.08 | AU36: 105.65 | AV36: 110.56 | AW36: 108.82 | AX36: 99.98 | AY36: 91.19 | AZ36: 77.68 | BA36: 85.7 | BB36: 87.13 | BC36: 94.92 | BD36: 110.82 | BE36: 88.67 | BF36: 80.8 | BG36: 94.93
A37: Central African Republic | B37: CAF | C37: Crop production index (2004-2006 = 100) | D37: AG.PRD.CROP.XD | F37: 51.26 | G37: 51.78 | H37: 53.35 | I37: 51.98 | J37: 55.66 | K37: 55.15 | L37: 59.52 | M37: 62.34 | N37: 64.91 | O37: 64.58 | P37: 63.75 | Q37: 67.53 | R37: 69.08 | S37: 74.92 | T37: 74.07 | U37: 76.03 | V37: 75.46 | W37: 72.78 | X37: 76.78 | Y37: 76.25 | Z37: 76.63 | AA37: 79.35 | AB37: 75.92 | AC37: 73.63 | AD37: 69.65 | AE37: 77.87 | AF37: 71.18 | AG37: 76.84 | AH37: 76.9 | AI37: 76.59 | AJ37: 76.1 | AK37: 76.63 | AL37: 77 | AM37: 81.98 | AN37: 86.45 | AO37: 94.96 | AP37: 100.39 | AQ37: 101.7 | AR37: 97.71 | AS37: 100.04 | AT37: 102.43 | AU37: 100.2 | AV37: 94.81 | AW37: 98.26 | AX37: 100 | AY37: 101.74 | AZ37: 106.29 | BA37: 108.5 | BB37: 112.87 | BC37: 111.25 | BD37: 115.66 | BE37: 117.79 | BF37: 120.76 | BG37: 126.17
A38: Canada | B38: CAN | C38: Crop production index (2004-2006 = 100) | D38: AG.PRD.CROP.XD | F38: 24.7 | G38: 37.67 | H38: 43.39 | I38: 38.19 | J38: 42.57 | K38: 50.31 | L38: 40.03 | M38: 45.26 | N38: 47.84 | O38: 42.26 | P38: 51.97 | Q38: 46.32 | R38: 48.83 | S38: 42.9 | T38: 51.21 | U38: 56.39 | V38: 57.83 | W38: 61.56 | X38: 56.18 | Y38: 58.99 | Z38: 67.57 | AA38: 72.34 | AB38: 66.87 | AC38: 64.3 | AD38: 70.97 | AE38: 80.43 | AF38: 76.92 | AG38: 58.3 | AH38: 70.46 | AI38: 82.3 | AJ38: 80.97 | AK38: 76.12 | AL38: 82.51 | AM38: 85.24 | AN38: 87.15 | AO38: 92.04 | AP38: 87.57 | AQ38: 93.71 | AR38: 101.51 | AS38: 96.08 | AT38: 79.27 | AU38: 70.78 | AV38: 90.53 | AW38: 97.8 | AX38: 102.48 | AY38: 99.73 | AZ38: 97.35 | BA38: 114.44 | BB38: 110.38 | BC38: 107.28 | BD38: 108.94 | BE38: 121 | BF38: 144.51 | BG38: 129.46
A39: Central Europe and the Baltics | B39: CEB | C39: Crop production index (2004-2006 = 100) | D39: AG.PRD.CROP.XD | AK39: 88.759474 | AL39: 105.35266 | AM39: 92.672617 | AN39: 101.23396 | AO39: 101.58064 | AP39: 102.4093 | AQ39: 101.72327 | AR39: 97.761258 | AS39: 91.367625 | AT39: 102.7163 | AU39: 93.974626 | AV39: 89.167018 | AW39: 112.466 | AX39: 96.407909 | AY39: 91.126092 | AZ39: 82.143316 | BA39: 102.13419 | BB39: 99.36096 | BC39: 92.41674 | BD39: 101.23163 | BE39: 92.560319 | BF39: 104.31943
A40: Switzerland | B40: CHE | C40: Crop production index (2004-2006 = 100) | D40: AG.PRD.CROP.XD | F40: 112.42 | G40: 122.21 | H40: 113.4 | I40: 119.19 | J40: 92.06 | K40: 110.17 | L40: 133.59 | M40: 113.34 | N40: 121.16 | O40: 109.96 | P40: 116.64 | Q40: 96.44 | R40: 117.16 | S40: 98.79 | T40: 118.38 | U40: 105.82 | V40: 97.06 | W40: 109.8 | X40: 129.06 | Y40: 107.46 | Z40: 107.84 | AA40: 147.66 | AB40: 112.59 | AC40: 129.07 | AD40: 115.99 | AE40: 120.56 | AF40: 98.19 | AG40: 134.54 | AH40: 124.58 | AI40: 118.68 | AJ40: 103.25 | AK40: 131 | AL40: 115.52 | AM40: 105.73 | AN40: 105.31 | AO40: 123.57 | AP40: 103.61 | AQ40: 123.09 | AR40: 97.48 | AS40: 118.73 | AT40: 95.01 | AU40: 102.32 | AV40: 89.33 | AW40: 108.59 | AX40: 97.23 | AY40: 94.18 | AZ40: 104.04 | BA40: 101.81 | BB40: 107.67 | BC40: 93.06 | BD40: 115.33 | BE40: 99.1 | BF40: 89.76 | BG40: 108.58
A41: Channel Islands | B41: CHI | C41: Crop production index (2004-2006 = 100) | D41: AG.PRD.CROP.XD
...

Sheet Colheitas - Gráfico
A1: Country Name | B1: Country Code | C1: Indicator Name | D1: Indicator Code | E1: 1960 | F1: 1961 | G1: 1962 | H1: 1963 | I1: 1964 | J1: 1965 | K1: 1966 | L1: 1967 | M1: 1968 | N1: 1969 | O1: 1970 | P1: 1971 | Q1: 1972 | R1: 1973 | S1: 1974 | T1: 1975 | U1: 1976 | V1: 1977 | W1: 1978 | X1: 1979 | Y1: 1980 | Z1: 1981 | AA1: 1982 | AB1: 1983 | AC1: 1984 | AD1: 1985 | AE1: 1986 | AF1: 1987 | AG1: 1988 | AH1: 1989 | AI1: 1990 | AJ1: 1991 | AK1: 1992 | AL1: 1993 | AM1: 1994 | AN1: 1995 | AO1: 1996 | AP1: 1997 | AQ1: 1998 | AR1: 1999 | AS1: 2000 | AT1: 2001 | AU1: 2002 | AV1: 2003 | AW1: 2004 | AX1: 2005 | AY1: 2006 | AZ1: 2007 | BA1: 2008 | BB1: 2009 | BC1: 2010 | BD1: 2011 | BE1: 2012 | BF1: 2013 | BG1: 2014
A2: Venezuela, RB | B2: VEN | C2: Crop production index (2004-2006 = 100) | D2: AG.PRD.CROP.XD | F2: 36.34 | G2: 36.47 | H2: 38.58 | I2: 40.47 | J2: 43.49 | K2: 44.61 | L2: 46.55 | M2: 47.49 | N2: 49.1 | O2: 52.13 | P2: 51.37 | Q2: 49.48 | R2: 50.4 | S2: 52.93 | T2: 55.33 | U2: 51.17 | V2: 60.81 | W2: 59.83 | X2: 61.18 | Y2: 60.94 | Z2: 59.93 | AA2: 60.86 | AB2: 59.46 | AC2: 59.85 | AD2: 65.2 | AE2: 71.21 | AF2: 73.97 | AG2: 78.72 | AH2: 77.51 | AI2: 76.34 | AJ2: 81.48 | AK2: 79.51 | AL2: 77.57 | AM2: 82.65 | AN2: 82.39 | AO2: 85.25 | AP2: 89.64 | AQ2: 90.74 | AR2: 93.61 | AS2: 98.8 | AT2: 97.23 | AU2: 89.69 | AV2: 91.24 | AW2: 96.02 | AX2: 102.21 | AY2: 101.77 | AZ2: 104.94 | BA2: 109.66 | BB2: 102.65 | BC2: 95.25 | BD2: 103.86 | BE2: 96.96 | BF2: 103.38 | BG2: 102.59
A3: Latin America & Caribbean (excluding high income) | B3: LAC | C3: Crop production index (2004-2006 = 100) | D3: AG.PRD.CROP.XD | F3: 28.187371 | G3: 29.097868 | H3: 29.868216 | I3: 31.374733 | J3: 34.077254 | K3: 33.351504 | L3: 35.749731 | M3: 35.33086 | N3: 35.984557 | O3: 38.343816 | P3: 39.684887 | Q3: 39.559524 | R3: 40.081238 | S3: 43.455625 | T3: 43.348602 | U3: 44.050192 | V3: 47.248402 | W3: 48.267231 | X3: 49.213361 | Y3: 50.705642 | Z3: 53.745536 | AA3: 55.053373 | AB3: 53.785971 | AC3: 57.65678 | AD3: 60.767701 | AE3: 58.639249 | AF3: 62.048493 | AG3: 63.974409 | AH3: 63.949315 | AI3: 63.856862 | AJ3: 64.832361 | AK3: 66.742272 | AL3: 65.203658 | AM3: 69.555354 | AN3: 72.393203 | AO3: 72.750591 | AP3: 75.73978 | AQ3: 77.598422 | AR3: 81.549046 | AS3: 82.599325 | AT3: 87.140157 | AU3: 89.235324 | AV3: 95.935295 | AW3: 98.066178 | AX3: 99.080352 | AY3: 102.85347 | AZ3: 111.05029 | BA3: 115.06335 | BB3: 108.33052 | BC3: 119.94743 | BD3: 124.52296 | BE3: 120.83531 | BF3: 131.17783
AQ4: =100*AQ2/$AQ$2 -> 100 | AR4: =100*AR2/$AQ$2 -> 103.16288 | AS4: =100*AS2/$AQ$2 -> 108.88252 | AT4: =100*AT2/$AQ$2 -> 107.1523 | AU4: =100*AU2/$AQ$2 -> 98.842848 | AV4: =100*AV2/$AQ$2 -> 100.55102 | AW4: =100*AW2/$AQ$2 -> 105.81882 | AX4: =100*AX2/$AQ$2 -> 112.64051 | ... BG4: =100*BG2/$AQ$2 -> 113.05929
AQ5: =100*AQ3/$AQ$3 -> 100 | AR5: =100*AR3/$AQ$3 -> 105.09111 | AS5: =100*AS3/$AQ$3 -> 106.44459 | AT5: =100*AT3/$AQ$3 -> 112.2963 | AU5: =100*AU3/$AQ$3 -> 114.99631 | AV5: =100*AV3/$AQ$3 -> 123.63047 | AW5: =100*AW3/$AQ$3 -> 126.37651 | AX5: =100*AX3/$AQ$3 -> 127.68346 | ... BF5: =100*BF3/$AQ$3 -> 169.04704

Sheet Exportações combustíveis - BM
A1: Data Source | B1: World Development Indicators
A2: Last Updated Date | B2: 42949
A4: Country Name | B4: Country Code | C4: Indicator Name | D4: Indicator Code | E4: 1960 | F4: 1961 | G4: 1962 | H4: 1963 | I4: 1964 | J4: 1965 | K4: 1966 | L4: 1967 | M4: 1968 | N4: 1969 | O4: 1970 | P4: 1971 | Q4: 1972 | R4: 1973 | S4: 1974 | T4: 1975 | U4: 1976 | V4: 1977 | W4: 1978 | X4: 1979 | Y4: 1980 | Z4: 1981 | AA4: 1982 | AB4: 1983 | AC4: 1984 | AD4: 1985 | AE4: 1986 | AF4: 1987 | AG4: 1988 | AH4: 1989 | AI4: 1990 | AJ4: 1991 | AK4: 1992 | AL4: 1993 | AM4: 1994 | AN4: 1995 | AO4: 1996 | AP4: 1997 | AQ4: 1998 | AR4: 1999 | AS4: 2000 | AT4: 2001 | AU4: 2002 | AV4: 2003 | AW4: 2004 | AX4: 2005 | AY4: 2006 | AZ4: 2007 | BA4: 2008 | BB4: 2009 | BC4: 2010 | BD4: 2011 | BE4: 2012 | BF4: 2013 | BG4: 2014 | BH4: 2015 | BI4: 2016
A5: Aruba | B5: ABW | C5: Fuel exports (% of merchandise exports) | D5: TX.VAL.FUEL.ZS.UN | AG5: 0.21345421 | AH5: 0.72583708 | AI5: 0.0039468421 | AJ5: 4.464507 | BB5: 0.0093183034 | BC5: 0.10746964 | BD5: 0.0084372589 | BE5: 0.045857888 | BF5: 0.0070365533 | BG5: 0.25065688 | BH5: 0.21533707
A6: Afghanistan | B6: AFG | C6: Fuel exports (% of merchandise exports) | D6: TX.VAL.FUEL.ZS.UN | L6: 4.4095747 | M6: 12.578967 | N6: 14.866173 | O6: 16.946149 | P6: 14.553298 | Q6: 13.730915 | R6: 11.619542 | S6: 13.974245 | T6: 20.299623 | U6: 13.224223 | BH6: 3.450456
A7: Angola | B7: AGO | C7: Fuel exports (% of merchandise exports) | D7: TX.VAL.FUEL.ZS.UN | G7: 3.0407358 | N7: 7.1764477 | O7: 13.384684 | P7: 19.947138 | Q7: 26.840866 | R7: 31.394727 | S7: 51.641514 | W7: 65.739499 | X7: 71.907042 | Y7: 77.96925 | Z7: 82.123987 | AI7: 93.47768 | AJ7: 94.831536 | AZ7: 95.718216 | BB7: 96.611775 | BC7: 96.534547 | BD7: 96.556768 | BE7: 97.177924 | BF7: 96.679568 | BG7: 96.194403 | BH7: 94.994795
A8: Albania | B8: ALB | C8: Fuel exports (% of merchandise exports) | D8: TX.VAL.FUEL.ZS.UN | AO8: 2.8592178 | AP8: 0.81208223 | AQ8: 1.1692764 | AR8: 1.978162 | AS8: 1.8513688 | AT8: 1.4483597 | AU8: 2.009643 | AV8: 0.93945393 | AW8: 2.6277119 | AX8: 8.6627295 | AY8: 13.687093 | AZ8: 7.4530032 | BA8: 21.814272 | BB8: 11.602414 | BC8: 17.973227 | BD8: 21.191947 | BE8: 26.590781 | BF8: 31.003052 | BG8: 1.5675234 | BH8: 8.8066385
A9: Andorra | B9: AND | C9: Fuel exports (% of merchandise exports) | D9: TX.VAL.FUEL.ZS.UN | AN9: 0.1713172 | AO9: 0.0081006246 | AP9: 0.0061315058 | AQ9: 0.014452566 | AR9: 0.099533597 | AS9: 0.13674331 | AT9: 0.21319724 | AU9: 0.0034123445 | AV9: 0.0066107647 | AW9: 0.0019810836 | AX9: 0.0019798574 | AY9: 0.00070813055 | AZ9: 0.0060463573 | BA9: 0.0077677598 | BB9: 0.067625008 | BC9: 0.0017441148 | BD9: 0.003082301 | BE9: 0.09857008 | BF9: 0.12831574 | BG9: 0.12313798
A10: Arab World | B10: ARB | C10: Fuel exports (% of merchandise exports) | D10: TX.VAL.FUEL.ZS.UN | S10: 80.301172 | T10: 82.202939 | U10: 81.8413 | W10: 88.028712 | X10: 86.794418 | AH10: 51.83972 | AJ10: 62.083032 | AK10: 60.721107 | AL10: 61.073425 | AQ10: 76.450955 | AR10: 80.870817 | AS10: 84.701427 | AT10: 83.958635 | AU10: 81.73107 | AW10: 82.574006 | AX10: 75.649222 | AY10: 84.309318 | AZ10: 79.851908 | BA10: 79.83419 | BB10: 79.558542 | BC10: 81.868494 | BD10: 81.763295 | BE10: 71.050205 | BF10: 73.250318 | BG10: 69.970063 | BH10: 73.258673
A11: United Arab Emirates | B11: ARE | C11: Fuel exports (% of merchandise exports) | D11: TX.VAL.FUEL.ZS.UN | W11: 94.912096 | X11: 92.027002 | AB11: 21.309763 | AH11: 3.4582794 | AJ11: 7.2975111 | AK11: 10.304269 | AL11: 9.1133027 | AR11: 91.369027 | AS11: 93.847808 | AT11: 91.785175 | AX11: 57.791117 | AZ11: 65.345244 | BA11: 64.814988 | BE11: 53.52204 | BF11: 51.518063 | BG11: 42.49624
A12: Argentina | B12: ARG | C12: Fuel exports (% of merchandise exports) | D12: TX.VAL.FUEL.ZS.UN | G12: 1.0808467 | H12: 0.82261501 | I12: 0.43226886 | J12: 0.61556872 | K12: 0.87862206 | L12: 0.52525866 | M12: 0.90589516 | N12: 0.35879544 | O12: 0.42998546 | P12: 0.48801644 | Q12: 0.32242019 | R12: 0.17139838 | S12: 0.31408828 | T12: 0.49493817 | U12: 0.50302742 | V12: 0.49233839 | W12: 0.80715252 | X12: 0.62153584 | Y12: 3.4642869 | Z12: 6.7809985 | AA12: 7.1879412 | AB12: 4.2658323 | AC12: 4.0910217 | AD12: 7.3070235 | AE12: 2.2412601 | AF12: 1.3430505 | AG12: 1.5247615 | AH12: 3.3870662 | AI12: 7.8007248 | AJ12: 6.256089 | AK12: 8.7215083 | AL12: 9.4649309 | AM12: 10.480153 | AN12: 10.372512 | AO12: 12.996931 | AP12: 11.735129 | AQ12: 8.6674616 | AR12: 12.226944 | AS12: 17.738467 | AT12: 17.128506 | AU12: 17.08865 | AV12: 17.122777 | AW12: 15.993553 | AX12: 16.38292 | AY12: 15.407375 | AZ12: 10.993998 | BA12: 9.4474044 | BB12: 10.34151 | BC12: 8.1283365 | BD12: 6.1195447 | BE12: 6.3748516 | BF12: 4.7589535 | BG12: 4.7510545 | BH12: 2.6113281
A13: Armenia | B13: ARM | C13: Fuel exports (% of merchandise exports) | D13: TX.VAL.FUEL.ZS.UN | AP13: 0.74045237 | AR13: 8.712979 | AS13: 10.607854 | AT13: 8.4852391 | AU13: 3.4449014 | AV13: 2.0423032 | AW13: 3.1913393 | AX13: 2.2772005 | AY13: 2.0741164 | AZ13: 1.2027244 | BA13: 0.26061596 | BB13: 0.095418931 | BC13: 3.1228717 | BD13: 8.4327208 | BE13: 7.9251942 | BF13: 6.0727305 | BG13: 6.3397508 | BH13: 6.419701 | BI13: 4.0741661
A14: American Samoa | B14: ASM | C14: Fuel exports (% of merchandise exports) | D14: TX.VAL.FUEL.ZS.UN
A15: Antigua and Barbuda | B15: ATG | C15: Fuel exports (% of merchandise exports) | D15: TX.VAL.FUEL.ZS.UN | R15: 95.524964 | S15: 95.580537 | T15: 91.945298 | V15: 0.083817485 | W15: 0.015360385 | Z15: 0 | AR15: 0 | AS15: 0 | AX15: 0.72479417 | AZ15: 0 | BB15: 0 | BC15: 0 | BD15: 0 | BE15: 0 | BF15: 0 | BG15: 0 | BH15: 0 | BI15: 0
A16: Australia | B16: AUS | C16: Fuel exports (% of merchandise exports) | D16: TX.VAL.FUEL.ZS.UN | H16: 3.090529 | I16: 2.7926184 | J16: 3.1449233 | K16: 3.4738152 | L16: 3.7085919 | M16: 4.6435273 | N16: 4.8465935 | O16: 5.5848245 | P16: 6.4230867 | Q16: 6.3308704 | R16: 6.3154772 | S16: 8.8369195 | T16: 11.874867 | U16: 12.763158 | V16: 13.61313 | W16: 14.165918 | X16: 12.244472 | Y16: 11.139264 | Z16: 16.006403 | AA16: 18.219829 | AB16: 23.156939 | AC16: 24.357027 | AD16: 26.911089 | AE16: 22.82888 | AF16: 20.937695 | AG16: 17.330317 | AH16: 17.394747 | AI16: 21.454362 | AJ16: 23.165581 | AK16: 22.999793 | AL16: 22.172361 | AM16: 18.72538 | AN16: 19.052536 | AO16: 19.064383 | AP16: 19.694211 | AQ16: 19.655915 | AR16: 19.422127 | AS16: 21.880427 | AT16: 21.665962 | AU16: 21.652096 | AV16: 20.943194 | AW16: 21.292308 | AX16: 26.731897 | AY16: 25.486889 | AZ16: 24.422321 | BA16: 34.267175 | BB16: 31.982039 | BC16: 30.8232 | BD16: 29.883286 | BE16: 30.357443 | BF16: 27.323126 | BG16: 28.019409 | BH16: 26.864416 | BI16: 27.653921
A17: Austria | B17: AUT | C17: Fuel exports (% of merchandise exports) | D17: TX.VAL.FUEL.ZS.UN | H17: 2.3523457 | I17: 2.9968297 | J17: 3.3218689 | K17: 3.4167964 | L17: 3.1919468 | M17: 3.0029923 | N17: 2.5182735 | O17: 2.5424476 | P17: 2.0385401 | Q17: 1.9949487 | R17: 2.1662898 | S17: 2.0445563 | T17: 2.0890065 | U17: 1.8801614 | V17: 1.9416233 | W17: 1.5684016 | X17: 1.4394996 | Y17: 1.5688122 | Z17: 1.7402738 | AA17: 1.533036 | AB17: 1.4038983 | AC17: 1.4885567 | AD17: 2.0222454 | AE17: 1.2135469 | AF17: 1.7638308 | AG17: 1.2757372 | AH17: 1.25474 | AI17: 0.99283253 | AJ17: 0.91419175 | AK17: 1.0551908 | AL17: 1.1256147 | AM17: 1.3131857 | AN17: 1.0272589 | AO17: 1.2541918 | AP17: 1.2560772 | AQ17: 1.0502471 | AR17: 1.1944249 | AS17: 1.273292 | AT17: 1.8765466 | AU17: 2.275723 | AV17: 2.5623786 | AW17: 3.1736926 | AX17: 4.6364145 | AY17: 5.2789111 | AZ17: 2.6749975 | BA17: 3.3758673 | BB17: 3.4564566 | BC17: 3.2184937 | BD17: 3.3713449 | BE17: 3.6245044 | BF17: 2.6583846 | BG17: 2.3861956 | BH17: 1.9679851
A18: Azerbaijan | B18: AZE | C18: Fuel exports (% of merchandise exports) | D18: TX.VAL.FUEL.ZS.UN | AO18: 66.390217 | AP18: 61.448381 | AQ18: 68.931057 | AR18: 78.596076 | AS18: 85.080938 | AT18: 91.328229 | AU18: 88.922375 | AV18: 86.010671 | AW18: 82.215961 | AX18: 76.764611 | AY18: 84.591342 | AZ18: 81.398966 | BA18: 97.082785 | BB18: 92.856863 | BC18: 94.509496 | BD18: 94.747394 | BE18: 93.419357 | BF18: 92.985039 | BG18: 92.638413 | BH18: 87.023136
A19: Burundi | B19: BDI | C19: Fuel exports (% of merchandise exports) | D19: TX.VAL.FUEL.ZS.UN | J19: 0.0055512444 | AL19: 0.022287002 | AV19: 0.64925694 | AW19: 0.012504214 | AX19: 0.064255629 | AY19: 0 | AZ19: 5.729812 | BA19: 1.3963581 | BB19: 1.8785852 | BC19: 2.3242844 | BD19: 0.03621768 | BE19: 0.0093611219 | BF19: 0.00046785733 | BG19: 0.039931806 | BH19: 0.005387805
A20: Belgium | B20: BEL | C20: Fuel exports (% of merchandise exports) | D20: TX.VAL.FUEL.ZS.UN | G20: 3.8103278 | H20: 4.4934046 | I20: 3.929073 | J20: 3.2411714 | K20: 2.7727842 | L20: 2.7750648 | M20: 3.1194529 | N20: 3.3014418 | O20: 2.6673534 | P20: 2.6813688 | Q20: 2.9046675 | R20: 2.8518525 | S20: 3.3335545 | T20: 4.8426159 | U20: 4.7960444 | V20: 5.3727092 | W20: 4.2692226 | X20: 6.286865 | Y20: 8.3011931 | Z20: 8.9826512 | AA20: 8.5893508 | AB20: 8.3092337 | AC20: 7.8122203 | AD20: 6.4510488 | AE20: 4.8018306 | AF20: 3.6868575 | AG20: 3.5243734 | AH20: 3.3879723 | AI20: 3.4309355 | AJ20: 3.8273014 | AK20: 3.4225432 | AL20: 3.3501179 | AM20: 2.9631152 | AN20: 2.5649438 | AO20: 3.1587068 | AP20: 2.8833999 | AQ20: 2.416943 | AR20: 2.8862155 | AS20: 4.5279837 | AT20: 4.0052681 | AU20: 4.3317387 | AV20: 5.2939629 | AW20: 5.6323581 | AX20: 6.9875964 | AY20: 7.8766346 | AZ20: 7.0089006 | BA20: 9.2006237 | BB20: 7.4583833 | BC20: 8.7912048 | BD20: 10.750997 | BE20: 11.46655 | BF20: 12.907398 | BG20: 11.336677 | BH20: 8.370263 | BI20: 6.8258414
A21: Benin | B21: BEN | C21: Fuel exports (% of merchandise exports) | D21: TX.VAL.FUEL.ZS.UN | G21: 0.11796293 | H21: 0.10552453 | I21: 0.12798768 | J21: 0.13445067 | K21: 0.20881432 | L21: 0.067484708 | M21: 0.077720656 | N21: 0.081371818 | O21: 0.15245626 | P21: 0.013171839 | Q21: 0.019950042 | R21: 0.013583675 | S21: 4.864262 | X21: 2.270102 | Y21: 4.2030181 | AA21: 3.9291302 | AK21: 14.505037 | AL21: 9.0108074 | AM21: 6.7301118 | AN21: 5.4156701 | AO21: 4.3840849 | AP21: 1.7884597 | AQ21: 1.1974156 | AR21: 0.66581537 | AT21: 0.010009294 | AU21: 0.24583184 | AV21: 0 | AW21: 0 | AX21: 0 | AY21: 0.39306142 | AZ21: 3.0663829 | BA21: 0.26672585 | BB21: 0.0079791185 | BC21: 0.010728003 | BD21: 0.10556663 | BE21: 0.0051187618 | BF21: 0.0023701579 | BG21: 0.25430376 | BH21: 3.7251701
A22: Burkina Faso | B22: BFA | C22: Fuel exports (% of merchandise exports) | D22: TX.VAL.FUEL.ZS.UN | G22: 0.20504114 | H22: 0.18511853 | I22: 0.11045238 | J22: 0.0059700153 | K22: 0.089027602 | L22: 0.015953289 | M22: 0.015988703 | N22: 0.0064415473 | O22: 0.010791428 | P22: 0.023398884 | Q22: 0.024010836 | R22: 0.51561178 | S22: 0.014863748 | T22: 0.0014403674 | V22: 0.056354739 | W22: 0.13908179 | X22: 0.57574596 | Y22: 0.11497979 | Z22: 0.17072477 | AA22: 0.0042383735 | AB22: 0.0018289727 | AN22: 0.11091817 | AO22: 0.15428457 | AP22: 1.6458384 | AQ22: 1.1407385 | AR22: 1.1043421 | AS22: 3.217922 | AT22: 0.023109655 | AU22: 0.0028183704 | AV22: 0.041422676 | AW22: 0.044905843 | AX22: 0.020282251 | AZ22: 0.0045149829 | BA22: 0.031538528 | BB22: 0.022492757 | BC22: 0.052281948 | BD22: 0.018307717 | BE22: 10.42187 | BF22: 11.610778 | BG22: 11.733031 | BH22: 0.029129375
A23: Bangladesh | B23: BGD | C23: Fuel exports (% of merchandise exports) | D23: TX.VAL.FUEL.ZS.UN | V23: 1.5347761 | W23: 1.2109293 | Y23: 0.00088388538 | Z23: 0.0017549716 | AA23: 2.2368371 | AB23: 3.7151793 | AC23: 1.877381 | AD23: 2.5458909 | AE23: 1.7343436 | AF23: 0.8663757 | AG23: 1.1117946 | AH23: 1.2276267 | AI23: 1.2788327 | AJ23: 2.0622475 | AK23: 0.89324557 | AL23: 0.85524861 | AM23: 0.47596523 | AN23: 0.44981347 | AO23: 0.26792349 | AP23: 0.38292632 | AQ23: 0.2222458 | AS23: 0.22921846 | AT23: 0.15608829 | AU23: 0.30551046 | AV23: 0.32333946 | AW23: 0.46868548 | AX23: 0.57941112 | AY23: 0.76146112 | AZ23: 1.623045 | BA23: 1.4106642 | BB23: 1.7267032 | BC23: 1.8734045 | BD23: 1.1519756
A24: Bulgaria | B24: BGR | C24: Fuel exports (% of merchandise exports) | D24: TX.VAL.FUEL.ZS.UN | AO24: 6.5069626 | AP24: 7.5843313 | AQ24: 6.2331637 | AR24: 6.9899484 | AS24: 11.654837 | AT24: 8.9495864 | AU24: 5.9907764 | AV24: 5.7949277 | AW24: 7.9778007 | AX24: 10.368707 | AY24: 13.27591 | AZ24: 14.60918 | BA24: 16.067836 | BB24: 12.600843 | BC24: 13.298118 | BD24: 13.10127 | BE24: 16.210013 | BF24: 14.751788 | BG24: 11.166175 | BH24: 9.0591971 | BI24: 8.407353
A25: Bahrain | B25: BHR | C25: Fuel exports (% of merchandise exports) | D25: TX.VAL.FUEL.ZS.UN | O25: 77.872151 | P25: 81.41453 | Q25: 78.281501 | R25: 80.622534 | S25: 84.476909 | T25: 81.456153 | U25: 78.957875 | V25: 78.63228 | W25: 79.659281 | X25: 0.72774459 | Y25: 0.2905281 | Z25: 0.21328622 | AA25: 0.12975198 | AB25: 0.057021754 | AC25: 0.17561434 | AD25: 0.072613676 | AE25: 0.034291311 | AF25: 0.00424573 | AG25: 0.0037001274 | AH25: 0.0043045511 | AI25: 0.004427745 | AJ25: 0.032088902 | AK25: 0.025898214 | AL25: 0.0093335103 | AM25: 55.549088 | AN25: 53.129218 | AO25: 0.017637078 | AS25: 0.03992076 | AT25: 66.933537 | AU25: 69.366404 | AV25: 72.518165 | AW25: 75.544618 | AX25: 78.15928 | AY25: 80.590116 | AZ25: 80.83025 | BA25: 69.062591 | BB25: 68.602043 | BC25: 74.347476 | BD25: 71.843923 | BE25: 64.148803 | BF25: 59.005034 | BG25: 58.476997 | BH25: 50.350797
A26: Bahamas, The | B26: BHS | C26: Fuel exports (% of merchandise exports) | D26: TX.VAL.FUEL.ZS.UN | S26: 91.836412 | T26: 94.507779 | U26: 90.812657 | Y26: 95.436222 | Z26: 92.163419 | AA26: 88.415691 | AB26: 89.65854 | AC26: 84.329247 | AD26: 65.692292 | AE26: 49.662184 | AF26: 37.454282 | AG26: 40.258642 | AN26: 0 | AP26: 0 | AQ26: 0.00047677571 | AR26: 0 | AS26: 0.3414706 | AT26: 0 | AU26: 0.02871824 | AV26: 0 | AW26: 0 | AY26: 0 | AZ26: 0 | BA26: 0 | BB26: 0 | BC26: 0 | BD26: 0 | BE26: 0.0020205239 | BF26: 0.0020081013 | BG26: 0 | BH26: 0
A27: Bosnia and Herzegovina | B27: BIH | C27: Fuel exports (% of merchandise exports) | D27: TX.VAL.FUEL.ZS.UN | AV27: 4.4823995 | AW27: 7.7985441 | AX27: 8.7727535 | AY27: 8.0305573 | AZ27: 7.7311225 | BA27: 9.6488193 | BB27: 13.105887 | BC27: 14.962515 | BD27: 13.83246 | BE27: 8.7968161 | BF27: 11.244646 | BG27: 9.3965957 | BH27: 6.808649 | BI27: 6.6654823
A28: Belarus | B28: BLR | C28: Fuel exports (% of merchandise exports) | D28: TX.VAL.FUEL.ZS.UN | AQ28: 7.7646309 | AR28: 9.0570691 | AS28: 19.787495 | AT28: 17.601287 | AU28: 20.077005 | AV28: 21.862943 | AW28: 26.740957 | AX28: 34.629348 | AY28: 38.178072 | AZ28: 34.919309 | BA28: 36.927038 | BB28: 37.266331 | BC28: 27.549069 | BD28: 35.653785 | BE28: 37.641642 | BF28: 32.125141 | BG28: 33.167864 | BH28: 28.915944 | BI28: 20.688443
A29: Belize | B29: BLZ | C29: Fuel exports (% of merchandise exports) | D29: TX.VAL.FUEL.ZS.UN | T29: 1.5549468 | U29: 2.5611913 | V29: 2.5521334 | W29: 2.1163958 | X29: 0 | Y29: 0 | AA29: 0 | AK29: 0 | AL29: 0 | AM29: 0 | AN29: 0 | AO29: 0.00034646574 | AP29: 0 | AQ29: 0 | AR29: 45.616412 | AS29: 0 | AV29: 0 | AW29: 0 | AX29: 9.6609225e-05 | AY29: 16.547863 | AZ29: 28.208035 | BA29: 40.262314 | BB29: 27.972454 | BC29: 36.152457 | BD29: 42.851291 | BE29: 27.368778 | BF29: 21.239146 | BG29: 16.658267 | BH29: 6.8022224
A30: Bermuda | B30: BMU | C30: Fuel exports (% of merchandise exports) | D30: TX.VAL.FUEL.ZS.UN | P30: 3.6500979 | Q30: 10.385323 | R30: 13.358973 | S30: 27.880198 | T30: 34.439602 | U30: 34.466507 | V30: 41.681549 | W30: 39.782499 | X30: 55.033624 | Y30: 44.379159 | Z30: 37.830495 | AA30: 0.090702357 | AB30: 0.8553627 | AC30: 0.0010457665 | AD30: 0.002942026 | AG30: 0.063405467 | AH30: 0.0011286043 | AI30: 0.0020262143 | AJ30: 0.0055181407 | AK30: 0.070217057 | AL30: 0.0033103149 | BE30: 6.3200662 | BH30: 0.08425699
A31: Bolivia | B31: BOL | C31: Fuel exports (% of merchandise exports) | D31: TX.VAL.FUEL.ZS.UN | G31: 1.9396786 | H31: 2.2004445 | I31: 0.64244245 | J31: 0.57544426 | K31: 4.4071862 | L31: 13.756215 | M31: 14.234909 | N31: 11.699437 | O31: 4.5311321 | P31: 11.059822 | Q31: 17.297453 | R31: 18.619047 | S31: 29.826213 | T31: 29.046609 | U31: 26.294054 | V31: 18.566611 | W31: 16.670941 | X31: 13.567161 | Y31: 23.657598 | Z31: 34.172645 | AA31: 44.491724 | AB31: 51.379293 | AC31: 49.786335 | AD31: 55.658784 | AE31: 52.268037 | AF31: 44.938889 | AG31: 36.643263 | AH31: 26.171847 | AI31: 24.565235 | AJ31: 26.763399 | AK31: 16.518512 | AL31: 13.975508 | AM31: 10.64992 | AN31: 14.553796 | AO31: 13.073874 | AP31: 9.2164838 | AQ31: 7.9631443 | AR31: 5.6256383 | AS31: 12.976686 | AT31: 24.081769 | AU31: 24.974312 | AV31: 31.456569 | AW31: 38.151979 | AX31: 49.213704 | AY31: 50.352145 | AZ31: 49.176565 | BA31: 52.303579 | BB31: 40.006969 | BC31: 43.877428 | BD31: 46.724289 | BE31: 55.005124 | BF31: 57.250313 | BG31: 57.821257 | BH31: 50.395069
A32: Brazil | B32: BRA | C32: Fuel exports (% of merchandise exports) | D32: TX.VAL.FUEL.ZS.UN | G32: 0.61200556 | H32: 0.66962834 | I32: 0.18635895 | J32: 0.0004854974 | L32: 0.05040879 | M32: 0.033904542 | N32: 0.14414933 | O32: 0.58163232 | P32: 0.82702702 | Q32: 1.0021914 | R32: 1.3479846 | S32: 1.391583 | T32: 2.3153764 | U32: 2.4748016 | V32: 1.786915 | W32: 1.5512827 | X32: 1.4959726 | Y32: 1.7760169 | Z32: 5.0556551 | AA32: 7.1557092 | AB32: 5.2908851 | AC32: 6.7678846 | AD32: 6.3562577 | AE32: 3.1246749 | AF32: 3.6079373 | AG32: 2.6723323 | AH32: 2.4732525 | AI32: 2.1598739 | AJ32: 1.3652113 | AK32: 1.5971655 | AL32: 1.65268 | AM32: 1.8102053 | AN32: 0.8745096 | AO32: 0.89064055 | AP32: 0.60996862 | AQ32: 0.71994195 | AR32: 0.83668421 | AS32: 1.6433502 | AT32: 3.5826271 | AU32: 4.8834481 | AV32: 5.1931614 | AW32: 4.5677955 | AX32: 5.9833454 | AY32: 7.7084394 | AZ32: 8.289251 | BA32: 9.4594116 | BB32: 8.9996591 | BC32: 10.13635 | BD32: 10.544742 | BE32: 11.027062 | BF32: 7.4312578 | BG32: 9.2465223 | BH32: 7.2650445 | BI32: 6.3446923
