Workbook

Sheet Educação - Comparável
B1: Impostos | C1: MDE | D1: Educação inclusiva | E1: MDE + EI | F1: Inativos (rateio) | G1: MDE s/ inativos | H1: EI | I1: Inativos | J1: Total | M1: MDE + EI s/ inativos | N1: Inativos | O1: Total | Q1: MDE c/ regra transição | R1: MDE + EI | S1: ME | T1: EI | W1: TCMSP | X1: despesas liquidadas e as inscritas em restos a pagar não processados com disponibilidade financeira
A2: 2003 | B2: 8490818423 | E2: 2781571754 | F2: 556456356 | J2: =E2/B2 -> 0.3275976 | M2: =(E2-F2)/B2 -> 0.26206136 | N2: =F2/B2 -> 0.065536245 | R2: =E2/B2 -> 0.3275976 | S2: 1 | T2: =100%-S2 -> 0 | W2: PMSP | X2: despesas empenhadas
A3: 2004 | B3: 9647894056 | E3: 3011647454 | F3: 651409136 | J3: =E3/B3 -> 0.31215594 | M3: =(E3-F3)/B3 -> 0.24463767 | N3: =F3/B3 -> 0.067518272 | R3: =E3/B3 -> 0.31215594 | S3: 1 | T3: =100%-S3 -> 0 | W3: Portaria STN/559
A4: 2005 | B4: 10967300316 | E4: 3627475354 | F4: 565616292 | J4: =E4/B4 -> 0.33075372 | M4: =(E4-F4)/B4 -> 0.27918074 | N4: =F4/B4 -> 0.051572974 | R4: =E4/B4 -> 0.33075372 | S4: 1 | T4: =100%-S4 -> 0
A5: 2006 | B5: 13105997360 | E5: 4171430422 | F5: 353064121 | J5: =E5/B5 -> 0.31828409 | M5: =(E5-F5)/B5 -> 0.29134496 | N5: =F5/B5 -> 0.026939127 | R5: =E5/B5 -> 0.31828409 | S5: 1 | T5: =100%-S5 -> 0
A6: 2007 | B6: 14869730145 | C6: 3945634536 | D6: 845778246 | E6: =D6+C6 -> 4791412782 | F6: 443442658 | G6: =(C6-F6*S6)/B6 -> 0.23552491 | H6: =(D6-T6*F6)/B6 -> 0.056879193 | I6: =F6/B6 -> 0.029821836 | M6: =(E6-F6)/B6 -> 0.2924041 | N6: =F6/B6 -> 0.029821836 | Q6: =C6/B6 -> 0.26534675 | R6: =E6/B6 -> 0.32222594 | S6: 1 | T6: =100%-S6 -> 0
A7: 2008 | B7: 16831762166 | C7: 4531811568 | D7: 815938252 | E7: =D7+C7 -> 5347749820 | F7: 473379475 | G7: =(C7-F7*S7)/B7 -> 0.24111748 | H7: =(D7-T7*F7)/B7 -> 0.048476104 | I7: =F7/B7 -> 0.028124178 | M7: =(E7-F7)/B7 -> 0.28959358 | N7: =F7/B7 -> 0.028124178 | Q7: =C7/B7 -> 0.26924166 | R7: =E7/B7 -> 0.31771776 | S7: 1 | T7: =100%-S7 -> 0
A8: 2009 | B8: 17733070033 | C8: 4931904338 | D8: 764804515 | E8: =D8+C8 -> 5696708853 | F8: 589794350 | G8: =(C8-F8*S8)/B8 -> 0.24485946 | H8: =(D8-T8*F8)/B8 -> 0.043128715 | I8: =F8/B8 -> 0.033259574 | M8: =(E8-F8)/B8 -> 0.28798818 | N8: =F8/B8 -> 0.033259574 | Q8: =C8/B8 -> 0.27811904 | R8: =E8/B8 -> 0.32124775 | S8: 1 | T8: =100%-S8 -> 0
A9: =1+A8 -> 2010 | B9: 20887172493 | C9: 5731405228 | D9: 967380729 | E9: =D9+C9 -> 6698785957 | F9: 693626428 | G9: =(C9-F9*S9)/B9 -> 0.24119008 | H9: =(D9-T9*F9)/B9 -> 0.046314585 | I9: =F9/B9 -> 0.033208249 | M9: =(E9-F9)/B9 -> 0.28750466 | N9: =F9/B9 -> 0.033208249 | Q9: =C9/B9 -> 0.27439833 | R9: =E9/B9 -> 0.32071291 | S9: 1 | T9: =100%-S9 -> 0
A10: =1+A9 -> 2011 | B10: 23783231805 | C10: 6641209693 | D10: 938077503 | E10: =D10+C10 -> 7579287196 | F10: 785030520 | G10: =(C10-F10*S10)/B10 -> 0.24623143 | H10: =(D10-T10*F10)/B10 -> 0.03944281 | I10: =F10/B10 -> 0.033007731 | M10: =(E10-F10)/B10 -> 0.28567424 | N10: =F10/B10 -> 0.033007731 | Q10: =C10/B10 -> 0.27923916 | R10: =E10/B10 -> 0.31868197 | S10: 1 | T10: =100%-S10 -> 0
A11: =1+A10 -> 2012 | B11: 26648356908 | C11: 7459456898 | D11: 855703932 | E11: =D11+C11 -> 8315160830 | F11: 9.4252953e+08 | G11: =(C11-F11*S11)/B11 -> 0.24455269 | H11: =(D11-T11*F11)/B11 -> 0.032110945 | I11: =F11/B11 -> 0.035369143 | M11: =(E11-F11)/B11 -> 0.27666364 | N11: =F11/B11 -> 0.035369143 | Q11: =C11/B11 -> 0.27992183 | R11: =E11/B11 -> 0.31203278 | S11: 1 | T11: =100%-S11 -> 0
A12: =1+A11 -> 2013 | B12: 28463801898 | C12: 8064074408 | D12: 926063773 | E12: =D12+C12 -> 8990138181 | F12: 1.3304772e+09 | G12: =(C12-F12*S12)/B12 -> 0.23656704 | H12: =(D12-T12*F12)/B12 -> 0.032534788 | I12: =F12/B12 -> 0.046742778 | M12: =(E12-F12)/B12 -> 0.26910182 | N12: =F12/B12 -> 0.046742778 | Q12: =C12/B12 -> 0.28330981 | R12: =E12/B12 -> 0.3158446 | S12: 1 | T12: =100%-S12 -> 0
A13: =1+A12 -> 2014 | B13: 30608169934 | C13: =9045614569 -> 9045614569 | D13: =1299403669 -> 1299403669 | E13: =D13+C13 -> 10345018238 | F13: 1.3917498e+09 | G13: =(C13-F13*S13)/B13 -> 0.25915351 | H13: =(D13-T13*F13)/B13 -> 0.033358862 | I13: =F13/B13 -> 0.04546988 | M13: =(E13-F13)/B13 -> 0.29251237 | N13: =F13/B13 -> 0.04546988 | Q13: =C13/B13 -> 0.29552942 | R13: =E13/B13 -> 0.33798225 | S13: 0.8 | T13: =100%-S13 -> 0.2 | U13: Lei 15.963/14
A14: =1+A13 -> 2015 | B14: 33101361337 | C14: =(10948928662-1452388018) -> 9496540644 | D14: =1977765909 -> 1977765909 | E14: =D14+C14 -> 11474306553 | F14: 1.2033356e+09 | G14: =(C14-F14*S14)/B14 -> 0.26508092 | H14: =(D14-T14*F14)/B14 -> 0.045207557 | I14: =F14/B14 -> 0.036353053 | M14: =(E14-F14)/B14 -> 0.31028848 | N14: =F14/B14 -> 0.036353053 | Q14: =C14/B14 -> 0.28689275 | R14: =E14/B14 -> 0.34664153 | S14: 0.6 | T14: =100%-S14 -> 0.4
A15: 2016 | B15: ='Educação - TCMSP'!B15 -> 33729045773 | C15: ='Educação - TCMSP'!C15 -> 9680109301 | D15: ='Educação - TCMSP'!D15 -> 2.6690785e+09 | E15: =D15+C15 -> 1.2349188e+10 | F15: ='Educação - TCMSP'!F15 -> 2.3225885e+09 | G15: =(C15-F15*S15)/B15 -> 0.25945216 | H15: =(D15-T15*F15)/B15 -> 0.037816825 | I15: =F15/B15 -> 0.06886019 | M15: =(E15-F15)/B15 -> 0.29726899 | N15: =F15/B15 -> 0.06886019 | Q15: =C15/B15 -> 0.28699624 | R15: =E15/B15 -> 0.36612918 | S15: 0.4 | T15: =100%-S15 -> 0.6
A16: set/16-ago/17 | B16: =B65+B61-B60 -> 3.506441e+10 | C16: =C65+C61-C60 -> 8.4149818e+09 | D16: =D65+D61-D60 -> 3.0468295e+09 | E16: =E65+E61-E60 -> 1.1461811e+10 | J16: =E16/B16 -> 0.32687877 | O16: =J16 -> 0.32687877 | Q16: =C16/B16 -> 0.23998641 | R16: =E16/B16 -> 0.32687877 | S16: 0.2 | T16: =100%-S16 -> 0.8
A17: 2018 | S17: 0 | T17: =100%-S17 -> 1
B56: Impostos | C56: MDE | D56: Educação inclusiva | E56: MDE + EI | F56: Inativos (rateio) | G56: MDE não prioritária
A57: 42401 | B57: 7.376366e+09 | C57: 4.1076448e+09 | D57: 8.7186661e+08 | E57: =D57+C57 -> 4.9795114e+09 | I57: =C57/B57 -> 0.55686563 | J57: =E57/B57 -> 0.67506294 | K57: =(E57+G57)/B57 -> 0.67506294
A58: 42461 | B58: 1.2940319e+10 | C58: 5.0945545e+09 | D58: 9.611437e+08 | E58: =D58+C58 -> 6.0556982e+09 | I58: =C58/B58 -> 0.3936962 | J58: =E58/B58 -> 0.46797132 | K58: =(E58+G58)/B58 -> 0.46797132
A59: 42522 | B59: 1.8202316e+10 | C59: 6.2104817e+09 | D59: 1.194425e+09 | E59: =D59+C59 -> 7.4049067e+09 | I59: =C59/B59 -> 0.34119183 | J59: =E59/B59 -> 0.40681123 | K59: =(E59+G59)/B59 -> 0.40681123
A60: 42583 | B60: 2.3461959e+10 | C60: 7.1395216e+09 | D60: 1.3833414e+09 | E60: =D60+C60 -> 8.522863e+09 | I60: =C60/B60 -> 0.30430202 | J60: =E60/B60 -> 0.36326306 | K60: =(E60+G60)/B60 -> 0.36326306
A61: 2016 | B61: 3.3729014e+10 | C61: 9.6357695e+09 | D61: =1782633777.63+'Educação - TCMSP'!C64 -> 2.7348951e+09 | E61: =D61+C61 -> 1.2370665e+10 | F61: =F15 -> 2.3225885e+09 | I61: =C61/B61 -> 0.28568192 | J61: =E61/B61 -> 0.36676627 | K61: =(E61+G61)/B61 -> 0.36676627
A62: 42767 | B62: 7.660872e+09 | C62: 2.8855713e+09 | D62: 6.2233962e+08 | E62: =D62+C62 -> 3.5079109e+09 | I62: =C62/B62 -> 0.37666355 | J62: =E62/B62 -> 0.45789969 | K62: =(E62+G62)/B62 -> 0.45789969
A63: 42826 | B63: 13418464230 | C63: 3944115943 | D63: 1037534299 | E63: =D63+C63 -> 4981650242 | F63: =536432407/0.8 -> 6.7054051e+08 | G63: 2482176042 | I63: =C63/B63 -> 0.29393199 | J63: =E63/B63 -> 0.37125338 | K63: =(E63+G63)/B63 -> 0.55623551
A64: 42887 | B64: 19082789807 | C64: 5974218698 | D64: 1359030116 | E64: =D64+C64 -> 7333248814 | F64: =832032299/0.8 -> 1.0400404e+09 | G64: 2975063125 | I64: =C64/B64 -> 0.31306841 | J64: =E64/B64 -> 0.38428599 | K64: =(E64+G64)/B64 -> 0.54018894
A65: 42948 | B65: 24797355449 | C65: 5918733947 | D65: 1695275857 | E65: =D65+C65 -> 7614009804 | F65: =1131547715/0.8 -> 1.4144346e+09 | G65: 1923525565 | I65: =C65/B65 -> 0.23868408 | J65: =E65/B65 -> 0.30704927 | K65: =(E65+G65)/B65 -> 0.38461905
A68: 2016 | B68: =B61 -> 3.3729014e+10 | C68: =C61 -> 9.6357695e+09 | D68: =D61 -> 2.7348951e+09 | E68: =C68+D68 -> 1.2370665e+10 | I68: =C68/B68 -> 0.28568192 | J68: =D68/B68 -> 0.081084348 | K68: =J68+I68 -> 0.36676627
A69: 42767 | B69: =B62+$B$61-B57 -> 3.401352e+10 | C69: =C62+$C$61-C57 -> 8.413696e+09 | D69: =D62+$D$61-D57 -> 2.4853681e+09 | E69: =C69+D69 -> 1.0899064e+10 | I69: =C69/B69 -> 0.24736329 | J69: =D69/B69 -> 0.073070006 | K69: =J69+I69 -> 0.32043329
A70: 42826 | B70: =B63+$B$61-B58 -> 3.4207159e+10 | C70: =C63+$C$61-C58 -> 8.4853309e+09 | D70: =D63+$D$61-D58 -> 2.8112857e+09 | E70: =C70+D70 -> 1.1296617e+10 | I70: =C70/B70 -> 0.24805717 | J70: =D70/B70 -> 0.082184132 | K70: =J70+I70 -> 0.3302413
A71: 42887 | B71: =B64+$B$61-B59 -> 3.4609487e+10 | C71: =C64+$C$61-C59 -> 9.3995065e+09 | D71: =D64+$D$61-D59 -> 2.8995001e+09 | E71: =C71+D71 -> 1.2299007e+10 | I71: =C71/B71 -> 0.27158757 | J71: =D71/B71 -> 0.083777611 | K71: =J71+I71 -> 0.35536518
A72: 42948 | B72: =B65+$B$61-B60 -> 3.506441e+10 | C72: =C65+$C$61-C60 -> 8.4149818e+09 | D72: =D65+$D$61-D60 -> 3.0468295e+09 | E72: =C72+D72 -> 1.1461811e+10 | I72: =C72/B72 -> 0.23998641 | J72: =D72/B72 -> 0.086892365 | K72: =J72+I72 -> 0.32687877
B76: MDE | C76: Inativos da educação
A77: 2007 | B77: =G6 -> 0.23552491 | C77: =H6 -> 0.056879193
A78: =A77+1 -> 2008 | B78: =G7 -> 0.24111748 | C78: =H7 -> 0.048476104
A79: =A78+1 -> 2009 | B79: =G8 -> 0.24485946 | C79: =H8 -> 0.043128715
A80: =A79+1 -> 2010 | B80: =G9 -> 0.24119008 | C80: =H9 -> 0.046314585
A81: =A80+1 -> 2011 | B81: =G10 -> 0.24623143 | C81: =H10 -> 0.03944281
A82: =A81+1 -> 2012 | B82: =G11 -> 0.24455269 | C82: =H11 -> 0.032110945
A83: =A82+1 -> 2013 | B83: =G12 -> 0.23656704 | C83: =H12 -> 0.032534788
...

Sheet Educação - TCMSP
B1: Impostos | C1: MDE | D1: Educação inclusiva | E1: MDE + EI | F1: Inativos (rateio) | G1: MDE s/ inativos | H1: EI | I1: Inativos | J1: Total | M1: MDE + EI s/ inativos | N1: Inativos | O1: Total | Q1: MDE c/ regra transição | R1: MDE + EI | S1: ME | T1: EI | W1: TCMSP | X1: despesas liquidadas e as inscritas em restos a pagar não processados com disponibilidade financeira
A2: 2003 | B2: 8490818423 | E2: 2781571754 | F2: 556456356 | J2: =E2/B2 -> 0.3275976 | M2: =(E2-F2)/B2 -> 0.26206136 | N2: =F2/B2 -> 0.065536245 | R2: =E2/B2 -> 0.3275976 | S2: 1 | T2: =100%-S2 -> 0 | W2: PMSP | X2: despesas empenhadas
A3: 2004 | B3: 9647894056 | E3: 3011647454 | F3: 651409136 | J3: =E3/B3 -> 0.31215594 | M3: =(E3-F3)/B3 -> 0.24463767 | N3: =F3/B3 -> 0.067518272 | R3: =E3/B3 -> 0.31215594 | S3: 1 | T3: =100%-S3 -> 0 | W3: Portaria STN/559
A4: 2005 | B4: 10967300316 | E4: 3627475354 | F4: 565616292 | J4: =E4/B4 -> 0.33075372 | M4: =(E4-F4)/B4 -> 0.27918074 | N4: =F4/B4 -> 0.051572974 | R4: =E4/B4 -> 0.33075372 | S4: 1 | T4: =100%-S4 -> 0
A5: 2006 | B5: 13105997360 | E5: 4171430422 | F5: 353064121 | J5: =E5/B5 -> 0.31828409 | M5: =(E5-F5)/B5 -> 0.29134496 | N5: =F5/B5 -> 0.026939127 | R5: =E5/B5 -> 0.31828409 | S5: 1 | T5: =100%-S5 -> 0
A6: 2007 | B6: 14869730145 | C6: 3945634536 | D6: 845778246 | E6: =D6+C6 -> 4791412782 | F6: 443442658 | G6: =(C6-F6*S6)/B6 -> 0.23552491 | H6: =(D6-T6*F6)/B6 -> 0.056879193 | I6: =F6/B6 -> 0.029821836 | M6: =(E6-F6)/B6 -> 0.2924041 | N6: =F6/B6 -> 0.029821836 | Q6: =C6/B6 -> 0.26534675 | R6: =E6/B6 -> 0.32222594 | S6: 1 | T6: =100%-S6 -> 0
A7: 2008 | B7: 16831762166 | C7: 4531811568 | D7: 815938252 | E7: =D7+C7 -> 5347749820 | F7: 473379475 | G7: =(C7-F7*S7)/B7 -> 0.24111748 | H7: =(D7-T7*F7)/B7 -> 0.048476104 | I7: =F7/B7 -> 0.028124178 | M7: =(E7-F7)/B7 -> 0.28959358 | N7: =F7/B7 -> 0.028124178 | Q7: =C7/B7 -> 0.26924166 | R7: =E7/B7 -> 0.31771776 | S7: 1 | T7: =100%-S7 -> 0
A8: 2009 | B8: 17733070033 | C8: 4931904338 | D8: 764804515 | E8: =D8+C8 -> 5696708853 | F8: 589794350 | G8: =(C8-F8*S8)/B8 -> 0.24485946 | H8: =(D8-T8*F8)/B8 -> 0.043128715 | I8: =F8/B8 -> 0.033259574 | M8: =(E8-F8)/B8 -> 0.28798818 | N8: =F8/B8 -> 0.033259574 | Q8: =C8/B8 -> 0.27811904 | R8: =E8/B8 -> 0.32124775 | S8: 1 | T8: =100%-S8 -> 0
A9: =1+A8 -> 2010 | B9: 20887172493 | C9: 5731405228 | D9: 967380729 | E9: =D9+C9 -> 6698785957 | F9: 693626428 | G9: =(C9-F9*S9)/B9 -> 0.24119008 | H9: =(D9-T9*F9)/B9 -> 0.046314585 | I9: =F9/B9 -> 0.033208249 | M9: =(E9-F9)/B9 -> 0.28750466 | N9: =F9/B9 -> 0.033208249 | Q9: =C9/B9 -> 0.27439833 | R9: =E9/B9 -> 0.32071291 | S9: 1 | T9: =100%-S9 -> 0
A10: =1+A9 -> 2011 | B10: 23783231805 | C10: 6641209693 | D10: 938077503 | E10: =D10+C10 -> 7579287196 | F10: 785030520 | G10: =(C10-F10*S10)/B10 -> 0.24623143 | H10: =(D10-T10*F10)/B10 -> 0.03944281 | I10: =F10/B10 -> 0.033007731 | M10: =(E10-F10)/B10 -> 0.28567424 | N10: =F10/B10 -> 0.033007731 | Q10: =C10/B10 -> 0.27923916 | R10: =E10/B10 -> 0.31868197 | S10: 1 | T10: =100%-S10 -> 0
A11: =1+A10 -> 2012 | B11: 26648356908 | C11: 7459456898 | D11: 855703932 | E11: =D11+C11 -> 8315160830 | F11: 9.4252953e+08 | G11: =(C11-F11*S11)/B11 -> 0.24455269 | H11: =(D11-T11*F11)/B11 -> 0.032110945 | I11: =F11/B11 -> 0.035369143 | M11: =(E11-F11)/B11 -> 0.27666364 | N11: =F11/B11 -> 0.035369143 | Q11: =C11/B11 -> 0.27992183 | R11: =E11/B11 -> 0.31203278 | S11: 1 | T11: =100%-S11 -> 0
A12: =1+A11 -> 2013 | B12: 28463801898 | C12: 8064074408 | D12: 926063773 | E12: =D12+C12 -> 8990138181 | F12: 1.3304772e+09 | G12: =(C12-F12*S12)/B12 -> 0.23656704 | H12: =(D12-T12*F12)/B12 -> 0.032534788 | I12: =F12/B12 -> 0.046742778 | M12: =(E12-F12)/B12 -> 0.26910182 | N12: =F12/B12 -> 0.046742778 | Q12: =C12/B12 -> 0.28330981 | R12: =E12/B12 -> 0.3158446 | S12: 1 | T12: =100%-S12 -> 0
A13: =1+A12 -> 2014 | B13: 30608169934 | C13: 9045614569 | D13: 1299403669 | E13: =D13+C13 -> 10345018238 | F13: 1.3917498e+09 | G13: =(C13-F13*S13)/B13 -> 0.25915351 | H13: =(D13-T13*F13)/B13 -> 0.033358862 | I13: =F13/B13 -> 0.04546988 | M13: =(E13-F13)/B13 -> 0.29251237 | N13: =F13/B13 -> 0.04546988 | Q13: =C13/B13 -> 0.29552942 | R13: =E13/B13 -> 0.33798225 | S13: 0.8 | T13: =100%-S13 -> 0.2 | U13: Lei 15.963/14
A14: =1+A13 -> 2015 | B14: 33101361337 | C14: =10948928662-1452388018 -> 9496540644 | D14: 1977765909 | E14: =D14+C14 -> 11474306553 | F14: 1.2033356e+09 | G14: =(C14-F14*S14)/B14 -> 0.26508092 | H14: =(D14-T14*F14)/B14 -> 0.045207557 | I14: =F14/B14 -> 0.036353053 | M14: =(E14-F14)/B14 -> 0.31028848 | N14: =F14/B14 -> 0.036353053 | Q14: =C14/B14 -> 0.28689275 | R14: =E14/B14 -> 0.34664153 | S14: 0.6 | T14: =100%-S14 -> 0.4
A15: 2016 | B15: 33729045773 | C15: 9680109301 | D15: =1716817246+C64 -> 2.6690785e+09 | E15: =D15+C15 -> 1.2349188e+10 | F15: =SUM(C62:C64) -> 2.3225885e+09 | G15: =(C15-F15*S15)/B15 -> 0.25945216 | H15: =(D15-T15*F15)/B15 -> 0.037816825 | I15: =F15/B15 -> 0.06886019 | M15: =(E15-F15)/B15 -> 0.29726899 | N15: =F15/B15 -> 0.06886019 | Q15: =C15/B15 -> 0.28699624 | R15: =E15/B15 -> 0.36612918 | S15: 0.4 | T15: =100%-S15 -> 0.6
A16: 2017 | S16: 0.2 | T16: =100%-S16 -> 0.8
A17: 2018 | S17: 0 | T17: =100%-S17 -> 1
B60: Inativos da educação (2016) | D60: TC 72.000.803.17-68
A62: MDE | B62: 0.4 | C62: 929035398
A63: EI | B63: 0.19 | C63: 441291814
A64: EI (excluído) | B64: 0.41 | C64: =(B64/B62)*C62 -> 9.5226128e+08
A66: TCMSP | C66: =E15-C64 -> 11396926547

Sheet Saúde
B1: Despesas liquidadas/Receita de impostos | C1: EC 29/2000
A2: 2007 | B2: 0.2623 | C2: 0.15
A3: 2008 | C3: 0.15
A4: 2009 | B4: 0.1981 | C4: 0.15
A5: =1+A4 -> 2010 | B5: 0.1856 | C5: 0.15
A6: =1+A5 -> 2011 | B6: 0.183 | C6: 0.15
A7: =1+A6 -> 2012 | B7: 0.181 | C7: 0.15
A8: =1+A7 -> 2013 | B8: 0.1776 | C8: 0.15
A9: =1+A8 -> 2014 | B9: 0.1842 | C9: 0.15
A10: =1+A9 -> 2015 | B10: 0.1946 | C10: 0.15
A11: =1+A10 -> 2016 | B11: =D29 -> 0.22399884 | C11: 0.15
A12: 2017 (até ago) | B12: =D33 -> 0.19765113 | C12: 0.15
B23: Receita líquida de impostos | C23: Despesas liquidadas
A24: 42401 | B24: 7.3732994e+09 | C24: 1.053044e+09 | D24: =C24/B24 -> 0.14281856
A25: 42461 | B25: 1.2934575e+10 | C25: 2.2859853e+09 | D25: =C25/B25 -> 0.17673448
A26: 42522 | B26: 1.8193255e+10 | C26: 3.8171144e+09 | D26: =C26/B26 -> 0.20980932
A27: 42583 | B27: 2.3449038e+10 | C27: 4.9741917e+09 | D27: =C27/B27 -> 0.21212775
A28: 42644 | B28: 2.8545596e+10 | C28: 6.1291015e+09 | D28: =C28/B28 -> 0.21471268
A29: 2016 | B29: 3.370795e+10 | C29: 7.5505415e+09 | D29: =C29/B29 -> 0.22399884
A30: 42767 | B30: 7.6590053e+09 | C30: 1.2105583e+09 | D30: =C30/B30 -> 0.15805685
A31: 42826 | B31: 1.3418444e+10 | C31: 2.3904376e+09 | D31: =C31/B31 -> 0.17814567
A32: 42887 | B32: 1.9082755e+10 | C32: 3.8342616e+09 | D32: =C32/B32 -> 0.20092809
A33: 42948 | B33: 2.4799506e+10 | C33: 4.9016503e+09 | D33: =C33/B33 -> 0.19765113
A34: 43009
A35: 2017
A38: 2009 | E38: 0.1981
A39: =1+A38 -> 2010 | E39: 0.1856
A40: =1+A39 -> 2011 | E40: 0.183
A41: =1+A40 -> 2012 | E41: 0.181
A42: =1+A41 -> 2013 | E42: 0.1776
A43: =1+A42 -> 2014 | E43: 0.1842
A44: =1+A43 -> 2015 | E44: 0.1946
A45: =1+A44 -> 2016 | D45: =E45 -> 0.22399884 | E45: =D29 -> 0.22399884
A46: 42767 | B46: =B30+$B$29-B24 -> 3.3993656e+10 | C46: =C30+$C$29-C24 -> 7.7080557e+09 | D46: =C46/B46 -> 0.22674983
A47: 42826 | B47: =B31+$B$29-B25 -> 3.4191819e+10 | C47: =C31+$C$29-C25 -> 7.6549938e+09 | D47: =C47/B47 -> 0.22388378
A48: 42887 | B48: =B32+$B$29-B26 -> 3.4597449e+10 | C48: =C32+$C$29-C26 -> 7.5676886e+09 | D48: =C48/B48 -> 0.21873545
A49: 42948 | B49: =B33+$B$29-B27 -> 3.5058418e+10 | C49: =C33+$C$29-C27 -> 7.4780001e+09 | D49: =C49/B49 -> 0.21330113

Sheet Caixa em 2016
B1: Livres | C1: Vinculados | D1: Total
A2: Disponibilidades | B2: 1742557 | C2: 3604070 | D2: 5346627
A3: Obrigações financeiras de CP | B3: -1436802 | C3: -753530 | D3: -2190332
B4: =B2+B3 -> 305755
B6: =B2/$D$2 -> 0.32591707 | C6: =C2/$D$2 -> 0.67408293

Sheet Receitas
B1: Orçado | E1: Realizado
B2: Corrente | C2: Capital | E2: Corrente | F2: Capital | I2: Corrente | J2: Capital | K2: Total | O2: Corrente | P2: Capital | Q2: Orçada
A3: 2005 | B3: 14596450900 | C3: 1095211600 | D3: 2005 | E3: 1.4758019e+10 | F3: 7.9790412e+08 | I3: =E3/B3-1 -> 0.011069033 | J3: =F3/C3-1 -> -0.27146122 | K3: =SUM(E3:F3)/SUM(B3:C3)-1 -> -0.0086503825 | N3: 2005 | O3: =E3/1000000000 -> 14.758019 | P3: =F3/1000000000 -> 0.79790412 | Q3: =SUM(B3:C3)/1000000000 -> 15.691662
A4: =A3+1 -> 2006 | B4: 16510080700 | C4: 1234834000 | D4: =D3+1 -> 2006 | E4: 1.7333426e+10 | F4: 3.5379508e+08 | I4: =E4/B4-1 -> 0.049869264 | J4: =F4/C4-1 -> -0.71348774 | K4: =SUM(E4:F4)/SUM(B4:C4)-1 -> -0.0032512608 | N4: =N3+1 -> 2006 | O4: =E4/1000000000 -> 17.333426 | P4: =F4/1000000000 -> 0.35379508 | Q4: =SUM(B4:C4)/1000000000 -> 17.744915
A5: =A4+1 -> 2007 | B5: 20481371423 | C5: 1575898400 | D5: =D4+1 -> 2007 | E5: 2.0134629e+10 | F5: 4.1698324e+08 | I5: =E5/B5-1 -> -0.016929625 | J5: =F5/C5-1 -> -0.73539967 | K5: =SUM(E5:F5)/SUM(B5:C5)-1 -> -0.068261264 | N5: =N4+1 -> 2007 | O5: =E5/1000000000 -> 20.134629 | P5: =F5/1000000000 -> 0.41698324 | Q5: =SUM(B5:C5)/1000000000 -> 22.05727
A6: =A5+1 -> 2008 | B6: 23384400340 | C6: 2066612902 | D6: =D5+1 -> 2008 | E6: 2.3281544e+10 | F6: 7.7681929e+08 | I6: =E6/B6-1 -> -0.0043984994 | J6: =F6/C6-1 -> -0.62410992 | K6: =SUM(E6:F6)/SUM(B6:C6)-1 -> -0.054718838 | N6: =N5+1 -> 2008 | O6: =E6/1000000000 -> 23.281544 | P6: =F6/1000000000 -> 0.77681929 | Q6: =SUM(B6:C6)/1000000000 -> 25.451013
A7: =A6+1 -> 2009 | B7: 25410082015 | C7: 2449859933 | D7: =D6+1 -> 2009 | E7: 2.4255376e+10 | F7: 9.4872717e+08 | I7: =E7/B7-1 -> -0.045442825 | J7: =F7/C7-1 -> -0.61274228 | K7: =SUM(E7:F7)/SUM(B7:C7)-1 -> -0.09532822 | N7: =N6+1 -> 2009 | O7: =E7/1000000000 -> 24.255376 | P7: =F7/1000000000 -> 0.94872717 | Q7: =SUM(B7:C7)/1000000000 -> 27.859942
A8: =A7+1 -> 2010 | B8: 27044745590 | C8: 1235836228 | D8: =D7+1 -> 2010 | E8: 2.7677835e+10 | F8: 2.747793e+09 | I8: =E8/B8-1 -> 0.02340895 | J8: =F8/C8-1 -> 1.2234281 | K8: =SUM(E8:F8)/SUM(B8:C8)-1 -> 0.075848719 | N8: =N7+1 -> 2010 | O8: =E8/1000000000 -> 27.677835 | P8: =F8/1000000000 -> 2.747793 | Q8: =SUM(B8:C8)/1000000000 -> 28.280582
A9: =A8+1 -> 2011 | B9: 32131915932 | C9: 3866684717 | D9: =D8+1 -> 2011 | E9: 3.1581999e+10 | F9: 9.3469031e+08 | I9: =E9/B9-1 -> -0.017114345 | J9: =F9/C9-1 -> -0.75827088 | K9: =SUM(E9:F9)/SUM(B9:C9)-1 -> -0.096723513 | N9: =N8+1 -> 2011 | O9: =E9/1000000000 -> 31.581999 | P9: =F9/1000000000 -> 0.93469031 | Q9: =SUM(B9:C9)/1000000000 -> 35.998601
A10: =A9+1 -> 2012 | B10: 34806294976 | C10: 4312497710 | D10: =D9+1 -> 2012 | E10: 3.4850689e+10 | F10: 2.8252053e+09 | I10: =E10/B10-1 -> 0.0012754511 | J10: =F10/C10-1 -> -0.34487958 | K10: =SUM(E10:F10)/SUM(B10:C10)-1 -> -0.036885051 | N10: =N9+1 -> 2012 | O10: =E10/1000000000 -> 34.850689 | P10: =F10/1000000000 -> 2.8252053 | Q10: =SUM(B10:C10)/1000000000 -> 39.118793
A11: =A10+1 -> 2013 | B11: 36849377798 | C11: 5513176070 | D11: =D10+1 -> 2013 | E11: 3.7710663e+10 | F11: 1.3267113e+09 | I11: =E11/B11-1 -> 0.023373141 | J11: =F11/C11-1 -> -0.75935627 | K11: =SUM(E11:F11)/SUM(B11:C11)-1 -> -0.078493358 | N11: =N10+1 -> 2013 | O11: =E11/1000000000 -> 37.710663 | P11: =F11/1000000000 -> 1.3267113 | Q11: =SUM(B11:C11)/1000000000 -> 42.362554
A12: =A11+1 -> 2014 | B12: 41588452894 | C12: 9271698913 | D12: =D11+1 -> 2014 | E12: 4.0699086e+10 | F12: 1.0417867e+09 | I12: =E12/B12-1 -> -0.021384946 | J12: =F12/C12-1 -> -0.88763799 | K12: =SUM(E12:F12)/SUM(B12:C12)-1 -> -0.17930106 | N12: =N11+1 -> 2014 | O12: =E12/1000000000 -> 40.699086 | P12: =F12/1000000000 -> 1.0417867 | Q12: =SUM(B12:C12)/1000000000 -> 50.860152
A13: =A12+1 -> 2015 | B13: 44302158153 | C13: 7091589968 | D13: =D12+1 -> 2015 | E13: 4.6712131e+10 | F13: 1.3901676e+09 | I13: =E13/B13-1 -> 0.054398541 | J13: =F13/C13-1 -> -0.80396955 | K13: =SUM(E13:F13)/SUM(B13:C13)-1 -> -0.064043775 | N13: =N12+1 -> 2015 | O13: =E13/1000000000 -> 46.712131 | P13: =F13/1000000000 -> 1.3901676 | Q13: =SUM(B13:C13)/1000000000 -> 51.393748
A14: =A13+1 -> 2016 | B14: 46284059761 | C14: 8123240586 | D14: =D13+1 -> 2016 | E14: 4.6131677e+10 | F14: 1.3953859e+09 | I14: =E14/B14-1 -> -0.0032923297 | J14: =F14/C14-1 -> -0.82822301 | K14: =SUM(E14:F14)/SUM(B14:C14)-1 -> -0.12645798 | N14: =N13+1 -> 2016 | O14: =E14/1000000000 -> 46.131677 | P14: =F14/1000000000 -> 1.3953859 | Q14: =SUM(B14:C14)/1000000000 -> 54.4073
A15: =A14+1 -> 2017 | B15: 49839465592 | C15: 4855097551 | D15: 2017* | E15: =E18+E14-E17 -> 4.8572483e+10 | F15: =F18+F14-F17 -> 1.078411e+09 | I15: =E15/B15-1 -> -0.025421272 | J15: =F15/C15-1 -> -0.77788067 | K15: =SUM(E15:F15)/SUM(B15:C15)-1 -> -0.092215183 | N15: 2017* | O15: =E15/1000000000 -> 48.572483 | P15: =F15/1000000000 -> 1.078411 | Q15: =SUM(B15:C15)/1000000000 -> 54.694563
D17: 42614 | E17: 3.2575937e+10 | F17: 9.8260119e+08
D18: 42979 | E18: 3.5016742e+10 | F18: 6.6562633e+08 | G18: =SUM(E18:F18)/SUM(E17:F17)-1 -> 0.063287344
A30: http://www.prefeitura.sp.gov.br/cidade/secretarias/fazenda/contaspublicas/index.php?p=3218
