Workbook

Sheet SME
B1: Matrículas | J1: Demanda
B2: Creche | C2: Pré-Escola | D2: Ens.Fund.I | E2: Ens.Fund.II | F2: EJA I | G2: EJA II | H2: Ens.Médio | I2: Ed. Profissional | J2: Creche | K2: Pré-Escola
A3: Jun.07 | B3: 78474 | C3: 326471 | D3: 275234 | E3: 254148 | F3: 24084 | G3: 87516 | H3: 3007 | I3: 784 | J3: 88218 | K3: 48794
A4: Set.07 | B4: 81054 | C4: 325788 | D4: 274913 | E4: 251370 | F4: 21509 | G4: 85170 | H4: 2928 | I4: 668 | J4: 158689 | K4: 58148
A5: Dez.07 | B5: 83364 | C5: 324512 | D5: 273187 | E5: 248461 | F5: 24006 | G5: 85716 | H5: 2803 | I5: 662 | J5: 79231 | K5: 75316
A6: Mar.08 | B6: 96217 | C6: 309626 | D6: 265634 | E6: 255019 | F6: 20297 | G6: 82521 | H6: 2963 | I6: 661 | J6: 93476 | K6: 53358
A7: Jun.08 | B7: 101966 | C7: 316453 | D7: 265731 | E7: 253994 | F7: 21104 | G7: 83946 | H7: 2971 | I7: 659 | J7: 110091 | K7: 47946 | M7: =J7/(B7-B3) -> 4.6863187
A8: Set.08 | B8: 106519 | C8: 318567 | D8: 264818 | E8: 251611 | F8: 21056 | G8: 68809 | H8: 2935 | I8: 621 | J8: 134497 | K8: 47204 | M8: =J8/(B8-B4) -> 5.2816415
A9: Dez.08 | B9: 109717 | C9: 317907 | D9: 262481 | E9: 247098 | F9: 19444 | G9: 63330 | H9: 2799 | I9: 621 | J9: 57607 | K9: 14585 | M9: =J9/(B9-B5) -> 2.185975
A10: Mar.09 | B10: 116167 | C10: 308045 | D10: 245918 | E10: 249645 | F10: 18092 | G10: 63948 | H10: 2777 | I10: 574 | J10: 67619 | K10: 34100 | M10: =J10/(B10-B6) -> 3.3894236
A11: Jun.09 | B11: 119747 | C11: 310167 | D11: 247955 | E11: 249910 | F11: 19121 | G11: 68221 | H11: 2752 | I11: 523 | J11: 84807 | K11: 33265 | M11: =J11/(B11-B7) -> 4.7695293
A12: Set.09 | B12: 120902 | C12: 309086 | D12: 247814 | E12: 248588 | F12: 18666 | G12: 66345 | H12: 2726 | I12: 737 | J12: 86858 | K12: 28524 | M12: =J12/(B12-B8) -> 6.0389349
A13: Dez.09 | B13: 123155 | C13: 309334 | D13: 246029 | E13: 243906 | F13: 16796 | G13: 58441 | H13: 2667 | I13: 550 | J13: 74707 | K13: 22548 | M13: =J13/(B13-B9) -> 5.5593838
A14: Mar.10 | B14: 123485 | C14: 285832 | D14: 234697 | E14: 253253 | F14: 16577 | G14: 61060 | H14: 2904 | I14: 601 | J14: 78284 | K14: 45496 | M14: =J14/(B14-B10) -> 10.697458
A15: Jun.10 | B15: 127135 | C15: 289632 | D15: 234844 | E15: 251878 | F15: 16860 | G15: 63314 | H15: 2775 | I15: 518 | J15: 94974 | K15: 40489 | M15: =J15/(B15-B11) -> 12.855171
A16: Set.10 | B16: 130705 | C16: 290054 | D16: 234047 | E16: 249496 | F16: 16302 | G16: 61104 | H16: 2771 | I16: 596 | J16: 125437 | K16: 41254 | M16: =J16/(B16-B12) -> 12.795777
A17: Dez.10 | B17: 130412 | C17: 288403 | D17: 232194 | E17: 245462 | F17: 14600 | G17: 54038 | H17: 2709 | I17: 521 | J17: 100401 | K17: 19871 | M17: =J17/(B17-B13) -> 13.835056
A18: Mar.11 | B18: 190691 | C18: 186162 | D18: 215577 | E18: 249245 | F18: 13591 | G18: 50410 | H18: 2970 | I18: 598 | J18: 127651 | K18: 14839 | M18: =J18/(B18-B14) -> 1.8993989
... A43: Jun.17 | B43: 288294 | C43: 220175 | D43: 246982 | E43: 168077 | F43: 9117 | G43: 38638 | H43: 3475 | I43: 443 | J43: 104268 | K43: 0 | M43: =J43/(B43-B39) -> 10.030592
A44: Set.17 | B44: 289962 | C44: 219383 | D44: 245019 | E44: 165233 | F44: 9266 | G44: 38894 | H44: 3429 | I44: 506 | J44: 132365 | K44: 0 | M44: =J44/(B44-B40) -> 20.66266 | N44: =J44/J40-1 -> -0.0048118492 | P44: 0 | Q44: 0
A46: Dez.12 | B46: =B25 -> 214094 | C46: =C25 -> 183257 | D46: =D25 -> 211072 | E46: =E25 -> 244227 | F46: =F25 -> 11340 | G46: =G25 -> 42462 | H46: =H25 -> 3103 | I46: =I25 -> 530 | ... K46: =K25 -> 2346
A47: Dez.16 | B47: =B41 -> 284179 | C47: =C41 -> 215049 | D47: =D41 -> 245533 | E47: =E41 -> 169106 | F47: =F41 -> 7840 | G47: =G41 -> 33377 | H47: =H41 -> 3220 | I47: =I41 -> 431 | ... K47: =K41 -> 1269
B48: =B47-B46 -> 70085 | C48: =C47-C46 -> 31792 | D48: =D47-D46 -> 34461 | E48: =E47-E46 -> -75121 | F48: =F47-F46 -> -3500 | G48: =G47-G46 -> -9085 | H48: =H47-H46 -> 117 | I48: =I47-I46 -> -99 | ... K48: =K47-K46 -> -1077
J49: =J43-J39 -> 772
A50: http://portal.sme.prefeitura.sp.gov.br/Main/Noticia/Visualizar/PortalSMESP/Demanda-Escolar
B52: Creche | C52: Pré-escola
A53: 2016 | B53: =B40-B37 -> 22771 | C53: =C40-C37 -> 10860
A54: 2017 | B54: =B44-B41 -> 5783 | C54: =C44-C41 -> 4334
C55: =SUM(B54:C54)/SUM(B53:C53)-1 -> -0.69917636
B67: EI
A68: Haddad | B68: =SUM(B28:C28)-SUM(B25:C25) -> 17301
A69: Dória | B69: =SUM(B44:C44)-SUM(B41:C41) -> 10117 | C69: =B69/B68-1 -> -0.41523611

Sheet Var. Matrículas Ed. Infantil
B1: Criação de vagas
B2: Trimestre | C2: 4 Trimestres
A3: =SME!A4 -> Set.07 | B3: =SUM(SME!B4:C4)-SUM(SME!B3:C3) -> 1897
A4: =SME!A5 -> Dez.07 | B4: =SUM(SME!B5:C5)-SUM(SME!B4:C4) -> 1034
A5: =SME!A6 -> Mar.08 | B5: =SUM(SME!B6:C6)-SUM(SME!B5:C5) -> -2033 | F5: Variação de matrículas
A6: =SME!A7 -> Jun.08 | B6: =SUM(SME!B7:C7)-SUM(SME!B6:C6) -> 12576 | C6: =SUM(B3:B6) -> 13474 | G6: Total | H6: Média diária
A7: =SME!A8 -> Set.08 | B7: =SUM(SME!B8:C8)-SUM(SME!B7:C7) -> 6667 | C7: =SUM(B4:B7) -> 18244 | F7: 2008 | G7: =C8 -> 19748 | H7: =G7/366 -> 53.956284 | K7: Meta | L7: Aumentar em 150 mil vagas em Ed. Infantil
A8: =SME!A9 -> Dez.08 | B8: =SUM(SME!B9:C9)-SUM(SME!B8:C8) -> 2538 | C8: =SUM(B5:B8) -> 19748 | F8: 2009 | G8: =C12 -> 4865 | H8: =G8/365 -> 13.328767 | L8: Universalizar pré-escola
A9: =SME!A10 -> Mar.09 | B9: =SUM(SME!B10:C10)-SUM(SME!B9:C9) -> -3412 | C9: =SUM(B6:B9) -> 18369 | F9: 2010 | G9: =C16 -> -13674 | H9: =G9/365 -> -37.463014 | L9: Atender demanda registrada em 1/1/2013 (94 mil p/ creches)
A10: =SME!A11 -> Jun.09 | B10: =SUM(SME!B11:C11)-SUM(SME!B10:C10) -> 5702 | C10: =SUM(B7:B10) -> 11495 | F10: 2011 | G10: =C20 -> -38120 | H10: =G10/365 -> -104.43836 | L10: http://jornalggn.com.br/noticia/contrariando-a-folha-de-100-metas-de-haddad-apenas-5-falham
A11: =SME!A12 -> Set.09 | B11: =SUM(SME!B12:C12)-SUM(SME!B11:C11) -> 74 | C11: =SUM(B8:B11) -> 4902 | F11: 2012 | G11: =C24 -> 16656 | H11: =G11/366 -> 45.508197
A12: =SME!A13 -> Dez.09 | B12: =SUM(SME!B13:C13)-SUM(SME!B12:C12) -> 2501 | C12: =SUM(B9:B12) -> 4865 | F12: 2013* | G12: =C28 -> 17645 | H12: =G12/365 -> 48.342466
A13: =SME!A14 -> Mar.10 | B13: =SUM(SME!B14:C14)-SUM(SME!B13:C13) -> -23172 | C13: =SUM(B10:B13) -> -14895 | F13: 2014* | G13: =C32 -> 15502 | H13: =G13/365 -> 42.471233
A14: =SME!A15 -> Jun.10 | B14: =SUM(SME!B15:C15)-SUM(SME!B14:C14) -> 7450 | C14: =SUM(B11:B14) -> -13147 | F14: 2015 | G14: =C36 -> 34800 | H14: =G14/365 -> 95.342466 | I14: =G14/G7-1 -> 0.76220377
A15: =SME!A16 -> Set.10 | B15: =SUM(SME!B16:C16)-SUM(SME!B15:C15) -> 3992 | C15: =SUM(B12:B15) -> -9229 | F15: 2016 | G15: =B37+B38+B39+B40 -> 33930 | H15: =G15/366 -> 92.704918
A16: =SME!A17 -> Dez.10 | B16: =SUM(SME!B17:C17)-SUM(SME!B16:C16) -> -1944 | C16: =SUM(B13:B16) -> -13674 | F16: 2017 (3T) | G16: =B41+B42+B43 -> 10117
A17: =SME!A18 -> Mar.11 | B17: =SUM(SME!B18:C18)-SUM(SME!B17:C17) -> -41962 | C17: =SUM(B14:B17) -> -32464
A18: =SME!A19 -> Jun.11 | B18: =SUM(SME!B19:C19)-SUM(SME!B18:C18) -> 2541 | C18: =SUM(B15:B18) -> -37373 | F18: Var. Ed. Infantil | G18: =G12+G13+G14+G15 -> 101877
A19: =SME!A20 -> Set.11 | B19: =SUM(SME!B20:C20)-SUM(SME!B19:C19) -> 1809 | C19: =SUM(B16:B19) -> -39556 | F19: % Meta | G19: =G18/150000 -> 0.67918
A20: =SME!A21 -> Dez.11 | B20: =SUM(SME!B21:C21)-SUM(SME!B20:C20) -> -508 | C20: =SUM(B17:B20) -> -38120
A21: =SME!A22 -> Mar.12 | B21: =SUM(SME!B22:C22)-SUM(SME!B21:C21) -> 7244 | C21: =SUM(B18:B21) -> 11086
A22: =SME!A23 -> Jun.12 | B22: =SUM(SME!B23:C23)-SUM(SME!B22:C22) -> 4366 | C22: =SUM(B19:B22) -> 12911
A23: =SME!A24 -> Set.12 | B23: =SUM(SME!B24:C24)-SUM(SME!B23:C23) -> 1951 | C23: =SUM(B20:B23) -> 13053
A24: =SME!A25 -> Dez.12 | B24: =SUM(SME!B25:C25)-SUM(SME!B24:C24) -> 3095 | C24: =SUM(B21:B24) -> 16656
A25: =SME!A26 -> Mar.13 | B25: =SUM(SME!B26:C26)-SUM(SME!B25:C25) -> 9134 | C25: =SUM(B22:B25) -> 18546
A26: =SME!A27 -> Jun.13 | B26: =SUM(SME!B27:C27)-SUM(SME!B26:C26) -> 6637 | C26: =SUM(B23:B26) -> 20817
A27: =SME!A28 -> Set.13 | B27: =SUM(SME!B28:C28)-SUM(SME!B27:C27) -> 1530 | C27: =SUM(B24:B27) -> 20396
A28: =SME!A29 -> Out.13* | B28: =SUM(SME!B29:C29)-SUM(SME!B28:C28) -> 344 | C28: =SUM(B25:B28) -> 17645
A29: =SME!A30 -> Mar.14 | B29: =SUM(SME!B30:C30)-SUM(SME!B29:C29) -> 6359 | C29: =SUM(B26:B29) -> 14870
A30: =SME!A31 -> Jun.14 | B30: =SUM(SME!B31:C31)-SUM(SME!B30:C30) -> 5101 | C30: =SUM(B27:B30) -> 13334
A31: =SME!A32 -> Set.14 | B31: =SUM(SME!B32:C32)-SUM(SME!B31:C31) -> 2765 | C31: =SUM(B28:B31) -> 14569
... A36: =SME!A37 -> Dez.15 | B36: =SUM(SME!B37:C37)-SUM(SME!B36:C36) -> 9896 | C36: =SUM(B33:B36) -> 34800
A37: Mar.16 | B37: =SUM(SME!B38:C38)-SUM(SME!B37:C37) -> 19400 | C37: =SUM(B34:B37) -> 43683
A38: Jun.16 | B38: =SUM(SME!B39:C39)-SUM(SME!B38:C38) -> 8317 | C38: =SUM(B35:B38) -> 47460
A39: Set.16 | B39: =SME!B40-SME!B39+SME!C40-SME!C39 -> 5914 | C39: =SUM(B36:B39) -> 43527
A40: Dez.16 | B40: =SME!B41-SME!B40+SME!C41-SME!C40 -> 299 | C40: =SUM(B37:B40) -> 33930
A41: Mar.17 | B41: =SME!B42-SME!B41+SME!C42-SME!C41 -> 7345 | C41: =SUM(B38:B41) -> 21875
A42: Jun.17 | B42: =SME!B43-SME!B42+SME!C43-SME!C42 -> 1896 | C42: =SUM(B39:B42) -> 15454
A43: Set.17 | B43: =SME!B44-SME!B43+SME!C44-SME!C43 -> 876 | C43: =SUM(B40:B43) -> 10416

Sheet Var. Matrículas Composição
B1: Creche | C1: Pré-escola
A2: 2008 | B2: =SME!B9-SME!B5 -> 26353 | C2: =SME!C9-SME!C5 -> -6605 | D2: =SUM(B2:C2) -> 19748
A3: 2009 | B3: =SME!B13-SME!B9 -> 13438 | C3: =SME!C13-SME!C9 -> -8573 | D3: =SUM(B3:C3) -> 4865
A4: 2010 | B4: =SME!B17-SME!B13 -> 7257 | C4: =SME!C17-SME!C13 -> -20931 | D4: =SUM(B4:C4) -> -13674
A5: 2011 | B5: =SME!B21-SME!B17 -> 65149 | C5: =SME!C21-SME!C17 -> -103269 | D5: =SUM(B5:C5) -> -38120
A6: 2012 | B6: =SME!B25-SME!B21 -> 18533 | C6: =SME!C25-SME!C21 -> -1877 | D6: =SUM(B6:C6) -> 16656
A7: 2013* | B7: =SME!B29-SME!B25 -> -227 | C7: =SME!C29-SME!C25 -> 17872 | D7: =SUM(B7:C7) -> 17645
A8: 2014* | B8: =SME!B33-SME!B29 -> 14337 | C8: =SME!C33-SME!C29 -> 1165 | D8: =SUM(B8:C8) -> 15502
A9: 2015 | B9: =SME!B37-SME!B33 -> 32581 | C9: =SME!C37-SME!C33 -> 2219 | D9: =SUM(B9:C9) -> 34800 | E9: =B9/B2-1 -> 0.23632983
A10: 2016 | B10: =SME!B41-SME!B37 -> 23394 | C10: =SME!C41-SME!C37 -> 10536 | D10: =SUM(B10:C10) -> 33930 | E10: =B10/B2-1 -> -0.11228323
A11: 2017 (3T) | B11: =SME!$B$44-SME!$B$41 -> 5783 | C11: =SME!C44-SME!C41 -> 4334 | D11: =SUM(B11:C11) -> 10117

Sheet Censo
A1: Dependência Administrativa | B1: Estadual | C1: Federal | D1: Municipal | E1: Convênio Municipal | F1: Particular | G1: TOTAL | I1: CRECHE
A2: 1996 | B2: 0 | C2: 0 | D2: 0 | E2: 0 | F2: 0 | G2: 0
A3: 1997 | B3: 0 | C3: 0 | D3: 0 | E3: 0 | F3: 8732 | G3: 8732
A4: 1998 | B4: 0 | C4: 0 | D4: 35 | E4: 0 | F4: 10490 | G4: 10525
A5: 1999 | B5: 61 | C5: 150 | D5: 28818 | E5: 55803 | F5: 13595 | G5: 98427
A6: 2000 | B6: 55 | C6: 150 | D6: 26220 | E6: 55458 | F6: 19082 | G6: 100965 | J6: =D6+E6-D5-E5 -> -2943 | L6: =J6+J19 -> -9882
A7: 2001 | B7: 61 | C7: 182 | D7: 23979 | E7: 54667 | F7: 22085 | G7: 100974 | J7: =D7+E7-D6-E6 -> -3032 | L7: =J7+J20 -> 27788
A8: 2002 | B8: 9 | C8: 122 | D8: 24490 | E8: 54604 | F8: 24058 | G8: 103283 | J8: =D8+E8-D7-E7 -> 448 | L8: =J8+J21 -> 17597
A9: 2003 | B9: 7 | C9: 112 | D9: 36948 | E9: 60178 | F9: 25543 | G9: 122788 | J9: =D9+E9-D8-E8 -> 18032 | L9: =J9+J22 -> 18572
A10: 2004 | B10: 32 | C10: 170 | D10: 44796 | E10: 65799 | F10: 27387 | G10: 138184 | J10: =D10+E10-D9-E9 -> 13469 | L10: =J10+J23 -> 35697 | N10: =D10+E10 -> 110595
A11: 2005 | B11: 3352 | C11: 165 | D11: 35967 | E11: 71704 | F11: 35570 | G11: 146758 | J11: =D11+E11-D10-E10 -> -2924 | L11: =J11+J24 -> 5604 | N11: =D12+E12 -> 61395
A12: 2006 | B12: 3371 | C12: 175 | D12: 27525 | E12: 33870 | F12: 34329 | G12: 99270 | J12: =D12+E12-D11-E11 -> -46276 | L12: =J12+J25 -> -2522
A14: Dependência Administrativa | B14: Estadual | C14: Federal | D14: Municipal | E14: Convênio Municipal | F14: Particular | G14: TOTAL | I14: PRÉ-ESCOLA
A15: 1996 | B15: 488 | C15: 0 | D15: 205841 | F15: 64012 | G15: =SUM(B15:F15) -> 270341
A16: 1997 | B16: 0 | C16: 0 | D16: 218054 | F16: 65921 | G16: =SUM(B16:F16) -> 283975 | J16: =D16-D15 -> 12213
A17: 1998 | B17: 0 | C17: 0 | D17: 226014 | F17: 70422 | G17: =SUM(B17:F17) -> 296436 | J17: =D17-D16 -> 7960
A18: 1999 | B18: 14 | C18: 200 | D18: 215034 | E18: 0 | F18: 74139 | G18: =SUM(B18:F18) -> 289387 | J18: =D18-D17 -> -10980
A19: 2000 | B19: 6 | C19: 200 | D19: 207974 | E19: 121 | F19: 77460 | G19: =SUM(B19:F19) -> 285761 | J19: =D19+E19-D18-E18 -> -6939
A20: 2001 | B20: 16 | C20: 150 | D20: 238782 | E20: 133 | F20: 85465 | G20: =SUM(B20:F20) -> 324546 | J20: =D20+E20-D19-E19 -> 30820
A21: 2002 | B21: 0 | C21: 194 | D21: 251141 | E21: 4923 | F21: 87394 | G21: =SUM(B21:F21) -> 343652 | J21: =D21+E21-D20-E20 -> 17149
A22: 2003 | B22: 0 | C22: 194 | D22: 252805 | E22: 3799 | F22: 92929 | G22: =SUM(B22:F22) -> 349727 | J22: =D22+E22-D21-E21 -> 540
A23: 2004 | B23: 0 | C23: 146 | D23: 275875 | E23: 2957 | F23: 95670 | G23: =SUM(B23:F23) -> 374648 | J23: =D23+E23-D22-E22 -> 22228 | N23: =D23+E23 -> 278832
A24: 2005 | B24: 2651 | C24: 148 | D24: 285216 | E24: 2144 | F24: 100282 | G24: =SUM(B24:F24) -> 390441 | J24: =D24+E24-D23-E23 -> 8528
A25: 2006 | B25: 2157 | C25: 145 | D25: 285444 | E25: 45670 | F25: 92820 | G25: =SUM(B25:F25) -> 426236 | J25: =D25+E25-D24-E24 -> 43754 | N25: =D25+E25 -> 331114
D26: =D24/D19-1 -> 0.37140219
N27: =N25+N11-N10-N23 -> 3082
B28: Municipal | C28: Convênio Municipal
A29: 2004 | B29: 44796 | C29: 65799
A30: 2005 | B30: 35967 | C30: 71704 | E30: =B30+C30 -> 107671
A31: 2006 | B31: 27525 | C31: 33870 | E31: =B31+C31 -> 61395
A32: 2007* | B32: 33185 | C32: 45289 | E32: =B32+C32 -> 78474
B34: EI (convênio + rede própria)
A35: 1996 | B35: =D2+E2+D15+E15 -> 205841
A36: 1997 | B36: =D3+E3+D16+E16 -> 218054
A37: 1998 | B37: =D4+E4+D17+E17 -> 226049
A38: 1999 | B38: =D5+E5+D18+E18 -> 299655
A39: 2000 | B39: =D6+E6+D19+E19 -> 289773
A40: 2001 | B40: =D7+E7+D20+E20 -> 317561
A41: 2002 | B41: =D8+E8+D21+E21 -> 335158
A42: 2003 | B42: =D9+E9+D22+E22 -> 353730
A43: 2004 | B43: =D10+E10+D23+E23 -> 389427
A44: 2005 | B44: =D11+E11+D24+E24 -> 395031 | C44: =B44-B40 -> 77470 | D44: =C44/4 -> 19367.5
A45: 2006 | B45: =D12+E12+D25+E25 -> 392509
A46: 2013 | B46: =SME!B27+SME!C27 -> 413122 | C46: =B46-B44 -> 18091

Sheet Síntese
B1: Matrículas | D1: Demanda
B2: Creche | C2: Pré-Escola | D2: Creche | E2: Pré-Escola | I2: Matrículas | J2: Demanda
A3: 1999 | B3: =SUM(Censo!D5:E5) -> 84621 | C3: =SUM(Censo!D18:E18) -> 215034 | H3: 1999 | I3: =SUM(B3:C3) -> 299655
A4: =1+A3 -> 2000 | B4: =SUM(Censo!D6:E6) -> 81678 | C4: =SUM(Censo!D19:E19) -> 208095 | H4: =1+H3 -> 2000 | I4: =SUM(B4:C4) -> 289773
A5: =1+A4 -> 2001 | B5: =SUM(Censo!D7:E7) -> 78646 | C5: =SUM(Censo!D20:E20) -> 238915 | H5: =1+H4 -> 2001 | I5: =SUM(B5:C5) -> 317561
A6: =1+A5 -> 2002 | B6: =SUM(Censo!D8:E8) -> 79094 | C6: =SUM(Censo!D21:E21) -> 256064 | H6: =1+H5 -> 2002 | I6: =SUM(B6:C6) -> 335158
A7: =1+A6 -> 2003 | B7: =SUM(Censo!D9:E9) -> 97126 | C7: =SUM(Censo!D22:E22) -> 256604 | H7: =1+H6 -> 2003 | I7: =SUM(B7:C7) -> 353730
A8: =1+A7 -> 2004 | B8: =SUM(Censo!D10:E10) -> 110595 | C8: =SUM(Censo!D23:E23) -> 278832 | H8: =1+H7 -> 2004 | I8: =SUM(B8:C8) -> 389427
A9: =1+A8 -> 2005 | B9: =SUM(Censo!D11:E11) -> 107671 | C9: =SUM(Censo!D24:E24) -> 287360 | H9: =1+H8 -> 2005 | I9: =SUM(B9:C9) -> 395031
A10: =1+A9 -> 2006 | B10: =SUM(Censo!D12:E12) -> 61395 | C10: =SUM(Censo!D25:E25) -> 331114 | H10: =1+H9 -> 2006 | I10: =SUM(B10:C10) -> 392509
A11: =1+A10 -> 2007 | B11: =SME!B3 -> 78474 | C11: =SME!C3 -> 326471 | D11: =SME!J3 -> 88218 | E11: =SME!K3 -> 48794 | H11: =1+H10 -> 2007 | I11: =SUM(B11:C11) -> 404945 | J11: =SUM(D11:E11) -> 137012
A12: =1+A11 -> 2008 | B12: =SME!B7 -> 101966 | C12: =SME!C7 -> 316453 | D12: =SME!J7 -> 110091 | E12: =SME!K7 -> 47946 | H12: =1+H11 -> 2008 | I12: =SUM(B12:C12) -> 418419 | J12: =SUM(D12:E12) -> 158037
A13: =1+A12 -> 2009 | B13: =SME!B11 -> 119747 | C13: =SME!C11 -> 310167 | D13: =SME!J11 -> 84807 | E13: =SME!K11 -> 33265 | H13: =1+H12 -> 2009 | I13: =SUM(B13:C13) -> 429914 | J13: =SUM(D13:E13) -> 118072
A14: =1+A13 -> 2010 | B14: =SME!B15 -> 127135 | C14: =SME!C15 -> 289632 | D14: =SME!J15 -> 94974 | E14: =SME!K15 -> 40489 | H14: =1+H13 -> 2010 | I14: =SUM(B14:C14) -> 416767 | J14: =SUM(D14:E14) -> 135463
A15: =1+A14 -> 2011 | B15: =SME!B19 -> 193602 | C15: =SME!C19 -> 185792 | D15: =SME!J19 -> 147027 | E15: =SME!K19 -> 13314 | H15: =1+H14 -> 2011 | I15: =SUM(B15:C15) -> 379394 | J15: =SUM(D15:E15) -> 160341
A16: =1+A15 -> 2012 | B16: =SME!B23 -> 207605 | C16: =SME!C23 -> 184700 | D16: =SME!J23 -> 145221 | E16: =SME!K23 -> 5775 | H16: =1+H15 -> 2012 | I16: =SUM(B16:C16) -> 392305 | J16: =SUM(D16:E16) -> 150996
A17: =1+A16 -> 2013 | B17: =SME!B27 -> 211541 | C17: =SME!C27 -> 201581 | D17: =SME!J27 -> 127361 | E17: =SME!K27 -> 15879 | H17: =1+H16 -> 2013 | I17: =SUM(B17:C17) -> 413122 | J17: =SUM(D17:E17) -> 143240
A18: =1+A17 -> 2014 | B18: =SME!B31 -> 222495 | C18: =SME!C31 -> 203961 | D18: =SME!J31 -> 128519 | E18: =SME!K31 -> 13567 | H18: =1+H17 -> 2014 | I18: =SUM(B18:C18) -> 426456 | J18: =SUM(D18:E18) -> 142086
A19: =1+A18 -> 2015 | B19: =SME!B35 -> 240840 | C19: =SME!C35 -> 204715 | D19: =SME!J35 -> 124741 | E19: =SME!K35 -> 10780 | H19: =1+H18 -> 2015 | I19: =SUM(B19:C19) -> 445555 | J19: =SUM(D19:E19) -> 135521
A20: 2016 | B20: =SME!B39 -> 277899 | C20: =SME!C39 -> 215116 | D20: =SME!J39 -> 103496 | E20: =SME!K39 -> 3434 | H20: 2016 | I20: =SUM(B20:C20) -> 493015 | J20: =SUM(D20:E20) -> 106930
A21: 2017 | B21: =SME!B43 -> 288294 | C21: =SME!C43 -> 220175 | D21: =SME!J43 -> 104268 | E21: =SME!K43 -> 0 | H21: 2017 | I21: =SUM(B21:C21) -> 508469 | J21: =SUM(D21:E21) -> 104268
B23: EI | C23: Creche | D23: Pré
A24: Marta | B24: =(SUM(B9:C9)/SUM(B4:C4))^0.25-1 -> 0.080546138 | C24: =(B9/B4)^0.25-1 -> 0.07151539 | D24: =(C9/C4)^0.25-1 -> 0.084029666
A25: Serra/Kassab | B25: =(SUM(B17:C17)/SUM(B9:C9))^0.125-1 -> 0.0056130326 | C25: =(B17/B9)^0.125-1 -> 0.088082877 | D25: =(C17/C9)^0.125-1 -> -0.043350365
A26: Haddad | B26: =(SUM(B20:C20)/SUM(B17:C17))^(1/3)-1 -> 0.060703341 | C26: =(B20/B17)^(1/3)-1 -> 0.095210193 | D26: =(C20/C17)^(1/3)-1 -> 0.021898369
